Workbook
Name Ja: Beispielabrechnung!#REF!
Name Ja: Reisekostenabrechnung!#REF!
Name Ja: #REF!
Name Liste_27042016: Pauschalen!$A$3:$A$227
Name Liste_DM: #REF!
Name Liste_DM15: #REF!
Name Liste_DMII: [1]data_fill!$C$38:$C$39
Name Liste_DMII: #REF!
Name Liste2016: Pauschalen!$A$3:$A$227
Name Liste26042016: #REF!
Name ListeDM1: #REF!

Sheet Reisekostenabrechnung
A1: Bitte beachten Sie: | C1: Reisekostenabrechnung (Ausland) 2025 | Z1: Alle Angaben gemacht? | AG1: =IF(AND(AG3=1,E3<>"",S3<>""),1,IF(AND(AG3=2,E3<>"",S3<>"",S5<>""),1,0)) -> 0
A3: Blaue Felder | B3: = Eingabefelder | D3: Name: | M3: Zeitraum: | Z3: Erstellerrolle: (Unternehmer = 1; Arbeitnehmer = 2) | AG3: =IF(E5="",0,IF(E5="Unternehmer",1,2)) -> 0 | AI3: Flugzeug: Land bei Flugreisen von mehr als 2 Tagen (LStR 9.6 Abs. 3 Nr. 1) | AO3: Österreich
A5: Roter Rahmen | B5: = Pflichtfelder | D5: Ich bin: | M5: Ich erstelle diese Abrechnung für: | Z5: Bei AN: Erstellung für Arbeitgeber = 1; ESt-Erklärung = 2 | AG5: =IF(AG3<>2,0,IF(S5="Meinen Arbeitgeber",1,IF(S5="Meine Einkommensteuererklärung",2,0))) -> 0 | AI5: Schiff: Land bei Schiffsreisen von mehr als 2 Tagen (LStR 9.6 Abs. 3 Nr. 2) | AO5: Luxemburg
A7: Rote Ecke | B7: = mit Hinweis | C7: Angaben zu den Reisetagen | O7: Verpflegung | S7: Übernachtung | V7: Fahrtkosten
C8: Pflichteingaben | F8: Falls zuterffend | I8: Falls zuterffend | L8: Eingabe nach Hervorhebung
A9: Bitte erfassen Sie jeden Reisetag in einer gesonderten Zeile ! Bitte befüllen Sie jede Zeile Spalte für Spalte, sofern zutreffend, von links nach rechts. | C9: Reise-tag | D9: Reisezweck und Stadt | E9: Reisetag ist Teil einer … Reise | F9: Reisedauer | H9: An diesem Tag … die Reise | I9: An diesem Tag erfolge eine Beförderung mit/auf … | J9: Tag der Landung bzw. Einschiffung | K9: Tag des Abflugs bzw. der Aus-schiffung | L9: Aufenthaltsort (vor 24:00 Uhr erreicht) | M9: Falls an diesem Tag zutreffend: Ort des letzten Tätigwerdens im Ausland ? | N9: Verpflegungs-pauschale | O9: Mahlzeiten gestellt oder separat abgerechnet? | R9: Pauschale abzgl. Kürzungen | S9: Ort der Übernachtung | T9: Aufwendungen lt. Nachweis | U9: Erstattungsfähige Pauchale | V9: Fahrleistung mit privaten Beförderungs-mittelen | X9: Kosten für nicht private Beförd.mittel und sonst. Kosten | Z9: Prüffelder/ Eingaben | AB9: Eintägig | AF9: Mehrtägig (ohne Flugzeug und Schiff) | AH9: Flugzeug | AK9: Schiff | AO9: SVERWEIS für Pauschale | AQ9: Kürzung der Pauschale (Verpflegung) | AV9: Hinweise
A10: Beispielabrechnung und Hinweise (bitte klicken) | C10: Datum | D10: Erläuterungen | E10: eintägigen mehrtägigen | F10: von | G10: bis | H10: begann endete | I10: Flugzeug Schiff | J10: Datum | K10: Datum | L10: Land (Ort) | M10: Land (Ort) | N10: EUR | O10: Frühstück | P10: Mittagessen | Q10: Abendessen | R10: EUR | S10: Land (Ort) | T10: EUR | U10: EUR | V10: Art | W10: km (gesamt) | X10: EUR | Z10: Pflichtfelder vorne | AA10: Pflichtfelder Land | AB10: Tag mit eintägiger Reise? | AC10: Dauer | AD10: Hinweis bei Fehler Uhrzeitformat | AE10: Ermittelung Land | AF10: Tag mit mehrtägiger Reise? | AG10: Ermittelung Land | AH10: Tag mit Flugzeug? | AI10: Ermittelung Land | AJ10: Hinweis bei Landung an anderem Tag | AK10: Tag mit Schiff? | AL10: Ermittelung Land | AM10: Hinweis bei Tag der Einschiffung | AN10: Hinweis bei Tag der Ausschiffung | AO10: Suchkriterium | AP10: Spaltenindex | AQ10: Kürzungs-grundlage | AR10: Kürzungsfaktor Frühstück | AS10: Kürzungsfaktor Mittagessen | AT10: Kürzungsfaktor Abendessen | AU10: Kürzungsfaktor Summe | AV10: Anwendungsfall | AW10: Text
A11: =IF(AJ11=1,$AW$12,IF(AM11=1,$AW$13,IF(AN11=1,$AW$14,IF(AD11=1,$AW$11,"")))) | N11: =IF(OR($AG$1=0,Z11=0,AA11=0),"",VLOOKUP(AO11,VMA[#All],Reisekostenabrechnung!AP11,FALSE)) | R11: =IF($AG$1=0,"",IF(AND($AG$3=2,N11<>""),N11-(AQ11*AU11),"")) | U11: =IF(OR($AG$1=0,$AG$3<>2,$AG$5<>1),"",IF(S11<>"",VLOOKUP(S11,Pauschalen!$A$1:$D$231,4,FALSE),"")) | Z11: =IF(OR(C11="",D11="",E11=""),0,1) -> 0 | AA11: =IF(OR(AND(AK11=1,J11<>"",K11<>"",C11<>J11,C11<>K11),AND(E11="Mehrtägigen",L11<>"")),1,IF(AND(E11="eintägigen",M11<>""),1,0)) -> 0 | AB11: =IF(E11="eintägigen",1,0) -> 0 | AC11: =G11-F11 -> 0 | AD11: =IF(IFERROR(AC11,1)=1,1,IF(DAY(G11)<>DAY(F11),1,0)) -> 0 | AE11: =IF(AB11=1,M11,0) -> 0 | AF11: =IF(AND(E11="mehrtägigen",AH11=0,AK11=0),1,0) -> 0 | AG11: =IF(AF11=1,IF(H11<>"endete",L11,IF(M11="",L11,M11)),0) -> 0 | AH11: =IF(I11="Flugzeug",1,0) -> 0 | AI11: =IF(AH11=1,IF(AND(H11="endete",M11<>""),M11,IF(J11=C11,L11,IF(AND(J11<>C11,K11=C11),L11,IF(AND(C11<>J11,C11<>K11,J11<>"",K11<>""),$AO$3,0)))),0) -> 0 | AJ11: =IF(AND(AH11=1,C11<>J11,C11=K11,L11=""),1,0) -> 0 | AK11: =IF(I11="Schiff",1,0) -> 0 | AL11: =IF(AK11=1,IF(C11=J11,L11,IF(C11=K11,L11,IF(AND(C11<>J11,C11<>K11,J11<>"",K11<>""),$AO$5,0))),0) -> 0 | AM11: =IF(AND(AK11=1,C11=J11,L11=""),1,0) -> 0 | AN11: =IF(AND(AK11=1,C11=K11,L11=""),1,0) -> 0 | AO11: =IF(AB11=1,AE11,IF(AF11=1,AG11,IF(AH11=1,AI11,IF(AK11=1,AL11,0)))) -> 0 | AP11: =IF(AND(E11="mehrtägigen",H11=""),2,IF(OR(AND(E11="mehrtägigen",H11<>""),AND(E11="eintägigen",AC11>TIME(8,,),AD11=0)),3,5)) -> 5 | AQ11: =VLOOKUP(AO11,Pauschalen!$A$1:$D$231,2,FALSE) -> #N/A | AR11: =IF(O11<>"",0.2,0) -> 0 | AS11: =IF(P11<>"",0.4,0) -> 0 | AT11: =IF(Q11<>"",0.4,0) -> 0 | AU11: =SUM(AR11:AT11) -> 0 | AV11: Uhrzeit | AW11: Uhrzeitformat prüfen. Stunden und Minuten mit -> : <- trennen.
A12: =IF(AJ12=1,$AW$12,IF(AM12=1,$AW$13,IF(AN12=1,$AW$14,IF(AD12=1,$AW$11,"")))) | N12: =IF(OR($AG$1=0,Z12=0,AA12=0),"",VLOOKUP(AO12,VMA[#All],Reisekostenabrechnung!AP12,FALSE)) | R12: =IF($AG$1=0,"",IF(AND($AG$3=2,N12<>""),N12-(AQ12*AU12),"")) | U12: =IF(OR($AG$1=0,$AG$3<>2,$AG$5<>1),"",IF(S12<>"",VLOOKUP(S12,Pauschalen!$A$1:$D$231,4,FALSE),"")) | Z12: =IF(OR(C12="",D12="",E12=""),0,1) -> 0 | AA12: =IF(OR(AND(AK12=1,J12<>"",K12<>"",C12<>J12,C12<>K12),AND(E12="Mehrtägigen",L12<>"")),1,IF(AND(E12="eintägigen",M12<>""),1,0)) -> 0 | AB12: =IF(E12="eintägigen",1,0) -> 0 | AC12: =G12-F12 -> 0 | AD12: =IF(IFERROR(AC12,1)=1,1,IF(DAY(G12)<>DAY(F12),1,0)) -> 0 | AE12: =IF(AB12=1,M12,0) -> 0 | AF12: =IF(AND(E12="mehrtägigen",AH12=0,AK12=0),1,0) -> 0 | AG12: =IF(AF12=1,IF(H12<>"endete",L12,IF(M12="",L12,M12)),0) -> 0 | AH12: =IF(I12="Flugzeug",1,0) -> 0 | AI12: =IF(AH12=1,IF(AND(H12="endete",M12<>""),M12,IF(J12=C12,L12,IF(AND(J12<>C12,K12=C12),L12,IF(AND(C12<>J12,C12<>K12,J12<>"",K12<>""),$AO$3,0)))),0) -> 0 | AJ12: =IF(AND(AH12=1,C12<>J12,C12=K12,L12=""),1,0) -> 0 | AK12: =IF(I12="Schiff",1,0) -> 0 | AL12: =IF(AK12=1,IF(C12=J12,L12,IF(C12=K12,L12,IF(AND(C12<>J12,C12<>K12,J12<>"",K12<>""),$AO$5,0))),0) -> 0 | AM12: =IF(AND(AK12=1,C12=J12,L12=""),1,0) -> 0 | AN12: =IF(AND(AK12=1,C12=K12,L12=""),1,0) -> 0 | AO12: =IF(AB12=1,AE12,IF(AF12=1,AG12,IF(AH12=1,AI12,IF(AK12=1,AL12,0)))) -> 0 | AP12: =IF(AND(E12="mehrtägigen",H12=""),2,IF(OR(AND(E12="mehrtägigen",H12<>""),AND(E12="eintägigen",AC12>TIME(8,,),AD12=0)),3,5)) -> 5 | AQ12: =VLOOKUP(AO12,Pauschalen!$A$1:$D$231,2,FALSE) -> #N/A | AR12: =IF(O12<>"",0.2,0) -> 0 | AS12: =IF(P12<>"",0.4,0) -> 0 | AT12: =IF(Q12<>"",0.4,0) -> 0 | AU12: =SUM(AR12:AT12) -> 0 | AV12: Flugzeug | AW12: Bitte den Ort des Abflug-Flughafens angeben.
A13: =IF(AJ13=1,$AW$12,IF(AM13=1,$AW$13,IF(AN13=1,$AW$14,IF(AD13=1,$AW$11,"")))) | N13: =IF(OR($AG$1=0,Z13=0,AA13=0),"",VLOOKUP(AO13,VMA[#All],Reisekostenabrechnung!AP13,FALSE)) | R13: =IF($AG$1=0,"",IF(AND($AG$3=2,N13<>""),N13-(AQ13*AU13),"")) | U13: =IF(OR($AG$1=0,$AG$3<>2,$AG$5<>1),"",IF(S13<>"",VLOOKUP(S13,Pauschalen!$A$1:$D$231,4,FALSE),"")) | Z13: =IF(OR(C13="",D13="",E13=""),0,1) -> 0 | AA13: =IF(OR(AND(AK13=1,J13<>"",K13<>"",C13<>J13,C13<>K13),AND(E13="Mehrtägigen",L13<>"")),1,IF(AND(E13="eintägigen",M13<>""),1,0)) -> 0 | AB13: =IF(E13="eintägigen",1,0) -> 0 | AC13: =G13-F13 -> 0 | AD13: =IF(IFERROR(AC13,1)=1,1,IF(DAY(G13)<>DAY(F13),1,0)) -> 0 | AE13: =IF(AB13=1,M13,0) -> 0 | AF13: =IF(AND(E13="mehrtägigen",AH13=0,AK13=0),1,0) -> 0 | AG13: =IF(AF13=1,IF(H13<>"endete",L13,IF(M13="",L13,M13)),0) -> 0 | AH13: =IF(I13="Flugzeug",1,0) -> 0 | AI13: =IF(AH13=1,IF(AND(H13="endete",M13<>""),M13,IF(J13=C13,L13,IF(AND(J13<>C13,K13=C13),L13,IF(AND(C13<>J13,C13<>K13,J13<>"",K13<>""),$AO$3,0)))),0) -> 0 | AJ13: =IF(AND(AH13=1,C13<>J13,C13=K13,L13=""),1,0) -> 0 | AK13: =IF(I13="Schiff",1,0) -> 0 | AL13: =IF(AK13=1,IF(C13=J13,L13,IF(C13=K13,L13,IF(AND(C13<>J13,C13<>K13,J13<>"",K13<>""),$AO$5,0))),0) -> 0 | AM13: =IF(AND(AK13=1,C13=J13,L13=""),1,0) -> 0 | AN13: =IF(AND(AK13=1,C13=K13,L13=""),1,0) -> 0 | AO13: =IF(AB13=1,AE13,IF(AF13=1,AG13,IF(AH13=1,AI13,IF(AK13=1,AL13,0)))) -> 0 | AP13: =IF(AND(E13="mehrtägigen",H13=""),2,IF(OR(AND(E13="mehrtägigen",H13<>""),AND(E13="eintägigen",AC13>TIME(8,,),AD13=0)),3,5)) -> 5 | AQ13: =VLOOKUP(AO13,Pauschalen!$A$1:$D$231,2,FALSE) -> #N/A | AR13: =IF(O13<>"",0.2,0) -> 0 | AS13: =IF(P13<>"",0.4,0) -> 0 | AT13: =IF(Q13<>"",0.4,0) -> 0 | AU13: =SUM(AR13:AT13) -> 0 | AV13: Schiff - Einschiffung | AW13: Bitte den Ort des Einschiffungs-Hafens angeben.
A14: =IF(AJ14=1,$AW$12,IF(AM14=1,$AW$13,IF(AN14=1,$AW$14,IF(AD14=1,$AW$11,"")))) | N14: =IF(OR($AG$1=0,Z14=0,AA14=0),"",VLOOKUP(AO14,VMA[#All],Reisekostenabrechnung!AP14,FALSE)) | R14: =IF($AG$1=0,"",IF(AND($AG$3=2,N14<>""),N14-(AQ14*AU14),"")) | U14: =IF(OR($AG$1=0,$AG$3<>2,$AG$5<>1),"",IF(S14<>"",VLOOKUP(S14,Pauschalen!$A$1:$D$231,4,FALSE),"")) | Z14: =IF(OR(C14="",D14="",E14=""),0,1) -> 0 | AA14: =IF(OR(AND(AK14=1,J14<>"",K14<>"",C14<>J14,C14<>K14),AND(E14="Mehrtägigen",L14<>"")),1,IF(AND(E14="eintägigen",M14<>""),1,0)) -> 0 | AB14: =IF(E14="eintägigen",1,0) -> 0 | AC14: =G14-F14 -> 0 | AD14: =IF(IFERROR(AC14,1)=1,1,IF(DAY(G14)<>DAY(F14),1,0)) -> 0 | AE14: =IF(AB14=1,M14,0) -> 0 | AF14: =IF(AND(E14="mehrtägigen",AH14=0,AK14=0),1,0) -> 0 | AG14: =IF(AF14=1,IF(H14<>"endete",L14,IF(M14="",L14,M14)),0) -> 0 | AH14: =IF(I14="Flugzeug",1,0) -> 0 | AI14: =IF(AH14=1,IF(AND(H14="endete",M14<>""),M14,IF(J14=C14,L14,IF(AND(J14<>C14,K14=C14),L14,IF(AND(C14<>J14,C14<>K14,J14<>"",K14<>""),$AO$3,0)))),0) -> 0 | AJ14: =IF(AND(AH14=1,C14<>J14,C14=K14,L14=""),1,0) -> 0 | AK14: =IF(I14="Schiff",1,0) -> 0 | AL14: =IF(AK14=1,IF(C14=J14,L14,IF(C14=K14,L14,IF(AND(C14<>J14,C14<>K14,J14<>"",K14<>""),$AO$5,0))),0) -> 0 | AM14: =IF(AND(AK14=1,C14=J14,L14=""),1,0) -> 0 | AN14: =IF(AND(AK14=1,C14=K14,L14=""),1,0) -> 0 | AO14: =IF(AB14=1,AE14,IF(AF14=1,AG14,IF(AH14=1,AI14,IF(AK14=1,AL14,0)))) -> 0 | AP14: =IF(AND(E14="mehrtägigen",H14=""),2,IF(OR(AND(E14="mehrtägigen",H14<>""),AND(E14="eintägigen",AC14>TIME(8,,),AD14=0)),3,5)) -> 5 | AQ14: =VLOOKUP(AO14,Pauschalen!$A$1:$D$231,2,FALSE) -> #N/A | AR14: =IF(O14<>"",0.2,0) -> 0 | AS14: =IF(P14<>"",0.4,0) -> 0 | AT14: =IF(Q14<>"",0.4,0) -> 0 | AU14: =SUM(AR14:AT14) -> 0 | AV14: Schiff - Ausschiffung | AW14: Bitte den Ort des Ausschiffungs-Hafen angeben.
A15: =IF(AJ15=1,$AW$12,IF(AM15=1,$AW$13,IF(AN15=1,$AW$14,IF(AD15=1,$AW$11,"")))) | N15: =IF(OR($AG$1=0,Z15=0,AA15=0),"",VLOOKUP(AO15,VMA[#All],Reisekostenabrechnung!AP15,FALSE)) | R15: =IF($AG$1=0,"",IF(AND($AG$3=2,N15<>""),N15-(AQ15*AU15),"")) | U15: =IF(OR($AG$1=0,$AG$3<>2,$AG$5<>1),"",IF(S15<>"",VLOOKUP(S15,Pauschalen!$A$1:$D$231,4,FALSE),"")) | Z15: =IF(OR(C15="",D15="",E15=""),0,1) -> 0 | AA15: =IF(OR(AND(AK15=1,J15<>"",K15<>"",C15<>J15,C15<>K15),AND(E15="Mehrtägigen",L15<>"")),1,IF(AND(E15="eintägigen",M15<>""),1,0)) -> 0 | AB15: =IF(E15="eintägigen",1,0) -> 0 | AC15: =G15-F15 -> 0 | AD15: =IF(IFERROR(AC15,1)=1,1,IF(DAY(G15)<>DAY(F15),1,0)) -> 0 | AE15: =IF(AB15=1,M15,0) -> 0 | AF15: =IF(AND(E15="mehrtägigen",AH15=0,AK15=0),1,0) -> 0 | AG15: =IF(AF15=1,IF(H15<>"endete",L15,IF(M15="",L15,M15)),0) -> 0 | AH15: =IF(I15="Flugzeug",1,0) -> 0 | AI15: =IF(AH15=1,IF(AND(H15="endete",M15<>""),M15,IF(J15=C15,L15,IF(AND(J15<>C15,K15=C15),L15,IF(AND(C15<>J15,C15<>K15,J15<>"",K15<>""),$AO$3,0)))),0) -> 0 | AJ15: =IF(AND(AH15=1,C15<>J15,C15=K15,L15=""),1,0) -> 0 | AK15: =IF(I15="Schiff",1,0) -> 0 | AL15: =IF(AK15=1,IF(C15=J15,L15,IF(C15=K15,L15,IF(AND(C15<>J15,C15<>K15,J15<>"",K15<>""),$AO$5,0))),0) -> 0 | AM15: =IF(AND(AK15=1,C15=J15,L15=""),1,0) -> 0 | AN15: =IF(AND(AK15=1,C15=K15,L15=""),1,0) -> 0 | AO15: =IF(AB15=1,AE15,IF(AF15=1,AG15,IF(AH15=1,AI15,IF(AK15=1,AL15,0)))) -> 0 | AP15: =IF(AND(E15="mehrtägigen",H15=""),2,IF(OR(AND(E15="mehrtägigen",H15<>""),AND(E15="eintägigen",AC15>TIME(8,,),AD15=0)),3,5)) -> 5 | AQ15: =VLOOKUP(AO15,Pauschalen!$A$1:$D$231,2,FALSE) -> #N/A | AR15: =IF(O15<>"",0.2,0) -> 0 | AS15: =IF(P15<>"",0.4,0) -> 0 | AT15: =IF(Q15<>"",0.4,0) -> 0 | AU15: =SUM(AR15:AT15) -> 0
A16: =IF(AJ16=1,$AW$12,IF(AM16=1,$AW$13,IF(AN16=1,$AW$14,IF(AD16=1,$AW$11,"")))) | N16: =IF(OR($AG$1=0,Z16=0,AA16=0),"",VLOOKUP(AO16,VMA[#All],Reisekostenabrechnung!AP16,FALSE)) | R16: =IF($AG$1=0,"",IF(AND($AG$3=2,N16<>""),N16-(AQ16*AU16),"")) | U16: =IF(OR($AG$1=0,$AG$3<>2,$AG$5<>1),"",IF(S16<>"",VLOOKUP(S16,Pauschalen!$A$1:$D$231,4,FALSE),"")) | Z16: =IF(OR(C16="",D16="",E16=""),0,1) -> 0 | AA16: =IF(OR(AND(AK16=1,J16<>"",K16<>"",C16<>J16,C16<>K16),AND(E16="Mehrtägigen",L16<>"")),1,IF(AND(E16="eintägigen",M16<>""),1,0)) -> 0 | AB16: =IF(E16="eintägigen",1,0) -> 0 | AC16: =G16-F16 -> 0 | AD16: =IF(IFERROR(AC16,1)=1,1,IF(DAY(G16)<>DAY(F16),1,0)) -> 0 | AE16: =IF(AB16=1,M16,0) -> 0 | AF16: =IF(AND(E16="mehrtägigen",AH16=0,AK16=0),1,0) -> 0 | AG16: =IF(AF16=1,IF(H16<>"endete",L16,IF(M16="",L16,M16)),0) -> 0 | AH16: =IF(I16="Flugzeug",1,0) -> 0 | AI16: =IF(AH16=1,IF(AND(H16="endete",M16<>""),M16,IF(J16=C16,L16,IF(AND(J16<>C16,K16=C16),L16,IF(AND(C16<>J16,C16<>K16,J16<>"",K16<>""),$AO$3,0)))),0) -> 0 | AJ16: =IF(AND(AH16=1,C16<>J16,C16=K16,L16=""),1,0) -> 0 | AK16: =IF(I16="Schiff",1,0) -> 0 | AL16: =IF(AK16=1,IF(C16=J16,L16,IF(C16=K16,L16,IF(AND(C16<>J16,C16<>K16,J16<>"",K16<>""),$AO$5,0))),0) -> 0 | AM16: =IF(AND(AK16=1,C16=J16,L16=""),1,0) -> 0 | AN16: =IF(AND(AK16=1,C16=K16,L16=""),1,0) -> 0 | AO16: =IF(AB16=1,AE16,IF(AF16=1,AG16,IF(AH16=1,AI16,IF(AK16=1,AL16,0)))) -> 0 | AP16: =IF(AND(E16="mehrtägigen",H16=""),2,IF(OR(AND(E16="mehrtägigen",H16<>""),AND(E16="eintägigen",AC16>TIME(8,,),AD16=0)),3,5)) -> 5 | AQ16: =VLOOKUP(AO16,Pauschalen!$A$1:$D$231,2,FALSE) -> #N/A | AR16: =IF(O16<>"",0.2,0) -> 0 | AS16: =IF(P16<>"",0.4,0) -> 0 | AT16: =IF(Q16<>"",0.4,0) -> 0 | AU16: =SUM(AR16:AT16) -> 0
A17: =IF(AJ17=1,$AW$12,IF(AM17=1,$AW$13,IF(AN17=1,$AW$14,IF(AD17=1,$AW$11,"")))) | N17: =IF(OR($AG$1=0,Z17=0,AA17=0),"",VLOOKUP(AO17,VMA[#All],Reisekostenabrechnung!AP17,FALSE)) | R17: =IF($AG$1=0,"",IF(AND($AG$3=2,N17<>""),N17-(AQ17*AU17),"")) | U17: =IF(OR($AG$1=0,$AG$3<>2,$AG$5<>1),"",IF(S17<>"",VLOOKUP(S17,Pauschalen!$A$1:$D$231,4,FALSE),"")) | Z17: =IF(OR(C17="",D17="",E17=""),0,1) -> 0 | AA17: =IF(OR(AND(AK17=1,J17<>"",K17<>"",C17<>J17,C17<>K17),AND(E17="Mehrtägigen",L17<>"")),1,IF(AND(E17="eintägigen",M17<>""),1,0)) -> 0 | AB17: =IF(E17="eintägigen",1,0) -> 0 | AC17: =G17-F17 -> 0 | AD17: =IF(IFERROR(AC17,1)=1,1,IF(DAY(G17)<>DAY(F17),1,0)) -> 0 | AE17: =IF(AB17=1,M17,0) -> 0 | AF17: =IF(AND(E17="mehrtägigen",AH17=0,AK17=0),1,0) -> 0 | AG17: =IF(AF17=1,IF(H17<>"endete",L17,IF(M17="",L17,M17)),0) -> 0 | AH17: =IF(I17="Flugzeug",1,0) -> 0 | AI17: =IF(AH17=1,IF(AND(H17="endete",M17<>""),M17,IF(J17=C17,L17,IF(AND(J17<>C17,K17=C17),L17,IF(AND(C17<>J17,C17<>K17,J17<>"",K17<>""),$AO$3,0)))),0) -> 0 | AJ17: =IF(AND(AH17=1,C17<>J17,C17=K17,L17=""),1,0) -> 0 | AK17: =IF(I17="Schiff",1,0) -> 0 | AL17: =IF(AK17=1,IF(C17=J17,L17,IF(C17=K17,L17,IF(AND(C17<>J17,C17<>K17,J17<>"",K17<>""),$AO$5,0))),0) -> 0 | AM17: =IF(AND(AK17=1,C17=J17,L17=""),1,0) -> 0 | AN17: =IF(AND(AK17=1,C17=K17,L17=""),1,0) -> 0 | AO17: =IF(AB17=1,AE17,IF(AF17=1,AG17,IF(AH17=1,AI17,IF(AK17=1,AL17,0)))) -> 0 | AP17: =IF(AND(E17="mehrtägigen",H17=""),2,IF(OR(AND(E17="mehrtägigen",H17<>""),AND(E17="eintägigen",AC17>TIME(8,,),AD17=0)),3,5)) -> 5 | AQ17: =VLOOKUP(AO17,Pauschalen!$A$1:$D$231,2,FALSE) -> #N/A | AR17: =IF(O17<>"",0.2,0) -> 0 | AS17: =IF(P17<>"",0.4,0) -> 0 | AT17: =IF(Q17<>"",0.4,0) -> 0 | AU17: =SUM(AR17:AT17) -> 0
A18: =IF(AJ18=1,$AW$12,IF(AM18=1,$AW$13,IF(AN18=1,$AW$14,IF(AD18=1,$AW$11,"")))) | N18: =IF(OR($AG$1=0,Z18=0,AA18=0),"",VLOOKUP(AO18,VMA[#All],Reisekostenabrechnung!AP18,FALSE)) | R18: =IF($AG$1=0,"",IF(AND($AG$3=2,N18<>""),N18-(AQ18*AU18),"")) | U18: =IF(OR($AG$1=0,$AG$3<>2,$AG$5<>1),"",IF(S18<>"",VLOOKUP(S18,Pauschalen!$A$1:$D$231,4,FALSE),"")) | Z18: =IF(OR(C18="",D18="",E18=""),0,1) -> 0 | AA18: =IF(OR(AND(AK18=1,J18<>"",K18<>"",C18<>J18,C18<>K18),AND(E18="Mehrtägigen",L18<>"")),1,IF(AND(E18="eintägigen",M18<>""),1,0)) -> 0 | AB18: =IF(E18="eintägigen",1,0) -> 0 | AC18: =G18-F18 -> 0 | AD18: =IF(IFERROR(AC18,1)=1,1,IF(DAY(G18)<>DAY(F18),1,0)) -> 0 | AE18: =IF(AB18=1,M18,0) -> 0 | AF18: =IF(AND(E18="mehrtägigen",AH18=0,AK18=0),1,0) -> 0 | AG18: =IF(AF18=1,IF(H18<>"endete",L18,IF(M18="",L18,M18)),0) -> 0 | AH18: =IF(I18="Flugzeug",1,0) -> 0 | AI18: =IF(AH18=1,IF(AND(H18="endete",M18<>""),M18,IF(J18=C18,L18,IF(AND(J18<>C18,K18=C18),L18,IF(AND(C18<>J18,C18<>K18,J18<>"",K18<>""),$AO$3,0)))),0) -> 0 | AJ18: =IF(AND(AH18=1,C18<>J18,C18=K18,L18=""),1,0) -> 0 | AK18: =IF(I18="Schiff",1,0) -> 0 | AL18: =IF(AK18=1,IF(C18=J18,L18,IF(C18=K18,L18,IF(AND(C18<>J18,C18<>K18,J18<>"",K18<>""),$AO$5,0))),0) -> 0 | AM18: =IF(AND(AK18=1,C18=J18,L18=""),1,0) -> 0 | AN18: =IF(AND(AK18=1,C18=K18,L18=""),1,0) -> 0 | AO18: =IF(AB18=1,AE18,IF(AF18=1,AG18,IF(AH18=1,AI18,IF(AK18=1,AL18,0)))) -> 0 | AP18: =IF(AND(E18="mehrtägigen",H18=""),2,IF(OR(AND(E18="mehrtägigen",H18<>""),AND(E18="eintägigen",AC18>TIME(8,,),AD18=0)),3,5)) -> 5 | AQ18: =VLOOKUP(AO18,Pauschalen!$A$1:$D$231,2,FALSE) -> #N/A | AR18: =IF(O18<>"",0.2,0) -> 0 | AS18: =IF(P18<>"",0.4,0) -> 0 | AT18: =IF(Q18<>"",0.4,0) -> 0 | AU18: =SUM(AR18:AT18) -> 0
A19: =IF(AJ19=1,$AW$12,IF(AM19=1,$AW$13,IF(AN19=1,$AW$14,IF(AD19=1,$AW$11,"")))) | N19: =IF(OR($AG$1=0,Z19=0,AA19=0),"",VLOOKUP(AO19,VMA[#All],Reisekostenabrechnung!AP19,FALSE)) | R19: =IF($AG$1=0,"",IF(AND($AG$3=2,N19<>""),N19-(AQ19*AU19),"")) | U19: =IF(OR($AG$1=0,$AG$3<>2,$AG$5<>1),"",IF(S19<>"",VLOOKUP(S19,Pauschalen!$A$1:$D$231,4,FALSE),"")) | Z19: =IF(OR(C19="",D19="",E19=""),0,1) -> 0 | AA19: =IF(OR(AND(AK19=1,J19<>"",K19<>"",C19<>J19,C19<>K19),AND(E19="Mehrtägigen",L19<>"")),1,IF(AND(E19="eintägigen",M19<>""),1,0)) -> 0 | AB19: =IF(E19="eintägigen",1,0) -> 0 | AC19: =G19-F19 -> 0 | AD19: =IF(IFERROR(AC19,1)=1,1,IF(DAY(G19)<>DAY(F19),1,0)) -> 0 | AE19: =IF(AB19=1,M19,0) -> 0 | AF19: =IF(AND(E19="mehrtägigen",AH19=0,AK19=0),1,0) -> 0 | AG19: =IF(AF19=1,IF(H19<>"endete",L19,IF(M19="",L19,M19)),0) -> 0 | AH19: =IF(I19="Flugzeug",1,0) -> 0 | AI19: =IF(AH19=1,IF(AND(H19="endete",M19<>""),M19,IF(J19=C19,L19,IF(AND(J19<>C19,K19=C19),L19,IF(AND(C19<>J19,C19<>K19,J19<>"",K19<>""),$AO$3,0)))),0) -> 0 | AJ19: =IF(AND(AH19=1,C19<>J19,C19=K19,L19=""),1,0) -> 0 | AK19: =IF(I19="Schiff",1,0) -> 0 | AL19: =IF(AK19=1,IF(C19=J19,L19,IF(C19=K19,L19,IF(AND(C19<>J19,C19<>K19,J19<>"",K19<>""),$AO$5,0))),0) -> 0 | AM19: =IF(AND(AK19=1,C19=J19,L19=""),1,0) -> 0 | AN19: =IF(AND(AK19=1,C19=K19,L19=""),1,0) -> 0 | AO19: =IF(AB19=1,AE19,IF(AF19=1,AG19,IF(AH19=1,AI19,IF(AK19=1,AL19,0)))) -> 0 | AP19: =IF(AND(E19="mehrtägigen",H19=""),2,IF(OR(AND(E19="mehrtägigen",H19<>""),AND(E19="eintägigen",AC19>TIME(8,,),AD19=0)),3,5)) -> 5 | AQ19: =VLOOKUP(AO19,Pauschalen!$A$1:$D$231,2,FALSE) -> #N/A | AR19: =IF(O19<>"",0.2,0) -> 0 | AS19: =IF(P19<>"",0.4,0) -> 0 | AT19: =IF(Q19<>"",0.4,0) -> 0 | AU19: =SUM(AR19:AT19) -> 0
A20: =IF(AJ20=1,$AW$12,IF(AM20=1,$AW$13,IF(AN20=1,$AW$14,IF(AD20=1,$AW$11,"")))) | N20: =IF(OR($AG$1=0,Z20=0,AA20=0),"",VLOOKUP(AO20,VMA[#All],Reisekostenabrechnung!AP20,FALSE)) | R20: =IF($AG$1=0,"",IF(AND($AG$3=2,N20<>""),N20-(AQ20*AU20),"")) | U20: =IF(OR($AG$1=0,$AG$3<>2,$AG$5<>1),"",IF(S20<>"",VLOOKUP(S20,Pauschalen!$A$1:$D$231,4,FALSE),"")) | Z20: =IF(OR(C20="",D20="",E20=""),0,1) -> 0 | AA20: =IF(OR(AND(AK20=1,J20<>"",K20<>"",C20<>J20,C20<>K20),AND(E20="Mehrtägigen",L20<>"")),1,IF(AND(E20="eintägigen",M20<>""),1,0)) -> 0 | AB20: =IF(E20="eintägigen",1,0) -> 0 | AC20: =G20-F20 -> 0 | AD20: =IF(IFERROR(AC20,1)=1,1,IF(DAY(G20)<>DAY(F20),1,0)) -> 0 | AE20: =IF(AB20=1,M20,0) -> 0 | AF20: =IF(AND(E20="mehrtägigen",AH20=0,AK20=0),1,0) -> 0 | AG20: =IF(AF20=1,IF(H20<>"endete",L20,IF(M20="",L20,M20)),0) -> 0 | AH20: =IF(I20="Flugzeug",1,0) -> 0 | AI20: =IF(AH20=1,IF(AND(H20="endete",M20<>""),M20,IF(J20=C20,L20,IF(AND(J20<>C20,K20=C20),L20,IF(AND(C20<>J20,C20<>K20,J20<>"",K20<>""),$AO$3,0)))),0) -> 0 | AJ20: =IF(AND(AH20=1,C20<>J20,C20=K20,L20=""),1,0) -> 0 | AK20: =IF(I20="Schiff",1,0) -> 0 | AL20: =IF(AK20=1,IF(C20=J20,L20,IF(C20=K20,L20,IF(AND(C20<>J20,C20<>K20,J20<>"",K20<>""),$AO$5,0))),0) -> 0 | AM20: =IF(AND(AK20=1,C20=J20,L20=""),1,0) -> 0 | AN20: =IF(AND(AK20=1,C20=K20,L20=""),1,0) -> 0 | AO20: =IF(AB20=1,AE20,IF(AF20=1,AG20,IF(AH20=1,AI20,IF(AK20=1,AL20,0)))) -> 0 | AP20: =IF(AND(E20="mehrtägigen",H20=""),2,IF(OR(AND(E20="mehrtägigen",H20<>""),AND(E20="eintägigen",AC20>TIME(8,,),AD20=0)),3,5)) -> 5 | AQ20: =VLOOKUP(AO20,Pauschalen!$A$1:$D$231,2,FALSE) -> #N/A | AR20: =IF(O20<>"",0.2,0) -> 0 | AS20: =IF(P20<>"",0.4,0) -> 0 | AT20: =IF(Q20<>"",0.4,0) -> 0 | AU20: =SUM(AR20:AT20) -> 0
A21: =IF(AJ21=1,$AW$12,IF(AM21=1,$AW$13,IF(AN21=1,$AW$14,IF(AD21=1,$AW$11,"")))) | N21: =IF(OR($AG$1=0,Z21=0,AA21=0),"",VLOOKUP(AO21,VMA[#All],Reisekostenabrechnung!AP21,FALSE)) | R21: =IF($AG$1=0,"",IF(AND($AG$3=2,N21<>""),N21-(AQ21*AU21),"")) | U21: =IF(OR($AG$1=0,$AG$3<>2,$AG$5<>1),"",IF(S21<>"",VLOOKUP(S21,Pauschalen!$A$1:$D$231,4,FALSE),"")) | Z21: =IF(OR(C21="",D21="",E21=""),0,1) -> 0 | AA21: =IF(OR(AND(AK21=1,J21<>"",K21<>"",C21<>J21,C21<>K21),AND(E21="Mehrtägigen",L21<>"")),1,IF(AND(E21="eintägigen",M21<>""),1,0)) -> 0 | AB21: =IF(E21="eintägigen",1,0) -> 0 | AC21: =G21-F21 -> 0 | AD21: =IF(IFERROR(AC21,1)=1,1,IF(DAY(G21)<>DAY(F21),1,0)) -> 0 | AE21: =IF(AB21=1,M21,0) -> 0 | AF21: =IF(AND(E21="mehrtägigen",AH21=0,AK21=0),1,0) -> 0 | AG21: =IF(AF21=1,IF(H21<>"endete",L21,IF(M21="",L21,M21)),0) -> 0 | AH21: =IF(I21="Flugzeug",1,0) -> 0 | AI21: =IF(AH21=1,IF(AND(H21="endete",M21<>""),M21,IF(J21=C21,L21,IF(AND(J21<>C21,K21=C21),L21,IF(AND(C21<>J21,C21<>K21,J21<>"",K21<>""),$AO$3,0)))),0) -> 0 | AJ21: =IF(AND(AH21=1,C21<>J21,C21=K21,L21=""),1,0) -> 0 | AK21: =IF(I21="Schiff",1,0) -> 0 | AL21: =IF(AK21=1,IF(C21=J21,L21,IF(C21=K21,L21,IF(AND(C21<>J21,C21<>K21,J21<>"",K21<>""),$AO$5,0))),0) -> 0 | AM21: =IF(AND(AK21=1,C21=J21,L21=""),1,0) -> 0 | AN21: =IF(AND(AK21=1,C21=K21,L21=""),1,0) -> 0 | AO21: =IF(AB21=1,AE21,IF(AF21=1,AG21,IF(AH21=1,AI21,IF(AK21=1,AL21,0)))) -> 0 | AP21: =IF(AND(E21="mehrtägigen",H21=""),2,IF(OR(AND(E21="mehrtägigen",H21<>""),AND(E21="eintägigen",AC21>TIME(8,,),AD21=0)),3,5)) -> 5 | AQ21: =VLOOKUP(AO21,Pauschalen!$A$1:$D$231,2,FALSE) -> #N/A | AR21: =IF(O21<>"",0.2,0) -> 0 | AS21: =IF(P21<>"",0.4,0) -> 0 | AT21: =IF(Q21<>"",0.4,0) -> 0 | AU21: =SUM(AR21:AT21) -> 0
A22: =IF(AJ22=1,$AW$12,IF(AM22=1,$AW$13,IF(AN22=1,$AW$14,IF(AD22=1,$AW$11,"")))) | N22: =IF(OR($AG$1=0,Z22=0,AA22=0),"",VLOOKUP(AO22,VMA[#All],Reisekostenabrechnung!AP22,FALSE)) | R22: =IF($AG$1=0,"",IF(AND($AG$3=2,N22<>""),N22-(AQ22*AU22),"")) | U22: =IF(OR($AG$1=0,$AG$3<>2,$AG$5<>1),"",IF(S22<>"",VLOOKUP(S22,Pauschalen!$A$1:$D$231,4,FALSE),"")) | Z22: =IF(OR(C22="",D22="",E22=""),0,1) -> 0 | AA22: =IF(OR(AND(AK22=1,J22<>"",K22<>"",C22<>J22,C22<>K22),AND(E22="Mehrtägigen",L22<>"")),1,IF(AND(E22="eintägigen",M22<>""),1,0)) -> 0 | AB22: =IF(E22="eintägigen",1,0) -> 0 | AC22: =G22-F22 -> 0 | AD22: =IF(IFERROR(AC22,1)=1,1,IF(DAY(G22)<>DAY(F22),1,0)) -> 0 | AE22: =IF(AB22=1,M22,0) -> 0 | AF22: =IF(AND(E22="mehrtägigen",AH22=0,AK22=0),1,0) -> 0 | AG22: =IF(AF22=1,IF(H22<>"endete",L22,IF(M22="",L22,M22)),0) -> 0 | AH22: =IF(I22="Flugzeug",1,0) -> 0 | AI22: =IF(AH22=1,IF(AND(H22="endete",M22<>""),M22,IF(J22=C22,L22,IF(AND(J22<>C22,K22=C22),L22,IF(AND(C22<>J22,C22<>K22,J22<>"",K22<>""),$AO$3,0)))),0) -> 0 | AJ22: =IF(AND(AH22=1,C22<>J22,C22=K22,L22=""),1,0) -> 0 | AK22: =IF(I22="Schiff",1,0) -> 0 | AL22: =IF(AK22=1,IF(C22=J22,L22,IF(C22=K22,L22,IF(AND(C22<>J22,C22<>K22,J22<>"",K22<>""),$AO$5,0))),0) -> 0 | AM22: =IF(AND(AK22=1,C22=J22,L22=""),1,0) -> 0 | AN22: =IF(AND(AK22=1,C22=K22,L22=""),1,0) -> 0 | AO22: =IF(AB22=1,AE22,IF(AF22=1,AG22,IF(AH22=1,AI22,IF(AK22=1,AL22,0)))) -> 0 | AP22: =IF(AND(E22="mehrtägigen",H22=""),2,IF(OR(AND(E22="mehrtägigen",H22<>""),AND(E22="eintägigen",AC22>TIME(8,,),AD22=0)),3,5)) -> 5 | AQ22: =VLOOKUP(AO22,Pauschalen!$A$1:$D$231,2,FALSE) -> #N/A | AR22: =IF(O22<>"",0.2,0) -> 0 | AS22: =IF(P22<>"",0.4,0) -> 0 | AT22: =IF(Q22<>"",0.4,0) -> 0 | AU22: =SUM(AR22:AT22) -> 0
A23: =IF(AJ23=1,$AW$12,IF(AM23=1,$AW$13,IF(AN23=1,$AW$14,IF(AD23=1,$AW$11,"")))) | N23: =IF(OR($AG$1=0,Z23=0,AA23=0),"",VLOOKUP(AO23,VMA[#All],Reisekostenabrechnung!AP23,FALSE)) | R23: =IF($AG$1=0,"",IF(AND($AG$3=2,N23<>""),N23-(AQ23*AU23),"")) | U23: =IF(OR($AG$1=0,$AG$3<>2,$AG$5<>1),"",IF(S23<>"",VLOOKUP(S23,Pauschalen!$A$1:$D$231,4,FALSE),"")) | Z23: =IF(OR(C23="",D23="",E23=""),0,1) -> 0 | AA23: =IF(OR(AND(AK23=1,J23<>"",K23<>"",C23<>J23,C23<>K23),AND(E23="Mehrtägigen",L23<>"")),1,IF(AND(E23="eintägigen",M23<>""),1,0)) -> 0 | AB23: =IF(E23="eintägigen",1,0) -> 0 | AC23: =G23-F23 -> 0 | AD23: =IF(IFERROR(AC23,1)=1,1,IF(DAY(G23)<>DAY(F23),1,0)) -> 0 | AE23: =IF(AB23=1,M23,0) -> 0 | AF23: =IF(AND(E23="mehrtägigen",AH23=0,AK23=0),1,0) -> 0 | AG23: =IF(AF23=1,IF(H23<>"endete",L23,IF(M23="",L23,M23)),0) -> 0 | AH23: =IF(I23="Flugzeug",1,0) -> 0 | AI23: =IF(AH23=1,IF(AND(H23="endete",M23<>""),M23,IF(J23=C23,L23,IF(AND(J23<>C23,K23=C23),L23,IF(AND(C23<>J23,C23<>K23,J23<>"",K23<>""),$AO$3,0)))),0) -> 0 | AJ23: =IF(AND(AH23=1,C23<>J23,C23=K23,L23=""),1,0) -> 0 | AK23: =IF(I23="Schiff",1,0) -> 0 | AL23: =IF(AK23=1,IF(C23=J23,L23,IF(C23=K23,L23,IF(AND(C23<>J23,C23<>K23,J23<>"",K23<>""),$AO$5,0))),0) -> 0 | AM23: =IF(AND(AK23=1,C23=J23,L23=""),1,0) -> 0 | AN23: =IF(AND(AK23=1,C23=K23,L23=""),1,0) -> 0 | AO23: =IF(AB23=1,AE23,IF(AF23=1,AG23,IF(AH23=1,AI23,IF(AK23=1,AL23,0)))) -> 0 | AP23: =IF(AND(E23="mehrtägigen",H23=""),2,IF(OR(AND(E23="mehrtägigen",H23<>""),AND(E23="eintägigen",AC23>TIME(8,,),AD23=0)),3,5)) -> 5 | AQ23: =VLOOKUP(AO23,Pauschalen!$A$1:$D$231,2,FALSE) -> #N/A | AR23: =IF(O23<>"",0.2,0) -> 0 | AS23: =IF(P23<>"",0.4,0) -> 0 | AT23: =IF(Q23<>"",0.4,0) -> 0 | AU23: =SUM(AR23:AT23) -> 0
A24: =IF(AJ24=1,$AW$12,IF(AM24=1,$AW$13,IF(AN24=1,$AW$14,IF(AD24=1,$AW$11,"")))) | N24: =IF(OR($AG$1=0,Z24=0,AA24=0),"",VLOOKUP(AO24,VMA[#All],Reisekostenabrechnung!AP24,FALSE)) | R24: =IF($AG$1=0,"",IF(AND($AG$3=2,N24<>""),N24-(AQ24*AU24),"")) | U24: =IF(OR($AG$1=0,$AG$3<>2,$AG$5<>1),"",IF(S24<>"",VLOOKUP(S24,Pauschalen!$A$1:$D$231,4,FALSE),"")) | Z24: =IF(OR(C24="",D24="",E24=""),0,1) -> 0 | AA24: =IF(OR(AND(AK24=1,J24<>"",K24<>"",C24<>J24,C24<>K24),AND(E24="Mehrtägigen",L24<>"")),1,IF(AND(E24="eintägigen",M24<>""),1,0)) -> 0 | AB24: =IF(E24="eintägigen",1,0) -> 0 | AC24: =G24-F24 -> 0 | AD24: =IF(IFERROR(AC24,1)=1,1,IF(DAY(G24)<>DAY(F24),1,0)) -> 0 | AE24: =IF(AB24=1,M24,0) -> 0 | AF24: =IF(AND(E24="mehrtägigen",AH24=0,AK24=0),1,0) -> 0 | AG24: =IF(AF24=1,IF(H24<>"endete",L24,IF(M24="",L24,M24)),0) -> 0 | AH24: =IF(I24="Flugzeug",1,0) -> 0 | AI24: =IF(AH24=1,IF(AND(H24="endete",M24<>""),M24,IF(J24=C24,L24,IF(AND(J24<>C24,K24=C24),L24,IF(AND(C24<>J24,C24<>K24,J24<>"",K24<>""),$AO$3,0)))),0) -> 0 | AJ24: =IF(AND(AH24=1,C24<>J24,C24=K24,L24=""),1,0) -> 0 | AK24: =IF(I24="Schiff",1,0) -> 0 | AL24: =IF(AK24=1,IF(C24=J24,L24,IF(C24=K24,L24,IF(AND(C24<>J24,C24<>K24,J24<>"",K24<>""),$AO$5,0))),0) -> 0 | AM24: =IF(AND(AK24=1,C24=J24,L24=""),1,0) -> 0 | AN24: =IF(AND(AK24=1,C24=K24,L24=""),1,0) -> 0 | AO24: =IF(AB24=1,AE24,IF(AF24=1,AG24,IF(AH24=1,AI24,IF(AK24=1,AL24,0)))) -> 0 | AP24: =IF(AND(E24="mehrtägigen",H24=""),2,IF(OR(AND(E24="mehrtägigen",H24<>""),AND(E24="eintägigen",AC24>TIME(8,,),AD24=0)),3,5)) -> 5 | AQ24: =VLOOKUP(AO24,Pauschalen!$A$1:$D$231,2,FALSE) -> #N/A | AR24: =IF(O24<>"",0.2,0) -> 0 | AS24: =IF(P24<>"",0.4,0) -> 0 | AT24: =IF(Q24<>"",0.4,0) -> 0 | AU24: =SUM(AR24:AT24) -> 0
A25: =IF(AJ25=1,$AW$12,IF(AM25=1,$AW$13,IF(AN25=1,$AW$14,IF(AD25=1,$AW$11,"")))) | N25: =IF(OR($AG$1=0,Z25=0,AA25=0),"",VLOOKUP(AO25,VMA[#All],Reisekostenabrechnung!AP25,FALSE)) | R25: =IF($AG$1=0,"",IF(AND($AG$3=2,N25<>""),N25-(AQ25*AU25),"")) | U25: =IF(OR($AG$1=0,$AG$3<>2,$AG$5<>1),"",IF(S25<>"",VLOOKUP(S25,Pauschalen!$A$1:$D$231,4,FALSE),"")) | Z25: =IF(OR(C25="",D25="",E25=""),0,1) -> 0 | AA25: =IF(OR(AND(AK25=1,J25<>"",K25<>"",C25<>J25,C25<>K25),AND(E25="Mehrtägigen",L25<>"")),1,IF(AND(E25="eintägigen",M25<>""),1,0)) -> 0 | AB25: =IF(E25="eintägigen",1,0) -> 0 | AC25: =G25-F25 -> 0 | AD25: =IF(IFERROR(AC25,1)=1,1,IF(DAY(G25)<>DAY(F25),1,0)) -> 0 | AE25: =IF(AB25=1,M25,0) -> 0 | AF25: =IF(AND(E25="mehrtägigen",AH25=0,AK25=0),1,0) -> 0 | AG25: =IF(AF25=1,IF(H25<>"endete",L25,IF(M25="",L25,M25)),0) -> 0 | AH25: =IF(I25="Flugzeug",1,0) -> 0 | AI25: =IF(AH25=1,IF(AND(H25="endete",M25<>""),M25,IF(J25=C25,L25,IF(AND(J25<>C25,K25=C25),L25,IF(AND(C25<>J25,C25<>K25,J25<>"",K25<>""),$AO$3,0)))),0) -> 0 | AJ25: =IF(AND(AH25=1,C25<>J25,C25=K25,L25=""),1,0) -> 0 | AK25: =IF(I25="Schiff",1,0) -> 0 | AL25: =IF(AK25=1,IF(C25=J25,L25,IF(C25=K25,L25,IF(AND(C25<>J25,C25<>K25,J25<>"",K25<>""),$AO$5,0))),0) -> 0 | AM25: =IF(AND(AK25=1,C25=J25,L25=""),1,0) -> 0 | AN25: =IF(AND(AK25=1,C25=K25,L25=""),1,0) -> 0 | AO25: =IF(AB25=1,AE25,IF(AF25=1,AG25,IF(AH25=1,AI25,IF(AK25=1,AL25,0)))) -> 0 | AP25: =IF(AND(E25="mehrtägigen",H25=""),2,IF(OR(AND(E25="mehrtägigen",H25<>""),AND(E25="eintägigen",AC25>TIME(8,,),AD25=0)),3,5)) -> 5 | AQ25: =VLOOKUP(AO25,Pauschalen!$A$1:$D$231,2,FALSE) -> #N/A | AR25: =IF(O25<>"",0.2,0) -> 0 | AS25: =IF(P25<>"",0.4,0) -> 0 | AT25: =IF(Q25<>"",0.4,0) -> 0 | AU25: =SUM(AR25:AT25) -> 0
C26: Summen | N26: =SUM(N11:N25) -> 0 | R26: =SUM(R11:R25) -> 0 | T26: =SUM(T11:T25) -> 0 | U26: =SUM(U11:U25) -> 0 | X26: =SUM(X11:X25) -> 0
C28: =IF(AG3=2,"Verpflegungsmehraufwendungen abzgl. Kürzungen","Verpflegungsmehraufwendungen") -> Verpflegungsmehraufwendungen | L28: =IF(OR($AG$3=1,AND($AG$3=2,$AG$5=2)),"Ansatz mit:",IF($AG$5=1,"Erstattung erfolgt lt. betriebl. Vereinbarung:","")) | W28: =IF(AG5=1,IF(AB28=3,T28,IF(AB28=1,R26,0)),IF(AG3=1,N26,R26)) -> 0 | Z28: Ansatz Erstattung: | AB28: =IF(M28="in Höhe der gesetzlichen Pauschalen",1,IF(M28="mit einem individuellen Betrag in Höhe von:",3,""))
C30: Übernachtungskosten | L30: =IF(OR($AG$3=1,AND($AG$3=2,$AG$5=2)),"Ansatz mit:",IF($AG$5=1,"Erstattung erfolgt lt. betriebl. Vereinbarung:","")) | W30: =IF(OR(AG3=0,AG3=1),0,IF(AG5=2,T26,IF(AB30=1,T26,IF(AB30=2,U26,IF(AB30=3,T30,0))))) -> 0 | AB30: =IF(M30="in Höhe der tatsächlichen Aufwendungen",1,IF(M30="in Höhe der erstattungsfähigen Pauschalen",2,IF(M30="mit einem individuellen Betrag in Höhe von:",3,"")))
C32: Fahrtkosten | E32: PKW: | H32: Fahrleistung: | I32: =SUMIFS(W11:W25,V11:V25,"pkw") -> 0 | L32: =IF(OR($AG$3=1,AND($AG$3=2,$AG$5=2)),"Ansatz mit:",IF($AG$5=1,"Erstattung erfolgt lt. betriebl. Vereinbarung:","")) | S32: =IF(OR($AG$3=1,AB32=1,AND($AG$3=2,$AG$5=2)),""&AG32&" € / km","€ / km") -> € / km | T32: =IF(AND($AG$3=2,$AG$5=1),IF(AND(M32<>"",AB32=1),AG32*I32,IF(AND(M32<>"",AB32=3),R32*I32,0)),AG32*I32) -> 0 | W32: =IF(AND(AG3=1,AG1=1),X26+SUM(T32:T34),IF(AB35=1,X26,IF(AB35=3,T35,0))+SUM(T32:T34)) -> 0 | AB32: =IF(M32="nach dem gesetzlichen km-satz von:",1,IF(M32="mit einem km-satz von:",3,"")) | AF32: gesetzlicher Satz: | AG32: 0.3
C33: private Beförderungsmittel | E33: sonst. KFZ: | H33: Fahrleistung: | I33: =SUMIFS(W11:W25,V11:V25,"sonst. kfz") -> 0 | L33: =IF(OR($AG$3=1,AND($AG$3=2,$AG$5=2)),"Ansatz mit:",IF($AG$5=1,"Erstattung erfolgt lt. betriebl. Vereinbarung:","")) | S33: =IF(OR($AG$3=1,AB33=1,AND($AG$3=2,$AG$5=2)),""&AG33&" € / km","€ / km") -> € / km | T33: =IF(AND($AG$3=2,$AG$5=1),IF(AND(M33<>"",AB33=1),AG33*I33,IF(AND(M33<>"",AB33=3),R33*I33,0)),AG33*I33) -> 0 | AB33: =IF(M33="nach dem gesetzlichen km-satz von:",1,IF(M33="mit einem km-satz von:",3,"")) | AF33: gesetzlicher Satz: | AG33: 0.2
E34: Fahrrad: | H34: Fahrleistung: | I34: =SUMIFS(W11:W25,V11:V25,"fahrrad") -> 0 | L34: =IF(OR($AG$3=1,AND($AG$3=2,$AG$5=2)),"Ansatz mit:",IF($AG$5=1,"Erstattung erfolgt lt. betriebl. Vereinbarung:","")) | M34: =IF($AG$5=1,"mit:","")
C35: nicht private Beförderungsmittel und sonst. Kosten | L35: =IF(OR($AG$3=1,AND($AG$3=2,$AG$5=2)),"Ansatz mit:",IF($AG$5=1,"Erstattung erfolgt lt. betriebl. Vereinbarung:","")) | AB35: =IF(M35="in Höhe der tatsächlichen Aufwendungen",1,IF(M35="mit einem individuellen Betrag in Höhe von:",3,""))
C37: Auszahlung Reisekosten für den Zeitraum: | I37: =IF((($S$3)="")," ",$S$3) | W37: =W28+W30+W32 -> 0

Sheet Beispielabrechnung
C1: Reisekostenabrechnung (Ausland) 2025 | Z1: Alle Angaben gemacht? | AG1: =IF(AND(AG3=1,E3<>"",S3<>""),1,IF(AND(AG3=2,E3<>"",S3<>"",S5<>""),1,0)) -> 1
D3: Name: | E3: Max Muster | M3: Zeitraum: | S3: 1. Quartal | Z3: Erstellerrolle: (Unternehmer = 1; Arbeitnehmer = 2) | AG3: =IF(E5="",0,IF(E5="Unternehmer",1,2)) -> 2 | AI3: Flugzeug: Land bei Flugreisen von mehr als 2 Tagen (LStR 9.6 Abs. 3 Nr. 1) | AO3: Österreich
D5: Ich bin: | E5: Arbeitnehmer | M5: Ich erstelle diese Abrechnung für: | S5: Meinen Arbeitgeber | Z5: Bei AN: Erstellung für Arbeitgeber = 1; ESt-Erklärung = 2 | AG5: =IF(AG3<>2,0,IF(S5="Meinen Arbeitgeber",1,IF(S5="Meine Einkommensteuererklärung",2,0))) -> 1 | AI5: Schiff: Land bei Schiffsreisen von mehr als 2 Tagen (LStR 9.6 Abs. 3 Nr. 2) | AO5: Luxemburg
C7: Angaben zu den Reisetagen | O7: Verpflegung | S7: Übernachtung | V7: Fahrtkosten
C8: Pflichteingaben | F8: Falls zuterffend | I8: Falls zuterffend | L8: Eingabe nach Hervorhebung
C9: Reise-tag | D9: Reisezweck und Stadt | E9: Reisetag ist Teil einer … Reise | F9: Reisedauer | H9: An diesem Tag … die Reise | I9: An diesem Tag erfolge eine Beförderung mit/auf … | J9: Tag der Landung bzw. Einschiffung | K9: Tag des Abflugs bzw. der Aus-schiffung | L9: Aufenthaltsort (vor 24:00 Uhr erreicht) | M9: Falls an diesem Tag zutreffend: Ort des letzten Tätigwerdens im Ausland ? | N9: Verpflegungs-pauschale | O9: Mahlzeiten gestellt oder separat abgerechnet? | R9: Pauschale abzgl. Kürzungen | S9: Ort der Übernachtung | T9: Aufwendungen lt. Nachweis | U9: Erstattungsfähige Pauchale | V9: Fahrleistung mit privaten Beförderungs-mittelen | X9: Kosten für nicht private Beförd.mittel und sonst. Kosten | Z9: Prüffelder/ Eingaben | AB9: Eintägig | AF9: Mehrtägig (ohne Flugzeug und Schiff) | AH9: Flugzeug | AK9: Schiff | AO9: SVERWEIS für Pauschale | AQ9: Kürzung der Pauschale (Verpflegung) | AV9: Hinweise
A10: Zurück | C10: Datum | D10: Erläuterungen | E10: eintägigen mehrtägigen | F10: von | G10: bis | H10: begann endete | I10: Flugzeug Schiff | J10: Datum | K10: Datum | L10: Land (Ort) | M10: Land (Ort) | N10: EUR | O10: Frühstück | P10: Mittagessen | Q10: Abendessen | R10: EUR | S10: Land (Ort) | T10: EUR | U10: EUR | V10: Art | W10: km (gesamt) | X10: EUR | Z10: Pflichtfelder vorne | AA10: Pflichtfelder Land | AB10: Tag mit eintägiger Reise? | AC10: Dauer | AD10: Hinweis bei Fehler Uhrzeitformat | AE10: Ermittelung Land | AF10: Tag mit mehrtägiger Reise? | AG10: Ermittelung Land | AH10: Tag mit Flugzeug? | AI10: Ermittelung Land | AJ10: Hinweis bei Landung an anderem Tag | AK10: Tag mit Schiff? | AL10: Ermittelung Land | AM10: Hinweis bei Tag der Einschiffung | AN10: Hinweis bei Tag der Ausschiffung | AO10: Suchkriterium | AP10: Spaltenindex | AQ10: Kürzungs-grundlage | AR10: Kürzungsfaktor Frühstück | AS10: Kürzungsfaktor Mittagessen | AT10: Kürzungsfaktor Abendessen | AU10: Kürzungsfaktor Summe | AV10: Anwendungsfall | AW10: Text
A11: =IF(AJ11=1,$AW$12,IF(AM11=1,$AW$13,IF(AN11=1,$AW$14,IF(AD11=1,$AW$11,"")))) | C11: 45307 | D11: Meeting Niederlassung Usti nad Labem | E11: eintägigen | F11: 0.3125 | G11: 0.71875 | M11: Tschechische Republik | N11: =IF(OR($AG$1=0,Z11=0,AA11=0),"",VLOOKUP(AO11,VMA[#All],Beispielabrechnung!AP11,FALSE)) -> 21 | P11: Ja | R11: =IF($AG$1=0,"",IF(AND($AG$3=2,N11<>""),N11-(AQ11*AU11),"")) -> 8.2 | U11: =IF(OR($AG$1=0,$AG$3<>2,$AG$5<>1),"",IF(S11<>"",VLOOKUP(S11,Pauschalen!$A$1:$D$231,4,FALSE),"")) | V11: sonst. Kfz | W11: 151 | X11: 6.5 | Z11: =IF(OR(C11="",D11="",E11=""),0,1) -> 1 | AA11: =IF(OR(AND(AK11=1,J11<>"",K11<>"",C11<>J11,C11<>K11),AND(E11="Mehrtägigen",L11<>"")),1,IF(AND(E11="eintägigen",M11<>""),1,0)) -> 1 | AB11: =IF(E11="eintägigen",1,0) -> 1 | AC11: =G11-F11 -> 0.40625 | AD11: =IF(OR(IFERROR(AC11,1)=1,DAY(G11)-DAY(F11)>0),1,0) -> 0 | AE11: =IF(AB11=1,M11,0) -> Tschechische Republik | AF11: =IF(AND(E11="mehrtägigen",AH11=0,AK11=0),1,0) -> 0 | AG11: =IF(AF11=1,IF(H11<>"endete",L11,IF(M11="",L11,M11)),0) -> 0 | AH11: =IF(I11="Flugzeug",1,0) -> 0 | AI11: =IF(AH11=1,IF(AND(H11="endete",M11<>""),M11,IF(J11=C11,L11,IF(AND(J11<>C11,K11=C11),L11,IF(AND(C11<>J11,C11<>K11,J11<>"",K11<>""),$AO$3,0)))),0) -> 0 | AJ11: =IF(AND(AH11=1,C11<>J11,C11=K11,L11=""),1,0) -> 0 | AK11: =IF(I11="Schiff",1,0) -> 0 | AL11: =IF(AK11=1,IF(C11=J11,L11,IF(C11=K11,L11,IF(AND(C11<>J11,C11<>K11,J11<>"",K11<>""),$AO$5,0))),0) -> 0 | AM11: =IF(AND(AK11=1,C11=J11,L11=""),1,0) -> 0 | AN11: =IF(AND(AK11=1,C11=K11,L11=""),1,0) -> 0 | AO11: =IF(AB11=1,AE11,IF(AF11=1,AG11,IF(AH11=1,AI11,IF(AK11=1,AL11,0)))) -> Tschechische Republik | AP11: =IF(AND(E11="mehrtägigen",H11=""),2,IF(OR(AND(E11="mehrtägigen",H11<>""),AND(E11="eintägigen",AC11>TIME(8,,),AD11=0)),3,5)) -> 3 | AQ11: =VLOOKUP(AO11,Pauschalen!$A$1:$D$231,2,FALSE) -> 32 | AR11: =IF(O11<>"",0.2,0) -> 0 | AS11: =IF(P11<>"",0.4,0) -> 0.4 | AT11: =IF(Q11<>"",0.4,0) -> 0 | AU11: =SUM(AR11:AT11) -> 0.4 | AV11: Uhrzeit | AW11: Uhrzeitformat prüfen. Stunden und Minuten mit -> : <- trennen.
A12: Bitte beachten Sie auch die Hinweise. | C12: 45314 | D12: Aquise Helsinki | E12: mehrtägigen | H12: begann | L12: Deutschland | N12: =IF(OR($AG$1=0,Z12=0,AA12=0),"",VLOOKUP(AO12,VMA[#All],Beispielabrechnung!AP12,FALSE)) -> 14 | R12: =IF($AG$1=0,"",IF(AND($AG$3=2,N12<>""),N12-(AQ12*AU12),"")) -> 14 | U12: =IF(OR($AG$1=0,$AG$3<>2,$AG$5<>1),"",IF(S12<>"",VLOOKUP(S12,Pauschalen!$A$1:$D$231,4,FALSE),"")) | X12: 113 | Z12: =IF(OR(C12="",D12="",E12=""),0,1) -> 1 | AA12: =IF(OR(AND(AK12=1,J12<>"",K12<>"",C12<>J12,C12<>K12),AND(E12="Mehrtägigen",L12<>"")),1,IF(AND(E12="eintägigen",M12<>""),1,0)) -> 1 | AB12: =IF(E12="eintägigen",1,0) -> 0 | AC12: =G12-F12 -> 0 | AD12: =IF(OR(IFERROR(AC12,1)=1,DAY(G12)-DAY(F12)>0),1,0) -> 0 | AE12: =IF(AB12=1,M12,0) -> 0 | AF12: =IF(AND(E12="mehrtägigen",AH12=0,AK12=0),1,0) -> 1 | AG12: =IF(AF12=1,IF(H12<>"endete",L12,IF(M12="",L12,M12)),0) -> Deutschland | AH12: =IF(I12="Flugzeug",1,0) -> 0 | AI12: =IF(AH12=1,IF(AND(H12="endete",M12<>""),M12,IF(J12=C12,L12,IF(AND(J12<>C12,K12=C12),L12,IF(AND(C12<>J12,C12<>K12,J12<>"",K12<>""),$AO$3,0)))),0) -> 0 | AJ12: =IF(AND(AH12=1,C12<>J12,C12=K12,L12=""),1,0) -> 0 | AK12: =IF(I12="Schiff",1,0) -> 0 | AL12: =IF(AK12=1,IF(C12=J12,L12,IF(C12=K12,L12,IF(AND(C12<>J12,C12<>K12,J12<>"",K12<>""),$AO$5,0))),0) -> 0 | AM12: =IF(AND(AK12=1,C12=J12,L12=""),1,0) -> 0 | AN12: =IF(AND(AK12=1,C12=K12,L12=""),1,0) -> 0 | AO12: =IF(AB12=1,AE12,IF(AF12=1,AG12,IF(AH12=1,AI12,IF(AK12=1,AL12,0)))) -> Deutschland | AP12: =IF(AND(E12="mehrtägigen",H12=""),2,IF(OR(AND(E12="mehrtägigen",H12<>""),AND(E12="eintägigen",AC12>TIME(8,,),AD12=0)),3,5)) -> 3 | AQ12: =VLOOKUP(AO12,Pauschalen!$A$1:$D$231,2,FALSE) -> 28 | AR12: =IF(O12<>"",0.2,0) -> 0 | AS12: =IF(P12<>"",0.4,0) -> 0 | AT12: =IF(Q12<>"",0.4,0) -> 0 | AU12: =SUM(AR12:AT12) -> 0 | AV12: Flugzeug | AW12: Bitte den Ort des Abflug-Flughafens angeben.
C13: 45315 | D13: Aquise Helsinki | E13: mehrtägigen | I13: Schiff | J13: 45316 | K13: 45315 | L13: Deutschland | N13: =IF(OR($AG$1=0,Z13=0,AA13=0),"",VLOOKUP(AO13,VMA[#All],Beispielabrechnung!AP13,FALSE)) -> 28 | O13: Ja | R13: =IF($AG$1=0,"",IF(AND($AG$3=2,N13<>""),N13-(AQ13*AU13),"")) -> 22.4 | U13: =IF(OR($AG$1=0,$AG$3<>2,$AG$5<>1),"",IF(S13<>"",VLOOKUP(S13,Pauschalen!$A$1:$D$231,4,FALSE),"")) | X13: 365 | Z13: =IF(OR(C13="",D13="",E13=""),0,1) -> 1 | AA13: =IF(OR(AND(AK13=1,J13<>"",K13<>"",C13<>J13,C13<>K13),AND(E13="Mehrtägigen",L13<>"")),1,IF(AND(E13="eintägigen",M13<>""),1,0)) -> 1 | AB13: =IF(E13="eintägigen",1,0) -> 0 | AC13: =G13-F13 -> 0 | AD13: =IF(OR(IFERROR(AC13,1)=1,DAY(G13)-DAY(F13)>0),1,0) -> 0 | AE13: =IF(AB13=1,M13,0) -> 0 | AF13: =IF(AND(E13="mehrtägigen",AH13=0,AK13=0),1,0) -> 0 | AG13: =IF(AF13=1,IF(H13<>"endete",L13,IF(M13="",L13,M13)),0) -> 0 | AH13: =IF(I13="Flugzeug",1,0) -> 0 | AI13: =IF(AH13=1,IF(AND(H13="endete",M13<>""),M13,IF(J13=C13,L13,IF(AND(J13<>C13,K13=C13),L13,IF(AND(C13<>J13,C13<>K13,J13<>"",K13<>""),$AO$3,0)))),0) -> 0 | AJ13: =IF(AND(AH13=1,C13<>J13,C13=K13,L13=""),1,0) -> 0 | AK13: =IF(I13="Schiff",1,0) -> 1 | AL13: =IF(AK13=1,IF(C13=J13,L13,IF(C13=K13,L13,IF(AND(C13<>J13,C13<>K13,J13<>"",K13<>""),$AO$5,0))),0) -> Deutschland | AM13: =IF(AND(AK13=1,C13=J13,L13=""),1,0) -> 0 | AN13: =IF(AND(AK13=1,C13=K13,L13=""),1,0) -> 0 | AO13: =IF(AB13=1,AE13,IF(AF13=1,AG13,IF(AH13=1,AI13,IF(AK13=1,AL13,0)))) -> Deutschland | AP13: =IF(AND(E13="mehrtägigen",H13=""),2,IF(OR(AND(E13="mehrtägigen",H13<>""),AND(E13="eintägigen",AC13>TIME(8,,),AD13=0)),3,5)) -> 2 | AQ13: =VLOOKUP(AO13,Pauschalen!$A$1:$D$231,2,FALSE) -> 28 | AR13: =IF(O13<>"",0.2,0) -> 0.2 | AS13: =IF(P13<>"",0.4,0) -> 0 | AT13: =IF(Q13<>"",0.4,0) -> 0 | AU13: =SUM(AR13:AT13) -> 0.2 | AV13: Schiff - Einschiffung | AW13: Bitte den Ort des Einschiffungs-Hafens angeben.
A14: =IF(AJ14=1,$AW$12,IF(AM14=1,$AW$13,IF(AN14=1,$AW$14,IF(AD14=1,$AW$11,"")))) | C14: 45316 | D14: Aquise Helsinki | E14: mehrtägigen | I14: Schiff | J14: 45316 | L14: Finnland | N14: =IF(OR($AG$1=0,Z14=0,AA14=0),"",VLOOKUP(AO14,VMA[#All],Beispielabrechnung!AP14,FALSE)) -> 54 | O14: Ja | R14: =IF($AG$1=0,"",IF(AND($AG$3=2,N14<>""),N14-(AQ14*AU14),"")) -> 43.2 | U14: =IF(OR($AG$1=0,$AG$3<>2,$AG$5<>1),"",IF(S14<>"",VLOOKUP(S14,Pauschalen!$A$1:$D$231,4,FALSE),"")) | X14: 25 | Z14: =IF(OR(C14="",D14="",E14=""),0,1) -> 1 | AA14: =IF(OR(AND(AK14=1,J14<>"",K14<>"",C14<>J14,C14<>K14),AND(E14="Mehrtägigen",L14<>"")),1,IF(AND(E14="eintägigen",M14<>""),1,0)) -> 1 | AB14: =IF(E14="eintägigen",1,0) -> 0 | AC14: =G14-F14 -> 0 | AD14: =IF(OR(IFERROR(AC14,1)=1,DAY(G14)-DAY(F14)>0),1,0) -> 0 | AE14: =IF(AB14=1,M14,0) -> 0 | AF14: =IF(AND(E14="mehrtägigen",AH14=0,AK14=0),1,0) -> 0 | AG14: =IF(AF14=1,IF(H14<>"endete",L14,IF(M14="",L14,M14)),0) -> 0 | AH14: =IF(I14="Flugzeug",1,0) -> 0 | AI14: =IF(AH14=1,IF(AND(H14="endete",M14<>""),M14,IF(J14=C14,L14,IF(AND(J14<>C14,K14=C14),L14,IF(AND(C14<>J14,C14<>K14,J14<>"",K14<>""),$AO$3,0)))),0) -> 0 | AJ14: =IF(AND(AH14=1,C14<>J14,C14=K14,L14=""),1,0) -> 0 | AK14: =IF(I14="Schiff",1,0) -> 1 | AL14: =IF(AK14=1,IF(C14=J14,L14,IF(C14=K14,L14,IF(AND(C14<>J14,C14<>K14,J14<>"",K14<>""),$AO$5,0))),0) -> Finnland | AM14: =IF(AND(AK14=1,C14=J14,L14=""),1,0) -> 0 | AN14: =IF(AND(AK14=1,C14=K14,L14=""),1,0) -> 0 | AO14: =IF(AB14=1,AE14,IF(AF14=1,AG14,IF(AH14=1,AI14,IF(AK14=1,AL14,0)))) -> Finnland | AP14: =IF(AND(E14="mehrtägigen",H14=""),2,IF(OR(AND(E14="mehrtägigen",H14<>""),AND(E14="eintägigen",AC14>TIME(8,,),AD14=0)),3,5)) -> 2 | AQ14: =VLOOKUP(AO14,Pauschalen!$A$1:$D$231,2,FALSE) -> 54 | AR14: =IF(O14<>"",0.2,0) -> 0.2 | AS14: =IF(P14<>"",0.4,0) -> 0 | AT14: =IF(Q14<>"",0.4,0) -> 0 | AU14: =SUM(AR14:AT14) -> 0.2 | AV14: Schiff - Ausschiffung | AW14: Bitte den Ort des Ausschiffungs-Hafen angeben.
A15: =IF(AJ15=1,$AW$12,IF(AM15=1,$AW$13,IF(AN15=1,$AW$14,IF(AD15=1,$AW$11,"")))) | C15: 45317 | D15: Aquise Helsinki | E15: mehrtägigen | L15: Finnland | N15: =IF(OR($AG$1=0,Z15=0,AA15=0),"",VLOOKUP(AO15,VMA[#All],Beispielabrechnung!AP15,FALSE)) -> 54 | O15: Ja | R15: =IF($AG$1=0,"",IF(AND($AG$3=2,N15<>""),N15-(AQ15*AU15),"")) -> 43.2 | U15: =IF(OR($AG$1=0,$AG$3<>2,$AG$5<>1),"",IF(S15<>"",VLOOKUP(S15,Pauschalen!$A$1:$D$231,4,FALSE),"")) | X15: 31 | Z15: =IF(OR(C15="",D15="",E15=""),0,1) -> 1 | AA15: =IF(OR(AND(AK15=1,J15<>"",K15<>"",C15<>J15,C15<>K15),AND(E15="Mehrtägigen",L15<>"")),1,IF(AND(E15="eintägigen",M15<>""),1,0)) -> 1 | AB15: =IF(E15="eintägigen",1,0) -> 0 | AC15: =G15-F15 -> 0 | AD15: =IF(OR(IFERROR(AC15,1)=1,DAY(G15)-DAY(F15)>0),1,0) -> 0 | AE15: =IF(AB15=1,M15,0) -> 0 | AF15: =IF(AND(E15="mehrtägigen",AH15=0,AK15=0),1,0) -> 1 | AG15: =IF(AF15=1,IF(H15<>"endete",L15,IF(M15="",L15,M15)),0) -> Finnland | AH15: =IF(I15="Flugzeug",1,0) -> 0 | AI15: =IF(AH15=1,IF(AND(H15="endete",M15<>""),M15,IF(J15=C15,L15,IF(AND(J15<>C15,K15=C15),L15,IF(AND(C15<>J15,C15<>K15,J15<>"",K15<>""),$AO$3,0)))),0) -> 0 | AJ15: =IF(AND(AH15=1,C15<>J15,C15=K15,L15=""),1,0) -> 0 | AK15: =IF(I15="Schiff",1,0) -> 0 | AL15: =IF(AK15=1,IF(C15=J15,L15,IF(C15=K15,L15,IF(AND(C15<>J15,C15<>K15,J15<>"",K15<>""),$AO$5,0))),0) -> 0 | AM15: =IF(AND(AK15=1,C15=J15,L15=""),1,0) -> 0 | AN15: =IF(AND(AK15=1,C15=K15,L15=""),1,0) -> 0 | AO15: =IF(AB15=1,AE15,IF(AF15=1,AG15,IF(AH15=1,AI15,IF(AK15=1,AL15,0)))) -> Finnland | AP15: =IF(AND(E15="mehrtägigen",H15=""),2,IF(OR(AND(E15="mehrtägigen",H15<>""),AND(E15="eintägigen",AC15>TIME(8,,),AD15=0)),3,5)) -> 2 | AQ15: =VLOOKUP(AO15,Pauschalen!$A$1:$D$231,2,FALSE) -> 54 | AR15: =IF(O15<>"",0.2,0) -> 0.2 | AS15: =IF(P15<>"",0.4,0) -> 0 | AT15: =IF(Q15<>"",0.4,0) -> 0 | AU15: =SUM(AR15:AT15) -> 0.2
A16: =IF(AJ16=1,$AW$12,IF(AM16=1,$AW$13,IF(AN16=1,$AW$14,IF(AD16=1,$AW$11,"")))) | C16: 45318 | D16: Aquise Helsinki | E16: mehrtägigen | H16: endete | I16: Flugzeug | J16: 45318 | L16: Deutschland | M16: Finnland | N16: =IF(OR($AG$1=0,Z16=0,AA16=0),"",VLOOKUP(AO16,VMA[#All],Beispielabrechnung!AP16,FALSE)) -> 36 | O16: Ja | R16: =IF($AG$1=0,"",IF(AND($AG$3=2,N16<>""),N16-(AQ16*AU16),"")) -> 25.2 | U16: =IF(OR($AG$1=0,$AG$3<>2,$AG$5<>1),"",IF(S16<>"",VLOOKUP(S16,Pauschalen!$A$1:$D$231,4,FALSE),"")) | X16: 16 | Z16: =IF(OR(C16="",D16="",E16=""),0,1) -> 1 | AA16: =IF(OR(AND(AK16=1,J16<>"",K16<>"",C16<>J16,C16<>K16),AND(E16="Mehrtägigen",L16<>"")),1,IF(AND(E16="eintägigen",M16<>""),1,0)) -> 1 | AB16: =IF(E16="eintägigen",1,0) -> 0 | AC16: =G16-F16 -> 0 | AD16: =IF(OR(IFERROR(AC16,1)=1,DAY(G16)-DAY(F16)>0),1,0) -> 0 | AE16: =IF(AB16=1,M16,0) -> 0 | AF16: =IF(AND(E16="mehrtägigen",AH16=0,AK16=0),1,0) -> 0 | AG16: =IF(AF16=1,IF(H16<>"endete",L16,IF(M16="",L16,M16)),0) -> 0 | AH16: =IF(I16="Flugzeug",1,0) -> 1 | AI16: =IF(AH16=1,IF(AND(H16="endete",M16<>""),M16,IF(J16=C16,L16,IF(AND(J16<>C16,K16=C16),L16,IF(AND(C16<>J16,C16<>K16,J16<>"",K16<>""),$AO$3,0)))),0) -> Finnland | AJ16: =IF(AND(AH16=1,C16<>J16,C16=K16,L16=""),1,0) -> 0 | AK16: =IF(I16="Schiff",1,0) -> 0 | AL16: =IF(AK16=1,IF(C16=J16,L16,IF(C16=K16,L16,IF(AND(C16<>J16,C16<>K16,J16<>"",K16<>""),$AO$5,0))),0) -> 0 | AM16: =IF(AND(AK16=1,C16=J16,L16=""),1,0) -> 0 | AN16: =IF(AND(AK16=1,C16=K16,L16=""),1,0) -> 0 | AO16: =IF(AB16=1,AE16,IF(AF16=1,AG16,IF(AH16=1,AI16,IF(AK16=1,AL16,0)))) -> Finnland | AP16: =IF(AND(E16="mehrtägigen",H16=""),2,IF(OR(AND(E16="mehrtägigen",H16<>""),AND(E16="eintägigen",AC16>TIME(8,,),AD16=0)),3,5)) -> 3 | AQ16: =VLOOKUP(AO16,Pauschalen!$A$1:$D$231,2,FALSE) -> 54 | AR16: =IF(O16<>"",0.2,0) -> 0.2 | AS16: =IF(P16<>"",0.4,0) -> 0 | AT16: =IF(Q16<>"",0.4,0) -> 0 | AU16: =SUM(AR16:AT16) -> 0.2
A17: =IF(AJ17=1,$AW$12,IF(AM17=1,$AW$13,IF(AN17=1,$AW$14,IF(AD17=1,$AW$11,"")))) | C17: 45342 | D17: Projektbesprechung Huston | E17: mehrtägigen | H17: begann | I17: Flugzeug | J17: 45343 | K17: 45342 | L17: Deutschland | N17: =IF(OR($AG$1=0,Z17=0,AA17=0),"",VLOOKUP(AO17,VMA[#All],Beispielabrechnung!AP17,FALSE)) -> 14 | R17: =IF($AG$1=0,"",IF(AND($AG$3=2,N17<>""),N17-(AQ17*AU17),"")) -> 14 | U17: =IF(OR($AG$1=0,$AG$3<>2,$AG$5<>1),"",IF(S17<>"",VLOOKUP(S17,Pauschalen!$A$1:$D$231,4,FALSE),"")) | Z17: =IF(OR(C17="",D17="",E17=""),0,1) -> 1 | AA17: =IF(OR(AND(AK17=1,J17<>"",K17<>"",C17<>J17,C17<>K17),AND(E17="Mehrtägigen",L17<>"")),1,IF(AND(E17="eintägigen",M17<>""),1,0)) -> 1 | AB17: =IF(E17="eintägigen",1,0) -> 0 | AC17: =G17-F17 -> 0 | AD17: =IF(OR(IFERROR(AC17,1)=1,DAY(G17)-DAY(F17)>0),1,0) -> 0 | AE17: =IF(AB17=1,M17,0) -> 0 | AF17: =IF(AND(E17="mehrtägigen",AH17=0,AK17=0),1,0) -> 0 | AG17: =IF(AF17=1,IF(H17<>"endete",L17,IF(M17="",L17,M17)),0) -> 0 | AH17: =IF(I17="Flugzeug",1,0) -> 1 | AI17: =IF(AH17=1,IF(AND(H17="endete",M17<>""),M17,IF(J17=C17,L17,IF(AND(J17<>C17,K17=C17),L17,IF(AND(C17<>J17,C17<>K17,J17<>"",K17<>""),$AO$3,0)))),0) -> Deutschland | AJ17: =IF(AND(AH17=1,C17<>J17,C17=K17,L17=""),1,0) -> 0 | AK17: =IF(I17="Schiff",1,0) -> 0 | AL17: =IF(AK17=1,IF(C17=J17,L17,IF(C17=K17,L17,IF(AND(C17<>J17,C17<>K17,J17<>"",K17<>""),$AO$5,0))),0) -> 0 | AM17: =IF(AND(AK17=1,C17=J17,L17=""),1,0) -> 0 | AN17: =IF(AND(AK17=1,C17=K17,L17=""),1,0) -> 0 | AO17: =IF(AB17=1,AE17,IF(AF17=1,AG17,IF(AH17=1,AI17,IF(AK17=1,AL17,0)))) -> Deutschland | AP17: =IF(AND(E17="mehrtägigen",H17=""),2,IF(OR(AND(E17="mehrtägigen",H17<>""),AND(E17="eintägigen",AC17>TIME(8,,),AD17=0)),3,5)) -> 3 | AQ17: =VLOOKUP(AO17,Pauschalen!$A$1:$D$231,2,FALSE) -> 28 | AR17: =IF(O17<>"",0.2,0) -> 0 | AS17: =IF(P17<>"",0.4,0) -> 0 | AT17: =IF(Q17<>"",0.4,0) -> 0 | AU17: =SUM(AR17:AT17) -> 0
A18: =IF(AJ18=1,$AW$12,IF(AM18=1,$AW$13,IF(AN18=1,$AW$14,IF(AD18=1,$AW$11,"")))) | C18: 45343 | D18: Projektbesprechung Huston | E18: mehrtägigen | I18: Flugzeug | J18: 45343 | L18: USA: Houston | N18: =IF(OR($AG$1=0,Z18=0,AA18=0),"",VLOOKUP(AO18,VMA[#All],Beispielabrechnung!AP18,FALSE)) -> 62 | O18: Ja | R18: =IF($AG$1=0,"",IF(AND($AG$3=2,N18<>""),N18-(AQ18*AU18),"")) -> 49.6 | S18: USA: Houston | T18: 126 | U18: =IF(OR($AG$1=0,$AG$3<>2,$AG$5<>1),"",IF(S18<>"",VLOOKUP(S18,Pauschalen!$A$1:$D$231,4,FALSE),"")) -> 204 | X18: 32 | Z18: =IF(OR(C18="",D18="",E18=""),0,1) -> 1 | AA18: =IF(OR(AND(AK18=1,J18<>"",K18<>"",C18<>J18,C18<>K18),AND(E18="Mehrtägigen",L18<>"")),1,IF(AND(E18="eintägigen",M18<>""),1,0)) -> 1 | AB18: =IF(E18="eintägigen",1,0) -> 0 | AC18: =G18-F18 -> 0 | AD18: =IF(OR(IFERROR(AC18,1)=1,DAY(G18)-DAY(F18)>0),1,0) -> 0 | AE18: =IF(AB18=1,M18,0) -> 0 | AF18: =IF(AND(E18="mehrtägigen",AH18=0,AK18=0),1,0) -> 0 | AG18: =IF(AF18=1,IF(H18<>"endete",L18,IF(M18="",L18,M18)),0) -> 0 | AH18: =IF(I18="Flugzeug",1,0) -> 1 | AI18: =IF(AH18=1,IF(AND(H18="endete",M18<>""),M18,IF(J18=C18,L18,IF(AND(J18<>C18,K18=C18),L18,IF(AND(C18<>J18,C18<>K18,J18<>"",K18<>""),$AO$3,0)))),0) -> USA: Houston | AJ18: =IF(AND(AH18=1,C18<>J18,C18=K18,L18=""),1,0) -> 0 | AK18: =IF(I18="Schiff",1,0) -> 0 | AL18: =IF(AK18=1,IF(C18=J18,L18,IF(C18=K18,L18,IF(AND(C18<>J18,C18<>K18,J18<>"",K18<>""),$AO$5,0))),0) -> 0 | AM18: =IF(AND(AK18=1,C18=J18,L18=""),1,0) -> 0 | AN18: =IF(AND(AK18=1,C18=K18,L18=""),1,0) -> 0 | AO18: =IF(AB18=1,AE18,IF(AF18=1,AG18,IF(AH18=1,AI18,IF(AK18=1,AL18,0)))) -> USA: Houston | AP18: =IF(AND(E18="mehrtägigen",H18=""),2,IF(OR(AND(E18="mehrtägigen",H18<>""),AND(E18="eintägigen",AC18>TIME(8,,),AD18=0)),3,5)) -> 2 | AQ18: =VLOOKUP(AO18,Pauschalen!$A$1:$D$231,2,FALSE) -> 62 | AR18: =IF(O18<>"",0.2,0) -> 0.2 | AS18: =IF(P18<>"",0.4,0) -> 0 | AT18: =IF(Q18<>"",0.4,0) -> 0 | AU18: =SUM(AR18:AT18) -> 0.2
A19: =IF(AJ19=1,$AW$12,IF(AM19=1,$AW$13,IF(AN19=1,$AW$14,IF(AD19=1,$AW$11,"")))) | C19: 45344 | D19: Projektbesprechung Huston | E19: mehrtägigen | L19: USA: Houston | N19: =IF(OR($AG$1=0,Z19=0,AA19=0),"",VLOOKUP(AO19,VMA[#All],Beispielabrechnung!AP19,FALSE)) -> 62 | O19: Ja | R19: =IF($AG$1=0,"",IF(AND($AG$3=2,N19<>""),N19-(AQ19*AU19),"")) -> 49.6 | S19: USA: Houston | T19: 126 | U19: =IF(OR($AG$1=0,$AG$3<>2,$AG$5<>1),"",IF(S19<>"",VLOOKUP(S19,Pauschalen!$A$1:$D$231,4,FALSE),"")) -> 204 | X19: 52 | Z19: =IF(OR(C19="",D19="",E19=""),0,1) -> 1 | AA19: =IF(OR(AND(AK19=1,J19<>"",K19<>"",C19<>J19,C19<>K19),AND(E19="Mehrtägigen",L19<>"")),1,IF(AND(E19="eintägigen",M19<>""),1,0)) -> 1 | AB19: =IF(E19="eintägigen",1,0) -> 0 | AC19: =G19-F19 -> 0 | AD19: =IF(OR(IFERROR(AC19,1)=1,DAY(G19)-DAY(F19)>0),1,0) -> 0 | AE19: =IF(AB19=1,M19,0) -> 0 | AF19: =IF(AND(E19="mehrtägigen",AH19=0,AK19=0),1,0) -> 1 | AG19: =IF(AF19=1,IF(H19<>"endete",L19,IF(M19="",L19,M19)),0) -> USA: Houston | AH19: =IF(I19="Flugzeug",1,0) -> 0 | AI19: =IF(AH19=1,IF(AND(H19="endete",M19<>""),M19,IF(J19=C19,L19,IF(AND(J19<>C19,K19=C19),L19,IF(AND(C19<>J19,C19<>K19,J19<>"",K19<>""),$AO$3,0)))),0) -> 0 | AJ19: =IF(AND(AH19=1,C19<>J19,C19=K19,L19=""),1,0) -> 0 | AK19: =IF(I19="Schiff",1,0) -> 0 | AL19: =IF(AK19=1,IF(C19=J19,L19,IF(C19=K19,L19,IF(AND(C19<>J19,C19<>K19,J19<>"",K19<>""),$AO$5,0))),0) -> 0 | AM19: =IF(AND(AK19=1,C19=J19,L19=""),1,0) -> 0 | AN19: =IF(AND(AK19=1,C19=K19,L19=""),1,0) -> 0 | AO19: =IF(AB19=1,AE19,IF(AF19=1,AG19,IF(AH19=1,AI19,IF(AK19=1,AL19,0)))) -> USA: Houston | AP19: =IF(AND(E19="mehrtägigen",H19=""),2,IF(OR(AND(E19="mehrtägigen",H19<>""),AND(E19="eintägigen",AC19>TIME(8,,),AD19=0)),3,5)) -> 2 | AQ19: =VLOOKUP(AO19,Pauschalen!$A$1:$D$231,2,FALSE) -> 62 | AR19: =IF(O19<>"",0.2,0) -> 0.2 | AS19: =IF(P19<>"",0.4,0) -> 0 | AT19: =IF(Q19<>"",0.4,0) -> 0 | AU19: =SUM(AR19:AT19) -> 0.2
A20: =IF(AJ20=1,$AW$12,IF(AM20=1,$AW$13,IF(AN20=1,$AW$14,IF(AD20=1,$AW$11,"")))) | C20: 45345 | D20: Besprechung Austin | E20: mehrtägigen | L20: USA: (Übrige) | N20: =IF(OR($AG$1=0,Z20=0,AA20=0),"",VLOOKUP(AO20,VMA[#All],Beispielabrechnung!AP20,FALSE)) -> 59 | O20: Ja | R20: =IF($AG$1=0,"",IF(AND($AG$3=2,N20<>""),N20-(AQ20*AU20),"")) -> 47.2 | S20: USA: (Übrige) | T20: 154 | U20: =IF(OR($AG$1=0,$AG$3<>2,$AG$5<>1),"",IF(S20<>"",VLOOKUP(S20,Pauschalen!$A$1:$D$231,4,FALSE),"")) -> 182 | X20: 215 | Z20: =IF(OR(C20="",D20="",E20=""),0,1) -> 1 | AA20: =IF(OR(AND(AK20=1,J20<>"",K20<>"",C20<>J20,C20<>K20),AND(E20="Mehrtägigen",L20<>"")),1,IF(AND(E20="eintägigen",M20<>""),1,0)) -> 1 | AB20: =IF(E20="eintägigen",1,0) -> 0 | AC20: =G20-F20 -> 0 | AD20: =IF(OR(IFERROR(AC20,1)=1,DAY(G20)-DAY(F20)>0),1,0) -> 0 | AE20: =IF(AB20=1,M20,0) -> 0 | AF20: =IF(AND(E20="mehrtägigen",AH20=0,AK20=0),1,0) -> 1 | AG20: =IF(AF20=1,IF(H20<>"endete",L20,IF(M20="",L20,M20)),0) -> USA: (Übrige) | AH20: =IF(I20="Flugzeug",1,0) -> 0 | AI20: =IF(AH20=1,IF(AND(H20="endete",M20<>""),M20,IF(J20=C20,L20,IF(AND(J20<>C20,K20=C20),L20,IF(AND(C20<>J20,C20<>K20,J20<>"",K20<>""),$AO$3,0)))),0) -> 0 | AJ20: =IF(AND(AH20=1,C20<>J20,C20=K20,L20=""),1,0) -> 0 | AK20: =IF(I20="Schiff",1,0) -> 0 | AL20: =IF(AK20=1,IF(C20=J20,L20,IF(C20=K20,L20,IF(AND(C20<>J20,C20<>K20,J20<>"",K20<>""),$AO$5,0))),0) -> 0 | AM20: =IF(AND(AK20=1,C20=J20,L20=""),1,0) -> 0 | AN20: =IF(AND(AK20=1,C20=K20,L20=""),1,0) -> 0 | AO20: =IF(AB20=1,AE20,IF(AF20=1,AG20,IF(AH20=1,AI20,IF(AK20=1,AL20,0)))) -> USA: (Übrige) | AP20: =IF(AND(E20="mehrtägigen",H20=""),2,IF(OR(AND(E20="mehrtägigen",H20<>""),AND(E20="eintägigen",AC20>TIME(8,,),AD20=0)),3,5)) -> 2 | AQ20: =VLOOKUP(AO20,Pauschalen!$A$1:$D$231,2,FALSE) -> 59 | AR20: =IF(O20<>"",0.2,0) -> 0.2 | AS20: =IF(P20<>"",0.4,0) -> 0 | AT20: =IF(Q20<>"",0.4,0) -> 0 | AU20: =SUM(AR20:AT20) -> 0.2
A21: =IF(AJ21=1,$AW$12,IF(AM21=1,$AW$13,IF(AN21=1,$AW$14,IF(AD21=1,$AW$11,"")))) | C21: 45346 | D21: Besprechung Austin | E21: mehrtägigen | L21: USA: (Übrige) | N21: =IF(OR($AG$1=0,Z21=0,AA21=0),"",VLOOKUP(AO21,VMA[#All],Beispielabrechnung!AP21,FALSE)) -> 59 | O21: Ja | R21: =IF($AG$1=0,"",IF(AND($AG$3=2,N21<>""),N21-(AQ21*AU21),"")) -> 47.2 | S21: USA: (Übrige) | T21: 154 | U21: =IF(OR($AG$1=0,$AG$3<>2,$AG$5<>1),"",IF(S21<>"",VLOOKUP(S21,Pauschalen!$A$1:$D$231,4,FALSE),"")) -> 182 | X21: 48 | Z21: =IF(OR(C21="",D21="",E21=""),0,1) -> 1 | AA21: =IF(OR(AND(AK21=1,J21<>"",K21<>"",C21<>J21,C21<>K21),AND(E21="Mehrtägigen",L21<>"")),1,IF(AND(E21="eintägigen",M21<>""),1,0)) -> 1 | AB21: =IF(E21="eintägigen",1,0) -> 0 | AC21: =G21-F21 -> 0 | AD21: =IF(OR(IFERROR(AC21,1)=1,DAY(G21)-DAY(F21)>0),1,0) -> 0 | AE21: =IF(AB21=1,M21,0) -> 0 | AF21: =IF(AND(E21="mehrtägigen",AH21=0,AK21=0),1,0) -> 1 | AG21: =IF(AF21=1,IF(H21<>"endete",L21,IF(M21="",L21,M21)),0) -> USA: (Übrige) | AH21: =IF(I21="Flugzeug",1,0) -> 0 | AI21: =IF(AH21=1,IF(AND(H21="endete",M21<>""),M21,IF(J21=C21,L21,IF(AND(J21<>C21,K21=C21),L21,IF(AND(C21<>J21,C21<>K21,J21<>"",K21<>""),$AO$3,0)))),0) -> 0 | AJ21: =IF(AND(AH21=1,C21<>J21,C21=K21,L21=""),1,0) -> 0 | AK21: =IF(I21="Schiff",1,0) -> 0 | AL21: =IF(AK21=1,IF(C21=J21,L21,IF(C21=K21,L21,IF(AND(C21<>J21,C21<>K21,J21<>"",K21<>""),$AO$5,0))),0) -> 0 | AM21: =IF(AND(AK21=1,C21=J21,L21=""),1,0) -> 0 | AN21: =IF(AND(AK21=1,C21=K21,L21=""),1,0) -> 0 | AO21: =IF(AB21=1,AE21,IF(AF21=1,AG21,IF(AH21=1,AI21,IF(AK21=1,AL21,0)))) -> USA: (Übrige) | AP21: =IF(AND(E21="mehrtägigen",H21=""),2,IF(OR(AND(E21="mehrtägigen",H21<>""),AND(E21="eintägigen",AC21>TIME(8,,),AD21=0)),3,5)) -> 2 | AQ21: =VLOOKUP(AO21,Pauschalen!$A$1:$D$231,2,FALSE) -> 59 | AR21: =IF(O21<>"",0.2,0) -> 0.2 | AS21: =IF(P21<>"",0.4,0) -> 0 | AT21: =IF(Q21<>"",0.4,0) -> 0 | AU21: =SUM(AR21:AT21) -> 0.2
A22: =IF(AJ22=1,$AW$12,IF(AM22=1,$AW$13,IF(AN22=1,$AW$14,IF(AD22=1,$AW$11,"")))) | C22: 45347 | D22: Austin | E22: mehrtägigen | H22: endete | I22: Flugzeug | J22: 45347 | L22: Deutschland | N22: =IF(OR($AG$1=0,Z22=0,AA22=0),"",VLOOKUP(AO22,VMA[#All],Beispielabrechnung!AP22,FALSE)) -> 14 | O22: Ja | R22: =IF($AG$1=0,"",IF(AND($AG$3=2,N22<>""),N22-(AQ22*AU22),"")) -> 8.4 | U22: =IF(OR($AG$1=0,$AG$3<>2,$AG$5<>1),"",IF(S22<>"",VLOOKUP(S22,Pauschalen!$A$1:$D$231,4,FALSE),"")) | X22: 18 | Z22: =IF(OR(C22="",D22="",E22=""),0,1) -> 1 | AA22: =IF(OR(AND(AK22=1,J22<>"",K22<>"",C22<>J22,C22<>K22),AND(E22="Mehrtägigen",L22<>"")),1,IF(AND(E22="eintägigen",M22<>""),1,0)) -> 1 | AB22: =IF(E22="eintägigen",1,0) -> 0 | AC22: =G22-F22 -> 0 | AD22: =IF(OR(IFERROR(AC22,1)=1,DAY(G22)-DAY(F22)>0),1,0) -> 0 | AE22: =IF(AB22=1,M22,0) -> 0 | AF22: =IF(AND(E22="mehrtägigen",AH22=0,AK22=0),1,0) -> 0 | AG22: =IF(AF22=1,IF(H22<>"endete",L22,IF(M22="",L22,M22)),0) -> 0 | AH22: =IF(I22="Flugzeug",1,0) -> 1 | AI22: =IF(AH22=1,IF(AND(H22="endete",M22<>""),M22,IF(J22=C22,L22,IF(AND(J22<>C22,K22=C22),L22,IF(AND(C22<>J22,C22<>K22,J22<>"",K22<>""),$AO$3,0)))),0) -> Deutschland | AJ22: =IF(AND(AH22=1,C22<>J22,C22=K22,L22=""),1,0) -> 0 | AK22: =IF(I22="Schiff",1,0) -> 0 | AL22: =IF(AK22=1,IF(C22=J22,L22,IF(C22=K22,L22,IF(AND(C22<>J22,C22<>K22,J22<>"",K22<>""),$AO$5,0))),0) -> 0 | AM22: =IF(AND(AK22=1,C22=J22,L22=""),1,0) -> 0 | AN22: =IF(AND(AK22=1,C22=K22,L22=""),1,0) -> 0 | AO22: =IF(AB22=1,AE22,IF(AF22=1,AG22,IF(AH22=1,AI22,IF(AK22=1,AL22,0)))) -> Deutschland | AP22: =IF(AND(E22="mehrtägigen",H22=""),2,IF(OR(AND(E22="mehrtägigen",H22<>""),AND(E22="eintägigen",AC22>TIME(8,,),AD22=0)),3,5)) -> 3 | AQ22: =VLOOKUP(AO22,Pauschalen!$A$1:$D$231,2,FALSE) -> 28 | AR22: =IF(O22<>"",0.2,0) -> 0.2 | AS22: =IF(P22<>"",0.4,0) -> 0 | AT22: =IF(Q22<>"",0.4,0) -> 0 | AU22: =SUM(AR22:AT22) -> 0.2
