Workbook
Name Ja: Beispielabrechnung!#REF!
Name Ja: Reisekostenabrechnung!#REF!
Name Ja: #REF!
Name Liste_27042016: Pauschalen!$A$3:$A$227
Name Liste_DM: #REF!
Name Liste_DM15: #REF!
Name Liste_DMII: [1]data_fill!$C$38:$C$39
Name Liste_DMII: #REF!
Name Liste2016: Pauschalen!$A$3:$A$227
Name Liste26042016: #REF!
Name ListeDM1: #REF!

Sheet Reisekostenabrechnung
A1: Bitte beachten Sie: | C1: Reisekostenabrechnung (Ausland) 2025 | Z1: Alle Angaben gemacht? | AG1: =IF(AND(AG3=1,E3<>"",S3<>""),1,IF(AND(AG3=2,E3<>"",S3<>"",S5<>""),1,0)) -> 0
A3: Blaue Felder | B3: = Eingabefelder | D3: Name: | M3: Zeitraum: | Z3: Erstellerrolle: (Unternehmer = 1; Arbeitnehmer = 2) | AG3: =IF(E5="",0,IF(E5="Unternehmer",1,2)) -> 0 | AI3: Flugzeug: Land bei Flugreisen von mehr als 2 Tagen (LStR 9.6 Abs. 3 Nr. 1) | AO3: Österreich
A5: Roter Rahmen | B5: = Pflichtfelder | D5: Ich bin: | M5: Ich erstelle diese Abrechnung für: | Z5: Bei AN: Erstellung für Arbeitgeber = 1; ESt-Erklärung = 2 | AG5: =IF(AG3<>2,0,IF(S5="Meinen Arbeitgeber",1,IF(S5="Meine Einkommensteuererklärung",2,0))) -> 0 | AI5: Schiff: Land bei Schiffsreisen von mehr als 2 Tagen (LStR 9.6 Abs. 3 Nr. 2) | AO5: Luxemburg
A7: Rote Ecke | B7: = mit Hinweis | C7: Angaben zu den Reisetagen | O7: Verpflegung | S7: Übernachtung | V7: Fahrtkosten
C8: Pflichteingaben | F8: Falls zuterffend | I8: Falls zuterffend | L8: Eingabe nach Hervorhebung
A9: Bitte erfassen Sie jeden Reisetag in einer gesonderten Zeile ! Bitte befüllen Sie jede Zeile Spalte für Spalte, sofern zutreffend, von links nach rechts. | C9: Reise-tag | D9: Reisezweck und Stadt | E9: Reisetag ist Teil einer … Reise | F9: Reisedauer | H9: An diesem Tag … die Reise | I9: An diesem Tag erfolge eine Beförderung mit/auf … | J9: Tag der Landung bzw. Einschiffung | K9: Tag des Abflugs bzw. der Aus-schiffung | L9: Aufenthaltsort (vor 24:00 Uhr erreicht) | M9: Falls an diesem Tag zutreffend: Ort des letzten Tätigwerdens im Ausland ? | N9: Verpflegungs-pauschale | O9: Mahlzeiten gestellt oder separat abgerechnet? | R9: Pauschale abzgl. Kürzungen | S9: Ort der Übernachtung | T9: Aufwendungen lt. Nachweis | U9: Erstattungsfähige Pauchale | V9: Fahrleistung mit privaten Beförderungs-mittelen | X9: Kosten für nicht private Beförd.mittel und sonst. Kosten | Z9: Prüffelder/ Eingaben | AB9: Eintägig | AF9: Mehrtägig (ohne Flugzeug und Schiff) | AH9: Flugzeug | AK9: Schiff | AO9: SVERWEIS für Pauschale | AQ9: Kürzung der Pauschale (Verpflegung) | AV9: Hinweise
A10: Beispielabrechnung und Hinweise (bitte klicken) | C10: Datum | D10: Erläuterungen | E10: eintägigen mehrtägigen | F10: von | G10: bis | H10: begann endete | I10: Flugzeug Schiff | J10: Datum | K10: Datum | L10: Land (Ort) | M10: Land (Ort) | N10: EUR | O10: Frühstück | P10: Mittagessen | Q10: Abendessen | R10: EUR | S10: Land (Ort) | T10: EUR | U10: EUR | V10: Art | W10: km (gesamt) | X10: EUR | Z10: Pflichtfelder vorne | AA10: Pflichtfelder Land | AB10: Tag mit eintägiger Reise? | AC10: Dauer | AD10: Hinweis bei Fehler Uhrzeitformat | AE10: Ermittelung Land | AF10: Tag mit mehrtägiger Reise? | AG10: Ermittelung Land | AH10: Tag mit Flugzeug? | AI10: Ermittelung Land | AJ10: Hinweis bei Landung an anderem Tag | AK10: Tag mit Schiff? | AL10: Ermittelung Land | AM10: Hinweis bei Tag der Einschiffung | AN10: Hinweis bei Tag der Ausschiffung | AO10: Suchkriterium | AP10: Spaltenindex | AQ10: Kürzungs-grundlage | AR10: Kürzungsfaktor Frühstück | AS10: Kürzungsfaktor Mittagessen | AT10: Kürzungsfaktor Abendessen | AU10: Kürzungsfaktor Summe | AV10: Anwendungsfall | AW10: Text
A11: =IF(AJ11=1,$AW$12,IF(AM11=1,$AW$13,IF(AN11=1,$AW$14,IF(AD11=1,$AW$11,"")))) | N11: =IF(OR($AG$1=0,Z11=0,AA11=0),"",VLOOKUP(AO11,VMA[#All],Reisekostenabrechnung!AP11,FALSE)) | R11: =IF($AG$1=0,"",IF(AND($AG$3=2,N11<>""),N11-(AQ11*AU11),"")) | U11: =IF(OR($AG$1=0,$AG$3<>2,$AG$5<>1),"",IF(S11<>"",VLOOKUP(S11,Pauschalen!$A$1:$D$231,4,FALSE),"")) | Z11: =IF(OR(C11="",D11="",E11=""),0,1) -> 0 | AA11: =IF(OR(AND(AK11=1,J11<>"",K11<>"",C11<>J11,C11<>K11),AND(E11="Mehrtägigen",L11<>"")),1,IF(AND(E11="eintägigen",M11<>""),1,0)) -> 0 | AB11: =IF(E11="eintägigen",1,0) -> 0 | AC11: =G11-F11 -> 0 | AD11: =IF(IFERROR(AC11,1)=1,1,IF(DAY(G11)<>DAY(F11),1,0)) -> 0 | AE11: =IF(AB11=1,M11,0) -> 0 | AF11: =IF(AND(E11="mehrtägigen",AH11=0,AK11=0),1,0) -> 0 | AG11: =IF(AF11=1,IF(H11<>"endete",L11,IF(M11="",L11,M11)),0) -> 0 | AH11: =IF(I11="Flugzeug",1,0) -> 0 | AI11: =IF(AH11=1,IF(AND(H11="endete",M11<>""),M11,IF(J11=C11,L11,IF(AND(J11<>C11,K11=C11),L11,IF(AND(C11<>J11,C11<>K11,J11<>"",K11<>""),$AO$3,0)))),0) -> 0 | AJ11: =IF(AND(AH11=1,C11<>J11,C11=K11,L11=""),1,0) -> 0 | AK11: =IF(I11="Schiff",1,0) -> 0 | AL11: =IF(AK11=1,IF(C11=J11,L11,IF(C11=K11,L11,IF(AND(C11<>J11,C11<>K11,J11<>"",K11<>""),$AO$5,0))),0) -> 0 | AM11: =IF(AND(AK11=1,C11=J11,L11=""),1,0) -> 0 | AN11: =IF(AND(AK11=1,C11=K11,L11=""),1,0) -> 0 | AO11: =IF(AB11=1,AE11,IF(AF11=1,AG11,IF(AH11=1,AI11,IF(AK11=1,AL11,0)))) -> 0 | AP11: =IF(AND(E11="mehrtägigen",H11=""),2,IF(OR(AND(E11="mehrtägigen",H11<>""),AND(E11="eintägigen",AC11>TIME(8,,),AD11=0)),3,5)) -> 5 | AQ11: =VLOOKUP(AO11,Pauschalen!$A$1:$D$231,2,FALSE) -> #N/A | AR11: =IF(O11<>"",0.2,0) -> 0 | AS11: =IF(P11<>"",0.4,0) -> 0 | AT11: =IF(Q11<>"",0.4,0) -> 0 | AU11: =SUM(AR11:AT11) -> 0 | AV11: Uhrzeit | AW11: Uhrzeitformat prüfen. Stunden und Minuten mit -> : <- trennen.
A12: =IF(AJ12=1,$AW$12,IF(AM12=1,$AW$13,IF(AN12=1,$AW$14,IF(AD12=1,$AW$11,"")))) | N12: =IF(OR($AG$1=0,Z12=0,AA12=0),"",VLOOKUP(AO12,VMA[#All],Reisekostenabrechnung!AP12,FALSE)) | R12: =IF($AG$1=0,"",IF(AND($AG$3=2,N12<>""),N12-(AQ12*AU12),"")) | U12: =IF(OR($AG$1=0,$AG$3<>2,$AG$5<>1),"",IF(S12<>"",VLOOKUP(S12,Pauschalen!$A$1:$D$231,4,FALSE),"")) | Z12: =IF(OR(C12="",D12="",E12=""),0,1) -> 0 | AA12: =IF(OR(AND(AK12=1,J12<>"",K12<>"",C12<>J12,C12<>K12),AND(E12="Mehrtägigen",L12<>"")),1,IF(AND(E12="eintägigen",M12<>""),1,0)) -> 0 | AB12: =IF(E12="eintägigen",1,0) -> 0 | AC12: =G12-F12 -> 0 | AD12: =IF(IFERROR(AC12,1)=1,1,IF(DAY(G12)<>DAY(F12),1,0)) -> 0 | AE12: =IF(AB12=1,M12,0) -> 0 | AF12: =IF(AND(E12="mehrtägigen",AH12=0,AK12=0),1,0) -> 0 | AG12: =IF(AF12=1,IF(H12<>"endete",L12,IF(M12="",L12,M12)),0) -> 0 | AH12: =IF(I12="Flugzeug",1,0) -> 0 | AI12: =IF(AH12=1,IF(AND(H12="endete",M12<>""),M12,IF(J12=C12,L12,IF(AND(J12<>C12,K12=C12),L12,IF(AND(C12<>J12,C12<>K12,J12<>"",K12<>""),$AO$3,0)))),0) -> 0 | AJ12: =IF(AND(AH12=1,C12<>J12,C12=K12,L12=""),1,0) -> 0 | AK12: =IF(I12="Schiff",1,0) -> 0 | AL12: =IF(AK12=1,IF(C12=J12,L12,IF(C12=K12,L12,IF(AND(C12<>J12,C12<>K12,J12<>"",K12<>""),$AO$5,0))),0) -> 0 | AM12: =IF(AND(AK12=1,C12=J12,L12=""),1,0) -> 0 | AN12: =IF(AND(AK12=1,C12=K12,L12=""),1,0) -> 0 | AO12: =IF(AB12=1,AE12,IF(AF12=1,AG12,IF(AH12=1,AI12,IF(AK12=1,AL12,0)))) -> 0 | AP12: =IF(AND(E12="mehrtägigen",H12=""),2,IF(OR(AND(E12="mehrtägigen",H12<>""),AND(E12="eintägigen",AC12>TIME(8,,),AD12=0)),3,5)) -> 5 | AQ12: =VLOOKUP(AO12,Pauschalen!$A$1:$D$231,2,FALSE) -> #N/A | AR12: =IF(O12<>"",0.2,0) -> 0 | AS12: =IF(P12<>"",0.4,0) -> 0 | AT12: =IF(Q12<>"",0.4,0) -> 0 | AU12: =SUM(AR12:AT12) -> 0 | AV12: Flugzeug | AW12: Bitte den Ort des Abflug-Flughafens angeben.
A13: =IF(AJ13=1,$AW$12,IF(AM13=1,$AW$13,IF(AN13=1,$AW$14,IF(AD13=1,$AW$11,"")))) | N13: =IF(OR($AG$1=0,Z13=0,AA13=0),"",VLOOKUP(AO13,VMA[#All],Reisekostenabrechnung!AP13,FALSE)) | R13: =IF($AG$1=0,"",IF(AND($AG$3=2,N13<>""),N13-(AQ13*AU13),"")) | U13: =IF(OR($AG$1=0,$AG$3<>2,$AG$5<>1),"",IF(S13<>"",VLOOKUP(S13,Pauschalen!$A$1:$D$231,4,FALSE),"")) | Z13: =IF(OR(C13="",D13="",E13=""),0,1) -> 0 | AA13: =IF(OR(AND(AK13=1,J13<>"",K13<>"",C13<>J13,C13<>K13),AND(E13="Mehrtägigen",L13<>"")),1,IF(AND(E13="eintägigen",M13<>""),1,0)) -> 0 | AB13: =IF(E13="eintägigen",1,0) -> 0 | AC13: =G13-F13 -> 0 | AD13: =IF(IFERROR(AC13,1)=1,1,IF(DAY(G13)<>DAY(F13),1,0)) -> 0 | AE13: =IF(AB13=1,M13,0) -> 0 | AF13: =IF(AND(E13="mehrtägigen",AH13=0,AK13=0),1,0) -> 0 | AG13: =IF(AF13=1,IF(H13<>"endete",L13,IF(M13="",L13,M13)),0) -> 0 | AH13: =IF(I13="Flugzeug",1,0) -> 0 | AI13: =IF(AH13=1,IF(AND(H13="endete",M13<>""),M13,IF(J13=C13,L13,IF(AND(J13<>C13,K13=C13),L13,IF(AND(C13<>J13,C13<>K13,J13<>"",K13<>""),$AO$3,0)))),0) -> 0 | AJ13: =IF(AND(AH13=1,C13<>J13,C13=K13,L13=""),1,0) -> 0 | AK13: =IF(I13="Schiff",1,0) -> 0 | AL13: =IF(AK13=1,IF(C13=J13,L13,IF(C13=K13,L13,IF(AND(C13<>J13,C13<>K13,J13<>"",K13<>""),$AO$5,0))),0) -> 0 | AM13: =IF(AND(AK13=1,C13=J13,L13=""),1,0) -> 0 | AN13: =IF(AND(AK13=1,C13=K13,L13=""),1,0) -> 0 | AO13: =IF(AB13=1,AE13,IF(AF13=1,AG13,IF(AH13=1,AI13,IF(AK13=1,AL13,0)))) -> 0 | AP13: =IF(AND(E13="mehrtägigen",H13=""),2,IF(OR(AND(E13="mehrtägigen",H13<>""),AND(E13="eintägigen",AC13>TIME(8,,),AD13=0)),3,5)) -> 5 | AQ13: =VLOOKUP(AO13,Pauschalen!$A$1:$D$231,2,FALSE) -> #N/A | AR13: =IF(O13<>"",0.2,0) -> 0 | AS13: =IF(P13<>"",0.4,0) -> 0 | AT13: =IF(Q13<>"",0.4,0) -> 0 | AU13: =SUM(AR13:AT13) -> 0 | AV13: Schiff - Einschiffung | AW13: Bitte den Ort des Einschiffungs-Hafens angeben.
A14: =IF(AJ14=1,$AW$12,IF(AM14=1,$AW$13,IF(AN14=1,$AW$14,IF(AD14=1,$AW$11,"")))) | N14: =IF(OR($AG$1=0,Z14=0,AA14=0),"",VLOOKUP(AO14,VMA[#All],Reisekostenabrechnung!AP14,FALSE)) | R14: =IF($AG$1=0,"",IF(AND($AG$3=2,N14<>""),N14-(AQ14*AU14),"")) | U14: =IF(OR($AG$1=0,$AG$3<>2,$AG$5<>1),"",IF(S14<>"",VLOOKUP(S14,Pauschalen!$A$1:$D$231,4,FALSE),"")) | Z14: =IF(OR(C14="",D14="",E14=""),0,1) -> 0 | AA14: =IF(OR(AND(AK14=1,J14<>"",K14<>"",C14<>J14,C14<>K14),AND(E14="Mehrtägigen",L14<>"")),1,IF(AND(E14="eintägigen",M14<>""),1,0)) -> 0 | AB14: =IF(E14="eintägigen",1,0) -> 0 | AC14: =G14-F14 -> 0 | AD14: =IF(IFERROR(AC14,1)=1,1,IF(DAY(G14)<>DAY(F14),1,0)) -> 0 | AE14: =IF(AB14=1,M14,0) -> 0 | AF14: =IF(AND(E14="mehrtägigen",AH14=0,AK14=0),1,0) -> 0 | AG14: =IF(AF14=1,IF(H14<>"endete",L14,IF(M14="",L14,M14)),0) -> 0 | AH14: =IF(I14="Flugzeug",1,0) -> 0 | AI14: =IF(AH14=1,IF(AND(H14="endete",M14<>""),M14,IF(J14=C14,L14,IF(AND(J14<>C14,K14=C14),L14,IF(AND(C14<>J14,C14<>K14,J14<>"",K14<>""),$AO$3,0)))),0) -> 0 | AJ14: =IF(AND(AH14=1,C14<>J14,C14=K14,L14=""),1,0) -> 0 | AK14: =IF(I14="Schiff",1,0) -> 0 | AL14: =IF(AK14=1,IF(C14=J14,L14,IF(C14=K14,L14,IF(AND(C14<>J14,C14<>K14,J14<>"",K14<>""),$AO$5,0))),0) -> 0 | AM14: =IF(AND(AK14=1,C14=J14,L14=""),1,0) -> 0 | AN14: =IF(AND(AK14=1,C14=K14,L14=""),1,0) -> 0 | AO14: =IF(AB14=1,AE14,IF(AF14=1,AG14,IF(AH14=1,AI14,IF(AK14=1,AL14,0)))) -> 0 | AP14: =IF(AND(E14="mehrtägigen",H14=""),2,IF(OR(AND(E14="mehrtägigen",H14<>""),AND(E14="eintägigen",AC14>TIME(8,,),AD14=0)),3,5)) -> 5 | AQ14: =VLOOKUP(AO14,Pauschalen!$A$1:$D$231,2,FALSE) -> #N/A | AR14: =IF(O14<>"",0.2,0) -> 0 | AS14: =IF(P14<>"",0.4,0) -> 0 | AT14: =IF(Q14<>"",0.4,0) -> 0 | AU14: =SUM(AR14:AT14) -> 0 | AV14: Schiff - Ausschiffung | AW14: Bitte den Ort des Ausschiffungs-Hafen angeben.
A15: =IF(AJ15=1,$AW$12,IF(AM15=1,$AW$13,IF(AN15=1,$AW$14,IF(AD15=1,$AW$11,"")))) | N15: =IF(OR($AG$1=0,Z15=0,AA15=0),"",VLOOKUP(AO15,VMA[#All],Reisekostenabrechnung!AP15,FALSE)) | R15: =IF($AG$1=0,"",IF(AND($AG$3=2,N15<>""),N15-(AQ15*AU15),"")) | U15: =IF(OR($AG$1=0,$AG$3<>2,$AG$5<>1),"",IF(S15<>"",VLOOKUP(S15,Pauschalen!$A$1:$D$231,4,FALSE),"")) | Z15: =IF(OR(C15="",D15="",E15=""),0,1) -> 0 | AA15: =IF(OR(AND(AK15=1,J15<>"",K15<>"",C15<>J15,C15<>K15),AND(E15="Mehrtägigen",L15<>"")),1,IF(AND(E15="eintägigen",M15<>""),1,0)) -> 0 | AB15: =IF(E15="eintägigen",1,0) -> 0 | AC15: =G15-F15 -> 0 | AD15: =IF(IFERROR(AC15,1)=1,1,IF(DAY(G15)<>DAY(F15),1,0)) -> 0 | AE15: =IF(AB15=1,M15,0) -> 0 | AF15: =IF(AND(E15="mehrtägigen",AH15=0,AK15=0),1,0) -> 0 | AG15: =IF(AF15=1,IF(H15<>"endete",L15,IF(M15="",L15,M15)),0) -> 0 | AH15: =IF(I15="Flugzeug",1,0) -> 0 | AI15: =IF(AH15=1,IF(AND(H15="endete",M15<>""),M15,IF(J15=C15,L15,IF(AND(J15<>C15,K15=C15),L15,IF(AND(C15<>J15,C15<>K15,J15<>"",K15<>""),$AO$3,0)))),0) -> 0 | AJ15: =IF(AND(AH15=1,C15<>J15,C15=K15,L15=""),1,0) -> 0 | AK15: =IF(I15="Schiff",1,0) -> 0 | AL15: =IF(AK15=1,IF(C15=J15,L15,IF(C15=K15,L15,IF(AND(C15<>J15,C15<>K15,J15<>"",K15<>""),$AO$5,0))),0) -> 0 | AM15: =IF(AND(AK15=1,C15=J15,L15=""),1,0) -> 0 | AN15: =IF(AND(AK15=1,C15=K15,L15=""),1,0) -> 0 | AO15: =IF(AB15=1,AE15,IF(AF15=1,AG15,IF(AH15=1,AI15,IF(AK15=1,AL15,0)))) -> 0 | AP15: =IF(AND(E15="mehrtägigen",H15=""),2,IF(OR(AND(E15="mehrtägigen",H15<>""),AND(E15="eintägigen",AC15>TIME(8,,),AD15=0)),3,5)) -> 5 | AQ15: =VLOOKUP(AO15,Pauschalen!$A$1:$D$231,2,FALSE) -> #N/A | AR15: =IF(O15<>"",0.2,0) -> 0 | AS15: =IF(P15<>"",0.4,0) -> 0 | AT15: =IF(Q15<>"",0.4,0) -> 0 | AU15: =SUM(AR15:AT15) -> 0
A16: =IF(AJ16=1,$AW$12,IF(AM16=1,$AW$13,IF(AN16=1,$AW$14,IF(AD16=1,$AW$11,"")))) | N16: =IF(OR($AG$1=0,Z16=0,AA16=0),"",VLOOKUP(AO16,VMA[#All],Reisekostenabrechnung!AP16,FALSE)) | R16: =IF($AG$1=0,"",IF(AND($AG$3=2,N16<>""),N16-(AQ16*AU16),"")) | U16: =IF(OR($AG$1=0,$AG$3<>2,$AG$5<>1),"",IF(S16<>"",VLOOKUP(S16,Pauschalen!$A$1:$D$231,4,FALSE),"")) | Z16: =IF(OR(C16="",D16="",E16=""),0,1) -> 0 | AA16: =IF(OR(AND(AK16=1,J16<>"",K16<>"",C16<>J16,C16<>K16),AND(E16="Mehrtägigen",L16<>"")),1,IF(AND(E16="eintägigen",M16<>""),1,0)) -> 0 | AB16: =IF(E16="eintägigen",1,0) -> 0 | AC16: =G16-F16 -> 0 | AD16: =IF(IFERROR(AC16,1)=1,1,IF(DAY(G16)<>DAY(F16),1,0)) -> 0 | AE16: =IF(AB16=1,M16,0) -> 0 | AF16: =IF(AND(E16="mehrtägigen",AH16=0,AK16=0),1,0) -> 0 | AG16: =IF(AF16=1,IF(H16<>"endete",L16,IF(M16="",L16,M16)),0) -> 0 | AH16: =IF(I16="Flugzeug",1,0) -> 0 | AI16: =IF(AH16=1,IF(AND(H16="endete",M16<>""),M16,IF(J16=C16,L16,IF(AND(J16<>C16,K16=C16),L16,IF(AND(C16<>J16,C16<>K16,J16<>"",K16<>""),$AO$3,0)))),0) -> 0 | AJ16: =IF(AND(AH16=1,C16<>J16,C16=K16,L16=""),1,0) -> 0 | AK16: =IF(I16="Schiff",1,0) -> 0 | AL16: =IF(AK16=1,IF(C16=J16,L16,IF(C16=K16,L16,IF(AND(C16<>J16,C16<>K16,J16<>"",K16<>""),$AO$5,0))),0) -> 0 | AM16: =IF(AND(AK16=1,C16=J16,L16=""),1,0) -> 0 | AN16: =IF(AND(AK16=1,C16=K16,L16=""),1,0) -> 0 | AO16: =IF(AB16=1,AE16,IF(AF16=1,AG16,IF(AH16=1,AI16,IF(AK16=1,AL16,0)))) -> 0 | AP16: =IF(AND(E16="mehrtägigen",H16=""),2,IF(OR(AND(E16="mehrtägigen",H16<>""),AND(E16="eintägigen",AC16>TIME(8,,),AD16=0)),3,5)) -> 5 | AQ16: =VLOOKUP(AO16,Pauschalen!$A$1:$D$231,2,FALSE) -> #N/A | AR16: =IF(O16<>"",0.2,0) -> 0 | AS16: =IF(P16<>"",0.4,0) -> 0 | AT16: =IF(Q16<>"",0.4,0) -> 0 | AU16: =SUM(AR16:AT16) -> 0
A17: =IF(AJ17=1,$AW$12,IF(AM17=1,$AW$13,IF(AN17=1,$AW$14,IF(AD17=1,$AW$11,"")))) | N17: =IF(OR($AG$1=0,Z17=0,AA17=0),"",VLOOKUP(AO17,VMA[#All],Reisekostenabrechnung!AP17,FALSE)) | R17: =IF($AG$1=0,"",IF(AND($AG$3=2,N17<>""),N17-(AQ17*AU17),"")) | U17: =IF(OR($AG$1=0,$AG$3<>2,$AG$5<>1),"",IF(S17<>"",VLOOKUP(S17,Pauschalen!$A$1:$D$231,4,FALSE),"")) | Z17: =IF(OR(C17="",D17="",E17=""),0,1) -> 0 | AA17: =IF(OR(AND(AK17=1,J17<>"",K17<>"",C17<>J17,C17<>K17),AND(E17="Mehrtägigen",L17<>"")),1,IF(AND(E17="eintägigen",M17<>""),1,0)) -> 0 | AB17: =IF(E17="eintägigen",1,0) -> 0 | AC17: =G17-F17 -> 0 | AD17: =IF(IFERROR(AC17,1)=1,1,IF(DAY(G17)<>DAY(F17),1,0)) -> 0 | AE17: =IF(AB17=1,M17,0) -> 0 | AF17: =IF(AND(E17="mehrtägigen",AH17=0,AK17=0),1,0) -> 0 | AG17: =IF(AF17=1,IF(H17<>"endete",L17,IF(M17="",L17,M17)),0) -> 0 | AH17: =IF(I17="Flugzeug",1,0) -> 0 | AI17: =IF(AH17=1,IF(AND(H17="endete",M17<>""),M17,IF(J17=C17,L17,IF(AND(J17<>C17,K17=C17),L17,IF(AND(C17<>J17,C17<>K17,J17<>"",K17<>""),$AO$3,0)))),0) -> 0 | AJ17: =IF(AND(AH17=1,C17<>J17,C17=K17,L17=""),1,0) -> 0 | AK17: =IF(I17="Schiff",1,0) -> 0 | AL17: =IF(AK17=1,IF(C17=J17,L17,IF(C17=K17,L17,IF(AND(C17<>J17,C17<>K17,J17<>"",K17<>""),$AO$5,0))),0) -> 0 | AM17: =IF(AND(AK17=1,C17=J17,L17=""),1,0) -> 0 | AN17: =IF(AND(AK17=1,C17=K17,L17=""),1,0) -> 0 | AO17: =IF(AB17=1,AE17,IF(AF17=1,AG17,IF(AH17=1,AI17,IF(AK17=1,AL17,0)))) -> 0 | AP17: =IF(AND(E17="mehrtägigen",H17=""),2,IF(OR(AND(E17="mehrtägigen",H17<>""),AND(E17="eintägigen",AC17>TIME(8,,),AD17=0)),3,5)) -> 5 | AQ17: =VLOOKUP(AO17,Pauschalen!$A$1:$D$231,2,FALSE) -> #N/A | AR17: =IF(O17<>"",0.2,0) -> 0 | AS17: =IF(P17<>"",0.4,0) -> 0 | AT17: =IF(Q17<>"",0.4,0) -> 0 | AU17: =SUM(AR17:AT17) -> 0
A18: =IF(AJ18=1,$AW$12,IF(AM18=1,$AW$13,IF(AN18=1,$AW$14,IF(AD18=1,$AW$11,"")))) | N18: =IF(OR($AG$1=0,Z18=0,AA18=0),"",VLOOKUP(AO18,VMA[#All],Reisekostenabrechnung!AP18,FALSE)) | R18: =IF($AG$1=0,"",IF(AND($AG$3=2,N18<>""),N18-(AQ18*AU18),"")) | U18: =IF(OR($AG$1=0,$AG$3<>2,$AG$5<>1),"",IF(S18<>"",VLOOKUP(S18,Pauschalen!$A$1:$D$231,4,FALSE),"")) | Z18: =IF(OR(C18="",D18="",E18=""),0,1) -> 0 | AA18: =IF(OR(AND(AK18=1,J18<>"",K18<>"",C18<>J18,C18<>K18),AND(E18="Mehrtägigen",L18<>"")),1,IF(AND(E18="eintägigen",M18<>""),1,0)) -> 0 | AB18: =IF(E18="eintägigen",1,0) -> 0 | AC18: =G18-F18 -> 0 | AD18: =IF(IFERROR(AC18,1)=1,1,IF(DAY(G18)<>DAY(F18),1,0)) -> 0 | AE18: =IF(AB18=1,M18,0) -> 0 | AF18: =IF(AND(E18="mehrtägigen",AH18=0,AK18=0),1,0) -> 0 | AG18: =IF(AF18=1,IF(H18<>"endete",L18,IF(M18="",L18,M18)),0) -> 0 | AH18: =IF(I18="Flugzeug",1,0) -> 0 | AI18: =IF(AH18=1,IF(AND(H18="endete",M18<>""),M18,IF(J18=C18,L18,IF(AND(J18<>C18,K18=C18),L18,IF(AND(C18<>J18,C18<>K18,J18<>"",K18<>""),$AO$3,0)))),0) -> 0 | AJ18: =IF(AND(AH18=1,C18<>J18,C18=K18,L18=""),1,0) -> 0 | AK18: =IF(I18="Schiff",1,0) -> 0 | AL18: =IF(AK18=1,IF(C18=J18,L18,IF(C18=K18,L18,IF(AND(C18<>J18,C18<>K18,J18<>"",K18<>""),$AO$5,0))),0) -> 0 | AM18: =IF(AND(AK18=1,C18=J18,L18=""),1,0) -> 0 | AN18: =IF(AND(AK18=1,C18=K18,L18=""),1,0) -> 0 | AO18: =IF(AB18=1,AE18,IF(AF18=1,AG18,IF(AH18=1,AI18,IF(AK18=1,AL18,0)))) -> 0 | AP18: =IF(AND(E18="mehrtägigen",H18=""),2,IF(OR(AND(E18="mehrtägigen",H18<>""),AND(E18="eintägigen",AC18>TIME(8,,),AD18=0)),3,5)) -> 5 | AQ18: =VLOOKUP(AO18,Pauschalen!$A$1:$D$231,2,FALSE) -> #N/A | AR18: =IF(O18<>"",0.2,0) -> 0 | AS18: =IF(P18<>"",0.4,0) -> 0 | AT18: =IF(Q18<>"",0.4,0) -> 0 | AU18: =SUM(AR18:AT18) -> 0
A19: =IF(AJ19=1,$AW$12,IF(AM19=1,$AW$13,IF(AN19=1,$AW$14,IF(AD19=1,$AW$11,"")))) | N19: =IF(OR($AG$1=0,Z19=0,AA19=0),"",VLOOKUP(AO19,VMA[#All],Reisekostenabrechnung!AP19,FALSE)) | R19: =IF($AG$1=0,"",IF(AND($AG$3=2,N19<>""),N19-(AQ19*AU19),"")) | U19: =IF(OR($AG$1=0,$AG$3<>2,$AG$5<>1),"",IF(S19<>"",VLOOKUP(S19,Pauschalen!$A$1:$D$231,4,FALSE),"")) | Z19: =IF(OR(C19="",D19="",E19=""),0,1) -> 0 | AA19: =IF(OR(AND(AK19=1,J19<>"",K19<>"",C19<>J19,C19<>K19),AND(E19="Mehrtägigen",L19<>"")),1,IF(AND(E19="eintägigen",M19<>""),1,0)) -> 0 | AB19: =IF(E19="eintägigen",1,0) -> 0 | AC19: =G19-F19 -> 0 | AD19: =IF(IFERROR(AC19,1)=1,1,IF(DAY(G19)<>DAY(F19),1,0)) -> 0 | AE19: =IF(AB19=1,M19,0) -> 0 | AF19: =IF(AND(E19="mehrtägigen",AH19=0,AK19=0),1,0) -> 0 | AG19: =IF(AF19=1,IF(H19<>"endete",L19,IF(M19="",L19,M19)),0) -> 0 | AH19: =IF(I19="Flugzeug",1,0) -> 0 | AI19: =IF(AH19=1,IF(AND(H19="endete",M19<>""),M19,IF(J19=C19,L19,IF(AND(J19<>C19,K19=C19),L19,IF(AND(C19<>J19,C19<>K19,J19<>"",K19<>""),$AO$3,0)))),0) -> 0 | AJ19: =IF(AND(AH19=1,C19<>J19,C19=K19,L19=""),1,0) -> 0 | AK19: =IF(I19="Schiff",1,0) -> 0 | AL19: =IF(AK19=1,IF(C19=J19,L19,IF(C19=K19,L19,IF(AND(C19<>J19,C19<>K19,J19<>"",K19<>""),$AO$5,0))),0) -> 0 | AM19: =IF(AND(AK19=1,C19=J19,L19=""),1,0) -> 0 | AN19: =IF(AND(AK19=1,C19=K19,L19=""),1,0) -> 0 | AO19: =IF(AB19=1,AE19,IF(AF19=1,AG19,IF(AH19=1,AI19,IF(AK19=1,AL19,0)))) -> 0 | AP19: =IF(AND(E19="mehrtägigen",H19=""),2,IF(OR(AND(E19="mehrtägigen",H19<>""),AND(E19="eintägigen",AC19>TIME(8,,),AD19=0)),3,5)) -> 5 | AQ19: =VLOOKUP(AO19,Pauschalen!$A$1:$D$231,2,FALSE) -> #N/A | AR19: =IF(O19<>"",0.2,0) -> 0 | AS19: =IF(P19<>"",0.4,0) -> 0 | AT19: =IF(Q19<>"",0.4,0) -> 0 | AU19: =SUM(AR19:AT19) -> 0
A20: =IF(AJ20=1,$AW$12,IF(AM20=1,$AW$13,IF(AN20=1,$AW$14,IF(AD20=1,$AW$11,"")))) | N20: =IF(OR($AG$1=0,Z20=0,AA20=0),"",VLOOKUP(AO20,VMA[#All],Reisekostenabrechnung!AP20,FALSE)) | R20: =IF($AG$1=0,"",IF(AND($AG$3=2,N20<>""),N20-(AQ20*AU20),"")) | U20: =IF(OR($AG$1=0,$AG$3<>2,$AG$5<>1),"",IF(S20<>"",VLOOKUP(S20,Pauschalen!$A$1:$D$231,4,FALSE),"")) | Z20: =IF(OR(C20="",D20="",E20=""),0,1) -> 0 | AA20: =IF(OR(AND(AK20=1,J20<>"",K20<>"",C20<>J20,C20<>K20),AND(E20="Mehrtägigen",L20<>"")),1,IF(AND(E20="eintägigen",M20<>""),1,0)) -> 0 | AB20: =IF(E20="eintägigen",1,0) -> 0 | AC20: =G20-F20 -> 0 | AD20: =IF(IFERROR(AC20,1)=1,1,IF(DAY(G20)<>DAY(F20),1,0)) -> 0 | AE20: =IF(AB20=1,M20,0) -> 0 | AF20: =IF(AND(E20="mehrtägigen",AH20=0,AK20=0),1,0) -> 0 | AG20: =IF(AF20=1,IF(H20<>"endete",L20,IF(M20="",L20,M20)),0) -> 0 | AH20: =IF(I20="Flugzeug",1,0) -> 0 | AI20: =IF(AH20=1,IF(AND(H20="endete",M20<>""),M20,IF(J20=C20,L20,IF(AND(J20<>C20,K20=C20),L20,IF(AND(C20<>J20,C20<>K20,J20<>"",K20<>""),$AO$3,0)))),0) -> 0 | AJ20: =IF(AND(AH20=1,C20<>J20,C20=K20,L20=""),1,0) -> 0 | AK20: =IF(I20="Schiff",1,0) -> 0 | AL20: =IF(AK20=1,IF(C20=J20,L20,IF(C20=K20,L20,IF(AND(C20<>J20,C20<>K20,J20<>"",K20<>""),$AO$5,0))),0) -> 0 | AM20: =IF(AND(AK20=1,C20=J20,L20=""),1,0) -> 0 | AN20: =IF(AND(AK20=1,C20=K20,L20=""),1,0) -> 0 | AO20: =IF(AB20=1,AE20,IF(AF20=1,AG20,IF(AH20=1,AI20,IF(AK20=1,AL20,0)))) -> 0 | AP20: =IF(AND(E20="mehrtägigen",H20=""),2,IF(OR(AND(E20="mehrtägigen",H20<>""),AND(E20="eintägigen",AC20>TIME(8,,),AD20=0)),3,5)) -> 5 | AQ20: =VLOOKUP(AO20,Pauschalen!$A$1:$D$231,2,FALSE) -> #N/A | AR20: =IF(O20<>"",0.2,0) -> 0 | AS20: =IF(P20<>"",0.4,0) -> 0 | AT20: =IF(Q20<>"",0.4,0) -> 0 | AU20: =SUM(AR20:AT20) -> 0
A21: =IF(AJ21=1,$AW$12,IF(AM21=1,$AW$13,IF(AN21=1,$AW$14,IF(AD21=1,$AW$11,"")))) | N21: =IF(OR($AG$1=0,Z21=0,AA21=0),"",VLOOKUP(AO21,VMA[#All],Reisekostenabrechnung!AP21,FALSE)) | R21: =IF($AG$1=0,"",IF(AND($AG$3=2,N21<>""),N21-(AQ21*AU21),"")) | U21: =IF(OR($AG$1=0,$AG$3<>2,$AG$5<>1),"",IF(S21<>"",VLOOKUP(S21,Pauschalen!$A$1:$D$231,4,FALSE),"")) | Z21: =IF(OR(C21="",D21="",E21=""),0,1) -> 0 | AA21: =IF(OR(AND(AK21=1,J21<>"",K21<>"",C21<>J21,C21<>K21),AND(E21="Mehrtägigen",L21<>"")),1,IF(AND(E21="eintägigen",M21<>""),1,0)) -> 0 | AB21: =IF(E21="eintägigen",1,0) -> 0 | AC21: =G21-F21 -> 0 | AD21: =IF(IFERROR(AC21,1)=1,1,IF(DAY(G21)<>DAY(F21),1,0)) -> 0 | AE21: =IF(AB21=1,M21,0) -> 0 | AF21: =IF(AND(E21="mehrtägigen",AH21=0,AK21=0),1,0) -> 0 | AG21: =IF(AF21=1,IF(H21<>"endete",L21,IF(M21="",L21,M21)),0) -> 0 | AH21: =IF(I21="Flugzeug",1,0) -> 0 | AI21: =IF(AH21=1,IF(AND(H21="endete",M21<>""),M21,IF(J21=C21,L21,IF(AND(J21<>C21,K21=C21),L21,IF(AND(C21<>J21,C21<>K21,J21<>"",K21<>""),$AO$3,0)))),0) -> 0 | AJ21: =IF(AND(AH21=1,C21<>J21,C21=K21,L21=""),1,0) -> 0 | AK21: =IF(I21="Schiff",1,0) -> 0 | AL21: =IF(AK21=1,IF(C21=J21,L21,IF(C21=K21,L21,IF(AND(C21<>J21,C21<>K21,J21<>"",K21<>""),$AO$5,0))),0) -> 0 | AM21: =IF(AND(AK21=1,C21=J21,L21=""),1,0) -> 0 | AN21: =IF(AND(AK21=1,C21=K21,L21=""),1,0) -> 0 | AO21: =IF(AB21=1,AE21,IF(AF21=1,AG21,IF(AH21=1,AI21,IF(AK21=1,AL21,0)))) -> 0 | AP21: =IF(AND(E21="mehrtägigen",H21=""),2,IF(OR(AND(E21="mehrtägigen",H21<>""),AND(E21="eintägigen",AC21>TIME(8,,),AD21=0)),3,5)) -> 5 | AQ21: =VLOOKUP(AO21,Pauschalen!$A$1:$D$231,2,FALSE) -> #N/A | AR21: =IF(O21<>"",0.2,0) -> 0 | AS21: =IF(P21<>"",0.4,0) -> 0 | AT21: =IF(Q21<>"",0.4,0) -> 0 | AU21: =SUM(AR21:AT21) -> 0
A22: =IF(AJ22=1,$AW$12,IF(AM22=1,$AW$13,IF(AN22=1,$AW$14,IF(AD22=1,$AW$11,"")))) | N22: =IF(OR($AG$1=0,Z22=0,AA22=0),"",VLOOKUP(AO22,VMA[#All],Reisekostenabrechnung!AP22,FALSE)) | R22: =IF($AG$1=0,"",IF(AND($AG$3=2,N22<>""),N22-(AQ22*AU22),"")) | U22: =IF(OR($AG$1=0,$AG$3<>2,$AG$5<>1),"",IF(S22<>"",VLOOKUP(S22,Pauschalen!$A$1:$D$231,4,FALSE),"")) | Z22: =IF(OR(C22="",D22="",E22=""),0,1) -> 0 | AA22: =IF(OR(AND(AK22=1,J22<>"",K22<>"",C22<>J22,C22<>K22),AND(E22="Mehrtägigen",L22<>"")),1,IF(AND(E22="eintägigen",M22<>""),1,0)) -> 0 | AB22: =IF(E22="eintägigen",1,0) -> 0 | AC22: =G22-F22 -> 0 | AD22: =IF(IFERROR(AC22,1)=1,1,IF(DAY(G22)<>DAY(F22),1,0)) -> 0 | AE22: =IF(AB22=1,M22,0) -> 0 | AF22: =IF(AND(E22="mehrtägigen",AH22=0,AK22=0),1,0) -> 0 | AG22: =IF(AF22=1,IF(H22<>"endete",L22,IF(M22="",L22,M22)),0) -> 0 | AH22: =IF(I22="Flugzeug",1,0) -> 0 | AI22: =IF(AH22=1,IF(AND(H22="endete",M22<>""),M22,IF(J22=C22,L22,IF(AND(J22<>C22,K22=C22),L22,IF(AND(C22<>J22,C22<>K22,J22<>"",K22<>""),$AO$3,0)))),0) -> 0 | AJ22: =IF(AND(AH22=1,C22<>J22,C22=K22,L22=""),1,0) -> 0 | AK22: =IF(I22="Schiff",1,0) -> 0 | AL22: =IF(AK22=1,IF(C22=J22,L22,IF(C22=K22,L22,IF(AND(C22<>J22,C22<>K22,J22<>"",K22<>""),$AO$5,0))),0) -> 0 | AM22: =IF(AND(AK22=1,C22=J22,L22=""),1,0) -> 0 | AN22: =IF(AND(AK22=1,C22=K22,L22=""),1,0) -> 0 | AO22: =IF(AB22=1,AE22,IF(AF22=1,AG22,IF(AH22=1,AI22,IF(AK22=1,AL22,0)))) -> 0 | AP22: =IF(AND(E22="mehrtägigen",H22=""),2,IF(OR(AND(E22="mehrtägigen",H22<>""),AND(E22="eintägigen",AC22>TIME(8,,),AD22=0)),3,5)) -> 5 | AQ22: =VLOOKUP(AO22,Pauschalen!$A$1:$D$231,2,FALSE) -> #N/A | AR22: =IF(O22<>"",0.2,0) -> 0 | AS22: =IF(P22<>"",0.4,0) -> 0 | AT22: =IF(Q22<>"",0.4,0) -> 0 | AU22: =SUM(AR22:AT22) -> 0
A23: =IF(AJ23=1,$AW$12,IF(AM23=1,$AW$13,IF(AN23=1,$AW$14,IF(AD23=1,$AW$11,"")))) | N23: =IF(OR($AG$1=0,Z23=0,AA23=0),"",VLOOKUP(AO23,VMA[#All],Reisekostenabrechnung!AP23,FALSE)) | R23: =IF($AG$1=0,"",IF(AND($AG$3=2,N23<>""),N23-(AQ23*AU23),"")) | U23: =IF(OR($AG$1=0,$AG$3<>2,$AG$5<>1),"",IF(S23<>"",VLOOKUP(S23,Pauschalen!$A$1:$D$231,4,FALSE),"")) | Z23: =IF(OR(C23="",D23="",E23=""),0,1) -> 0 | AA23: =IF(OR(AND(AK23=1,J23<>"",K23<>"",C23<>J23,C23<>K23),AND(E23="Mehrtägigen",L23<>"")),1,IF(AND(E23="eintägigen",M23<>""),1,0)) -> 0 | AB23: =IF(E23="eintägigen",1,0) -> 0 | AC23: =G23-F23 -> 0 | AD23: =IF(IFERROR(AC23,1)=1,1,IF(DAY(G23)<>DAY(F23),1,0)) -> 0 | AE23: =IF(AB23=1,M23,0) -> 0 | AF23: =IF(AND(E23="mehrtägigen",AH23=0,AK23=0),1,0) -> 0 | AG23: =IF(AF23=1,IF(H23<>"endete",L23,IF(M23="",L23,M23)),0) -> 0 | AH23: =IF(I23="Flugzeug",1,0) -> 0 | AI23: =IF(AH23=1,IF(AND(H23="endete",M23<>""),M23,IF(J23=C23,L23,IF(AND(J23<>C23,K23=C23),L23,IF(AND(C23<>J23,C23<>K23,J23<>"",K23<>""),$AO$3,0)))),0) -> 0 | AJ23: =IF(AND(AH23=1,C23<>J23,C23=K23,L23=""),1,0) -> 0 | AK23: =IF(I23="Schiff",1,0) -> 0 | AL23: =IF(AK23=1,IF(C23=J23,L23,IF(C23=K23,L23,IF(AND(C23<>J23,C23<>K23,J23<>"",K23<>""),$AO$5,0))),0) -> 0 | AM23: =IF(AND(AK23=1,C23=J23,L23=""),1,0) -> 0 | AN23: =IF(AND(AK23=1,C23=K23,L23=""),1,0) -> 0 | AO23: =IF(AB23=1,AE23,IF(AF23=1,AG23,IF(AH23=1,AI23,IF(AK23=1,AL23,0)))) -> 0 | AP23: =IF(AND(E23="mehrtägigen",H23=""),2,IF(OR(AND(E23="mehrtägigen",H23<>""),AND(E23="eintägigen",AC23>TIME(8,,),AD23=0)),3,5)) -> 5 | AQ23: =VLOOKUP(AO23,Pauschalen!$A$1:$D$231,2,FALSE) -> #N/A | AR23: =IF(O23<>"",0.2,0) -> 0 | AS23: =IF(P23<>"",0.4,0) -> 0 | AT23: =IF(Q23<>"",0.4,0) -> 0 | AU23: =SUM(AR23:AT23) -> 0
A24: =IF(AJ24=1,$AW$12,IF(AM24=1,$AW$13,IF(AN24=1,$AW$14,IF(AD24=1,$AW$11,"")))) | N24: =IF(OR($AG$1=0,Z24=0,AA24=0),"",VLOOKUP(AO24,VMA[#All],Reisekostenabrechnung!AP24,FALSE)) | R24: =IF($AG$1=0,"",IF(AND($AG$3=2,N24<>""),N24-(AQ24*AU24),"")) | U24: =IF(OR($AG$1=0,$AG$3<>2,$AG$5<>1),"",IF(S24<>"",VLOOKUP(S24,Pauschalen!$A$1:$D$231,4,FALSE),"")) | Z24: =IF(OR(C24="",D24="",E24=""),0,1) -> 0 | AA24: =IF(OR(AND(AK24=1,J24<>"",K24<>"",C24<>J24,C24<>K24),AND(E24="Mehrtägigen",L24<>"")),1,IF(AND(E24="eintägigen",M24<>""),1,0)) -> 0 | AB24: =IF(E24="eintägigen",1,0) -> 0 | AC24: =G24-F24 -> 0 | AD24: =IF(IFERROR(AC24,1)=1,1,IF(DAY(G24)<>DAY(F24),1,0)) -> 0 | AE24: =IF(AB24=1,M24,0) -> 0 | AF24: =IF(AND(E24="mehrtägigen",AH24=0,AK24=0),1,0) -> 0 | AG24: =IF(AF24=1,IF(H24<>"endete",L24,IF(M24="",L24,M24)),0) -> 0 | AH24: =IF(I24="Flugzeug",1,0) -> 0 | AI24: =IF(AH24=1,IF(AND(H24="endete",M24<>""),M24,IF(J24=C24,L24,IF(AND(J24<>C24,K24=C24),L24,IF(AND(C24<>J24,C24<>K24,J24<>"",K24<>""),$AO$3,0)))),0) -> 0 | AJ24: =IF(AND(AH24=1,C24<>J24,C24=K24,L24=""),1,0) -> 0 | AK24: =IF(I24="Schiff",1,0) -> 0 | AL24: =IF(AK24=1,IF(C24=J24,L24,IF(C24=K24,L24,IF(AND(C24<>J24,C24<>K24,J24<>"",K24<>""),$AO$5,0))),0) -> 0 | AM24: =IF(AND(AK24=1,C24=J24,L24=""),1,0) -> 0 | AN24: =IF(AND(AK24=1,C24=K24,L24=""),1,0) -> 0 | AO24: =IF(AB24=1,AE24,IF(AF24=1,AG24,IF(AH24=1,AI24,IF(AK24=1,AL24,0)))) -> 0 | AP24: =IF(AND(E24="mehrtägigen",H24=""),2,IF(OR(AND(E24="mehrtägigen",H24<>""),AND(E24="eintägigen",AC24>TIME(8,,),AD24=0)),3,5)) -> 5 | AQ24: =VLOOKUP(AO24,Pauschalen!$A$1:$D$231,2,FALSE) -> #N/A | AR24: =IF(O24<>"",0.2,0) -> 0 | AS24: =IF(P24<>"",0.4,0) -> 0 | AT24: =IF(Q24<>"",0.4,0) -> 0 | AU24: =SUM(AR24:AT24) -> 0
A25: =IF(AJ25=1,$AW$12,IF(AM25=1,$AW$13,IF(AN25=1,$AW$14,IF(AD25=1,$AW$11,"")))) | N25: =IF(OR($AG$1=0,Z25=0,AA25=0),"",VLOOKUP(AO25,VMA[#All],Reisekostenabrechnung!AP25,FALSE)) | R25: =IF($AG$1=0,"",IF(AND($AG$3=2,N25<>""),N25-(AQ25*AU25),"")) | U25: =IF(OR($AG$1=0,$AG$3<>2,$AG$5<>1),"",IF(S25<>"",VLOOKUP(S25,Pauschalen!$A$1:$D$231,4,FALSE),"")) | Z25: =IF(OR(C25="",D25="",E25=""),0,1) -> 0 | AA25: =IF(OR(AND(AK25=1,J25<>"",K25<>"",C25<>J25,C25<>K25),AND(E25="Mehrtägigen",L25<>"")),1,IF(AND(E25="eintägigen",M25<>""),1,0)) -> 0 | AB25: =IF(E25="eintägigen",1,0) -> 0 | AC25: =G25-F25 -> 0 | AD25: =IF(IFERROR(AC25,1)=1,1,IF(DAY(G25)<>DAY(F25),1,0)) -> 0 | AE25: =IF(AB25=1,M25,0) -> 0 | AF25: =IF(AND(E25="mehrtägigen",AH25=0,AK25=0),1,0) -> 0 | AG25: =IF(AF25=1,IF(H25<>"endete",L25,IF(M25="",L25,M25)),0) -> 0 | AH25: =IF(I25="Flugzeug",1,0) -> 0 | AI25: =IF(AH25=1,IF(AND(H25="endete",M25<>""),M25,IF(J25=C25,L25,IF(AND(J25<>C25,K25=C25),L25,IF(AND(C25<>J25,C25<>K25,J25<>"",K25<>""),$AO$3,0)))),0) -> 0 | AJ25: =IF(AND(AH25=1,C25<>J25,C25=K25,L25=""),1,0) -> 0 | AK25: =IF(I25="Schiff",1,0) -> 0 | AL25: =IF(AK25=1,IF(C25=J25,L25,IF(C25=K25,L25,IF(AND(C25<>J25,C25<>K25,J25<>"",K25<>""),$AO$5,0))),0) -> 0 | AM25: =IF(AND(AK25=1,C25=J25,L25=""),1,0) -> 0 | AN25: =IF(AND(AK25=1,C25=K25,L25=""),1,0) -> 0 | AO25: =IF(AB25=1,AE25,IF(AF25=1,AG25,IF(AH25=1,AI25,IF(AK25=1,AL25,0)))) -> 0 | AP25: =IF(AND(E25="mehrtägigen",H25=""),2,IF(OR(AND(E25="mehrtägigen",H25<>""),AND(E25="eintägigen",AC25>TIME(8,,),AD25=0)),3,5)) -> 5 | AQ25: =VLOOKUP(AO25,Pauschalen!$A$1:$D$231,2,FALSE) -> #N/A | AR25: =IF(O25<>"",0.2,0) -> 0 | AS25: =IF(P25<>"",0.4,0) -> 0 | AT25: =IF(Q25<>"",0.4,0) -> 0 | AU25: =SUM(AR25:AT25) -> 0
C26: Summen | N26: =SUM(N11:N25) -> 0 | R26: =SUM(R11:R25) -> 0 | T26: =SUM(T11:T25) -> 0 | U26: =SUM(U11:U25) -> 0 | X26: =SUM(X11:X25) -> 0
C28: =IF(AG3=2,"Verpflegungsmehraufwendungen abzgl. Kürzungen","Verpflegungsmehraufwendungen") -> Verpflegungsmehraufwendungen | L28: =IF(OR($AG$3=1,AND($AG$3=2,$AG$5=2)),"Ansatz mit:",IF($AG$5=1,"Erstattung erfolgt lt. betriebl. Vereinbarung:","")) | W28: =IF(AG5=1,IF(AB28=3,T28,IF(AB28=1,R26,0)),IF(AG3=1,N26,R26)) -> 0 | Z28: Ansatz Erstattung: | AB28: =IF(M28="in Höhe der gesetzlichen Pauschalen",1,IF(M28="mit einem individuellen Betrag in Höhe von:",3,""))
C30: Übernachtungskosten | L30: =IF(OR($AG$3=1,AND($AG$3=2,$AG$5=2)),"Ansatz mit:",IF($AG$5=1,"Erstattung erfolgt lt. betriebl. Vereinbarung:","")) | W30: =IF(OR(AG3=0,AG3=1),0,IF(AG5=2,T26,IF(AB30=1,T26,IF(AB30=2,U26,IF(AB30=3,T30,0))))) -> 0 | AB30: =IF(M30="in Höhe der tatsächlichen Aufwendungen",1,IF(M30="in Höhe der erstattungsfähigen Pauschalen",2,IF(M30="mit einem individuellen Betrag in Höhe von:",3,"")))
C32: Fahrtkosten | E32: PKW: | H32: Fahrleistung: | I32: =SUMIFS(W11:W25,V11:V25,"pkw") -> 0 | L32: =IF(OR($AG$3=1,AND($AG$3=2,$AG$5=2)),"Ansatz mit:",IF($AG$5=1,"Erstattung erfolgt lt. betriebl. Vereinbarung:","")) | S32: =IF(OR($AG$3=1,AB32=1,AND($AG$3=2,$AG$5=2)),""&AG32&" € / km","€ / km") -> € / km | T32: =IF(AND($AG$3=2,$AG$5=1),IF(AND(M32<>"",AB32=1),AG32*I32,IF(AND(M32<>"",AB32=3),R32*I32,0)),AG32*I32) -> 0 | W32: =IF(AND(AG3=1,AG1=1),X26+SUM(T32:T34),IF(AB35=1,X26,IF(AB35=3,T35,0))+SUM(T32:T34)) -> 0 | AB32: =IF(M32="nach dem gesetzlichen km-satz von:",1,IF(M32="mit einem km-satz von:",3,"")) | AF32: gesetzlicher Satz: | AG32: 0.3
C33: private Beförderungsmittel | E33: sonst. KFZ: | H33: Fahrleistung: | I33: =SUMIFS(W11:W25,V11:V25,"sonst. kfz") -> 0 | L33: =IF(OR($AG$3=1,AND($AG$3=2,$AG$5=2)),"Ansatz mit:",IF($AG$5=1,"Erstattung erfolgt lt. betriebl. Vereinbarung:","")) | S33: =IF(OR($AG$3=1,AB33=1,AND($AG$3=2,$AG$5=2)),""&AG33&" € / km","€ / km") -> € / km | T33: =IF(AND($AG$3=2,$AG$5=1),IF(AND(M33<>"",AB33=1),AG33*I33,IF(AND(M33<>"",AB33=3),R33*I33,0)),AG33*I33) -> 0 | AB33: =IF(M33="nach dem gesetzlichen km-satz von:",1,IF(M33="mit einem km-satz von:",3,"")) | AF33: gesetzlicher Satz: | AG33: 0.2
E34: Fahrrad: | H34: Fahrleistung: | I34: =SUMIFS(W11:W25,V11:V25,"fahrrad") -> 0 | L34: =IF(OR($AG$3=1,AND($AG$3=2,$AG$5=2)),"Ansatz mit:",IF($AG$5=1,"Erstattung erfolgt lt. betriebl. Vereinbarung:","")) | M34: =IF($AG$5=1,"mit:","")
C35: nicht private Beförderungsmittel und sonst. Kosten | L35: =IF(OR($AG$3=1,AND($AG$3=2,$AG$5=2)),"Ansatz mit:",IF($AG$5=1,"Erstattung erfolgt lt. betriebl. Vereinbarung:","")) | AB35: =IF(M35="in Höhe der tatsächlichen Aufwendungen",1,IF(M35="mit einem individuellen Betrag in Höhe von:",3,""))
C37: Auszahlung Reisekosten für den Zeitraum: | I37: =IF((($S$3)="")," ",$S$3) | W37: =W28+W30+W32 -> 0

Sheet Beispielabrechnung
C1: Reisekostenabrechnung (Ausland) 2025 | Z1: Alle Angaben gemacht? | AG1: =IF(AND(AG3=1,E3<>"",S3<>""),1,IF(AND(AG3=2,E3<>"",S3<>"",S5<>""),1,0)) -> 1
D3: Name: | E3: Max Muster | M3: Zeitraum: | S3: 1. Quartal | Z3: Erstellerrolle: (Unternehmer = 1; Arbeitnehmer = 2) | AG3: =IF(E5="",0,IF(E5="Unternehmer",1,2)) -> 2 | AI3: Flugzeug: Land bei Flugreisen von mehr als 2 Tagen (LStR 9.6 Abs. 3 Nr. 1) | AO3: Österreich
D5: Ich bin: | E5: Arbeitnehmer | M5: Ich erstelle diese Abrechnung für: | S5: Meinen Arbeitgeber | Z5: Bei AN: Erstellung für Arbeitgeber = 1; ESt-Erklärung = 2 | AG5: =IF(AG3<>2,0,IF(S5="Meinen Arbeitgeber",1,IF(S5="Meine Einkommensteuererklärung",2,0))) -> 1 | AI5: Schiff: Land bei Schiffsreisen von mehr als 2 Tagen (LStR 9.6 Abs. 3 Nr. 2) | AO5: Luxemburg
C7: Angaben zu den Reisetagen | O7: Verpflegung | S7: Übernachtung | V7: Fahrtkosten
C8: Pflichteingaben | F8: Falls zuterffend | I8: Falls zuterffend | L8: Eingabe nach Hervorhebung
C9: Reise-tag | D9: Reisezweck und Stadt | E9: Reisetag ist Teil einer … Reise | F9: Reisedauer | H9: An diesem Tag … die Reise | I9: An diesem Tag erfolge eine Beförderung mit/auf … | J9: Tag der Landung bzw. Einschiffung | K9: Tag des Abflugs bzw. der Aus-schiffung | L9: Aufenthaltsort (vor 24:00 Uhr erreicht) | M9: Falls an diesem Tag zutreffend: Ort des letzten Tätigwerdens im Ausland ? | N9: Verpflegungs-pauschale | O9: Mahlzeiten gestellt oder separat abgerechnet? | R9: Pauschale abzgl. Kürzungen | S9: Ort der Übernachtung | T9: Aufwendungen lt. Nachweis | U9: Erstattungsfähige Pauchale | V9: Fahrleistung mit privaten Beförderungs-mittelen | X9: Kosten für nicht private Beförd.mittel und sonst. Kosten | Z9: Prüffelder/ Eingaben | AB9: Eintägig | AF9: Mehrtägig (ohne Flugzeug und Schiff) | AH9: Flugzeug | AK9: Schiff | AO9: SVERWEIS für Pauschale | AQ9: Kürzung der Pauschale (Verpflegung) | AV9: Hinweise
A10: Zurück | C10: Datum | D10: Erläuterungen | E10: eintägigen mehrtägigen | F10: von | G10: bis | H10: begann endete | I10: Flugzeug Schiff | J10: Datum | K10: Datum | L10: Land (Ort) | M10: Land (Ort) | N10: EUR | O10: Frühstück | P10: Mittagessen | Q10: Abendessen | R10: EUR | S10: Land (Ort) | T10: EUR | U10: EUR | V10: Art | W10: km (gesamt) | X10: EUR | Z10: Pflichtfelder vorne | AA10: Pflichtfelder Land | AB10: Tag mit eintägiger Reise? | AC10: Dauer | AD10: Hinweis bei Fehler Uhrzeitformat | AE10: Ermittelung Land | AF10: Tag mit mehrtägiger Reise? | AG10: Ermittelung Land | AH10: Tag mit Flugzeug? | AI10: Ermittelung Land | AJ10: Hinweis bei Landung an anderem Tag | AK10: Tag mit Schiff? | AL10: Ermittelung Land | AM10: Hinweis bei Tag der Einschiffung | AN10: Hinweis bei Tag der Ausschiffung | AO10: Suchkriterium | AP10: Spaltenindex | AQ10: Kürzungs-grundlage | AR10: Kürzungsfaktor Frühstück | AS10: Kürzungsfaktor Mittagessen | AT10: Kürzungsfaktor Abendessen | AU10: Kürzungsfaktor Summe | AV10: Anwendungsfall | AW10: Text
A11: =IF(AJ11=1,$AW$12,IF(AM11=1,$AW$13,IF(AN11=1,$AW$14,IF(AD11=1,$AW$11,"")))) | C11: 45307 | D11: Meeting Niederlassung Usti nad Labem | E11: eintägigen | F11: 0.3125 | G11: 0.71875 | M11: Tschechische Republik | N11: =IF(OR($AG$1=0,Z11=0,AA11=0),"",VLOOKUP(AO11,VMA[#All],Beispielabrechnung!AP11,FALSE)) -> 21 | P11: Ja | R11: =IF($AG$1=0,"",IF(AND($AG$3=2,N11<>""),N11-(AQ11*AU11),"")) -> 8.2 | U11: =IF(OR($AG$1=0,$AG$3<>2,$AG$5<>1),"",IF(S11<>"",VLOOKUP(S11,Pauschalen!$A$1:$D$231,4,FALSE),"")) | V11: sonst. Kfz | W11: 151 | X11: 6.5 | Z11: =IF(OR(C11="",D11="",E11=""),0,1) -> 1 | AA11: =IF(OR(AND(AK11=1,J11<>"",K11<>"",C11<>J11,C11<>K11),AND(E11="Mehrtägigen",L11<>"")),1,IF(AND(E11="eintägigen",M11<>""),1,0)) -> 1 | AB11: =IF(E11="eintägigen",1,0) -> 1 | AC11: =G11-F11 -> 0.40625 | AD11: =IF(OR(IFERROR(AC11,1)=1,DAY(G11)-DAY(F11)>0),1,0) -> 0 | AE11: =IF(AB11=1,M11,0) -> Tschechische Republik | AF11: =IF(AND(E11="mehrtägigen",AH11=0,AK11=0),1,0) -> 0 | AG11: =IF(AF11=1,IF(H11<>"endete",L11,IF(M11="",L11,M11)),0) -> 0 | AH11: =IF(I11="Flugzeug",1,0) -> 0 | AI11: =IF(AH11=1,IF(AND(H11="endete",M11<>""),M11,IF(J11=C11,L11,IF(AND(J11<>C11,K11=C11),L11,IF(AND(C11<>J11,C11<>K11,J11<>"",K11<>""),$AO$3,0)))),0) -> 0 | AJ11: =IF(AND(AH11=1,C11<>J11,C11=K11,L11=""),1,0) -> 0 | AK11: =IF(I11="Schiff",1,0) -> 0 | AL11: =IF(AK11=1,IF(C11=J11,L11,IF(C11=K11,L11,IF(AND(C11<>J11,C11<>K11,J11<>"",K11<>""),$AO$5,0))),0) -> 0 | AM11: =IF(AND(AK11=1,C11=J11,L11=""),1,0) -> 0 | AN11: =IF(AND(AK11=1,C11=K11,L11=""),1,0) -> 0 | AO11: =IF(AB11=1,AE11,IF(AF11=1,AG11,IF(AH11=1,AI11,IF(AK11=1,AL11,0)))) -> Tschechische Republik | AP11: =IF(AND(E11="mehrtägigen",H11=""),2,IF(OR(AND(E11="mehrtägigen",H11<>""),AND(E11="eintägigen",AC11>TIME(8,,),AD11=0)),3,5)) -> 3 | AQ11: =VLOOKUP(AO11,Pauschalen!$A$1:$D$231,2,FALSE) -> 32 | AR11: =IF(O11<>"",0.2,0) -> 0 | AS11: =IF(P11<>"",0.4,0) -> 0.4 | AT11: =IF(Q11<>"",0.4,0) -> 0 | AU11: =SUM(AR11:AT11) -> 0.4 | AV11: Uhrzeit | AW11: Uhrzeitformat prüfen. Stunden und Minuten mit -> : <- trennen.
A12: Bitte beachten Sie auch die Hinweise. | C12: 45314 | D12: Aquise Helsinki | E12: mehrtägigen | H12: begann | L12: Deutschland | N12: =IF(OR($AG$1=0,Z12=0,AA12=0),"",VLOOKUP(AO12,VMA[#All],Beispielabrechnung!AP12,FALSE)) -> 14 | R12: =IF($AG$1=0,"",IF(AND($AG$3=2,N12<>""),N12-(AQ12*AU12),"")) -> 14 | U12: =IF(OR($AG$1=0,$AG$3<>2,$AG$5<>1),"",IF(S12<>"",VLOOKUP(S12,Pauschalen!$A$1:$D$231,4,FALSE),"")) | X12: 113 | Z12: =IF(OR(C12="",D12="",E12=""),0,1) -> 1 | AA12: =IF(OR(AND(AK12=1,J12<>"",K12<>"",C12<>J12,C12<>K12),AND(E12="Mehrtägigen",L12<>"")),1,IF(AND(E12="eintägigen",M12<>""),1,0)) -> 1 | AB12: =IF(E12="eintägigen",1,0) -> 0 | AC12: =G12-F12 -> 0 | AD12: =IF(OR(IFERROR(AC12,1)=1,DAY(G12)-DAY(F12)>0),1,0) -> 0 | AE12: =IF(AB12=1,M12,0) -> 0 | AF12: =IF(AND(E12="mehrtägigen",AH12=0,AK12=0),1,0) -> 1 | AG12: =IF(AF12=1,IF(H12<>"endete",L12,IF(M12="",L12,M12)),0) -> Deutschland | AH12: =IF(I12="Flugzeug",1,0) -> 0 | AI12: =IF(AH12=1,IF(AND(H12="endete",M12<>""),M12,IF(J12=C12,L12,IF(AND(J12<>C12,K12=C12),L12,IF(AND(C12<>J12,C12<>K12,J12<>"",K12<>""),$AO$3,0)))),0) -> 0 | AJ12: =IF(AND(AH12=1,C12<>J12,C12=K12,L12=""),1,0) -> 0 | AK12: =IF(I12="Schiff",1,0) -> 0 | AL12: =IF(AK12=1,IF(C12=J12,L12,IF(C12=K12,L12,IF(AND(C12<>J12,C12<>K12,J12<>"",K12<>""),$AO$5,0))),0) -> 0 | AM12: =IF(AND(AK12=1,C12=J12,L12=""),1,0) -> 0 | AN12: =IF(AND(AK12=1,C12=K12,L12=""),1,0) -> 0 | AO12: =IF(AB12=1,AE12,IF(AF12=1,AG12,IF(AH12=1,AI12,IF(AK12=1,AL12,0)))) -> Deutschland | AP12: =IF(AND(E12="mehrtägigen",H12=""),2,IF(OR(AND(E12="mehrtägigen",H12<>""),AND(E12="eintägigen",AC12>TIME(8,,),AD12=0)),3,5)) -> 3 | AQ12: =VLOOKUP(AO12,Pauschalen!$A$1:$D$231,2,FALSE) -> 28 | AR12: =IF(O12<>"",0.2,0) -> 0 | AS12: =IF(P12<>"",0.4,0) -> 0 | AT12: =IF(Q12<>"",0.4,0) -> 0 | AU12: =SUM(AR12:AT12) -> 0 | AV12: Flugzeug | AW12: Bitte den Ort des Abflug-Flughafens angeben.
C13: 45315 | D13: Aquise Helsinki | E13: mehrtägigen | I13: Schiff | J13: 45316 | K13: 45315 | L13: Deutschland | N13: =IF(OR($AG$1=0,Z13=0,AA13=0),"",VLOOKUP(AO13,VMA[#All],Beispielabrechnung!AP13,FALSE)) -> 28 | O13: Ja | R13: =IF($AG$1=0,"",IF(AND($AG$3=2,N13<>""),N13-(AQ13*AU13),"")) -> 22.4 | U13: =IF(OR($AG$1=0,$AG$3<>2,$AG$5<>1),"",IF(S13<>"",VLOOKUP(S13,Pauschalen!$A$1:$D$231,4,FALSE),"")) | X13: 365 | Z13: =IF(OR(C13="",D13="",E13=""),0,1) -> 1 | AA13: =IF(OR(AND(AK13=1,J13<>"",K13<>"",C13<>J13,C13<>K13),AND(E13="Mehrtägigen",L13<>"")),1,IF(AND(E13="eintägigen",M13<>""),1,0)) -> 1 | AB13: =IF(E13="eintägigen",1,0) -> 0 | AC13: =G13-F13 -> 0 | AD13: =IF(OR(IFERROR(AC13,1)=1,DAY(G13)-DAY(F13)>0),1,0) -> 0 | AE13: =IF(AB13=1,M13,0) -> 0 | AF13: =IF(AND(E13="mehrtägigen",AH13=0,AK13=0),1,0) -> 0 | AG13: =IF(AF13=1,IF(H13<>"endete",L13,IF(M13="",L13,M13)),0) -> 0 | AH13: =IF(I13="Flugzeug",1,0) -> 0 | AI13: =IF(AH13=1,IF(AND(H13="endete",M13<>""),M13,IF(J13=C13,L13,IF(AND(J13<>C13,K13=C13),L13,IF(AND(C13<>J13,C13<>K13,J13<>"",K13<>""),$AO$3,0)))),0) -> 0 | AJ13: =IF(AND(AH13=1,C13<>J13,C13=K13,L13=""),1,0) -> 0 | AK13: =IF(I13="Schiff",1,0) -> 1 | AL13: =IF(AK13=1,IF(C13=J13,L13,IF(C13=K13,L13,IF(AND(C13<>J13,C13<>K13,J13<>"",K13<>""),$AO$5,0))),0) -> Deutschland | AM13: =IF(AND(AK13=1,C13=J13,L13=""),1,0) -> 0 | AN13: =IF(AND(AK13=1,C13=K13,L13=""),1,0) -> 0 | AO13: =IF(AB13=1,AE13,IF(AF13=1,AG13,IF(AH13=1,AI13,IF(AK13=1,AL13,0)))) -> Deutschland | AP13: =IF(AND(E13="mehrtägigen",H13=""),2,IF(OR(AND(E13="mehrtägigen",H13<>""),AND(E13="eintägigen",AC13>TIME(8,,),AD13=0)),3,5)) -> 2 | AQ13: =VLOOKUP(AO13,Pauschalen!$A$1:$D$231,2,FALSE) -> 28 | AR13: =IF(O13<>"",0.2,0) -> 0.2 | AS13: =IF(P13<>"",0.4,0) -> 0 | AT13: =IF(Q13<>"",0.4,0) -> 0 | AU13: =SUM(AR13:AT13) -> 0.2 | AV13: Schiff - Einschiffung | AW13: Bitte den Ort des Einschiffungs-Hafens angeben.
A14: =IF(AJ14=1,$AW$12,IF(AM14=1,$AW$13,IF(AN14=1,$AW$14,IF(AD14=1,$AW$11,"")))) | C14: 45316 | D14: Aquise Helsinki | E14: mehrtägigen | I14: Schiff | J14: 45316 | L14: Finnland | N14: =IF(OR($AG$1=0,Z14=0,AA14=0),"",VLOOKUP(AO14,VMA[#All],Beispielabrechnung!AP14,FALSE)) -> 54 | O14: Ja | R14: =IF($AG$1=0,"",IF(AND($AG$3=2,N14<>""),N14-(AQ14*AU14),"")) -> 43.2 | U14: =IF(OR($AG$1=0,$AG$3<>2,$AG$5<>1),"",IF(S14<>"",VLOOKUP(S14,Pauschalen!$A$1:$D$231,4,FALSE),"")) | X14: 25 | Z14: =IF(OR(C14="",D14="",E14=""),0,1) -> 1 | AA14: =IF(OR(AND(AK14=1,J14<>"",K14<>"",C14<>J14,C14<>K14),AND(E14="Mehrtägigen",L14<>"")),1,IF(AND(E14="eintägigen",M14<>""),1,0)) -> 1 | AB14: =IF(E14="eintägigen",1,0) -> 0 | AC14: =G14-F14 -> 0 | AD14: =IF(OR(IFERROR(AC14,1)=1,DAY(G14)-DAY(F14)>0),1,0) -> 0 | AE14: =IF(AB14=1,M14,0) -> 0 | AF14: =IF(AND(E14="mehrtägigen",AH14=0,AK14=0),1,0) -> 0 | AG14: =IF(AF14=1,IF(H14<>"endete",L14,IF(M14="",L14,M14)),0) -> 0 | AH14: =IF(I14="Flugzeug",1,0) -> 0 | AI14: =IF(AH14=1,IF(AND(H14="endete",M14<>""),M14,IF(J14=C14,L14,IF(AND(J14<>C14,K14=C14),L14,IF(AND(C14<>J14,C14<>K14,J14<>"",K14<>""),$AO$3,0)))),0) -> 0 | AJ14: =IF(AND(AH14=1,C14<>J14,C14=K14,L14=""),1,0) -> 0 | AK14: =IF(I14="Schiff",1,0) -> 1 | AL14: =IF(AK14=1,IF(C14=J14,L14,IF(C14=K14,L14,IF(AND(C14<>J14,C14<>K14,J14<>"",K14<>""),$AO$5,0))),0) -> Finnland | AM14: =IF(AND(AK14=1,C14=J14,L14=""),1,0) -> 0 | AN14: =IF(AND(AK14=1,C14=K14,L14=""),1,0) -> 0 | AO14: =IF(AB14=1,AE14,IF(AF14=1,AG14,IF(AH14=1,AI14,IF(AK14=1,AL14,0)))) -> Finnland | AP14: =IF(AND(E14="mehrtägigen",H14=""),2,IF(OR(AND(E14="mehrtägigen",H14<>""),AND(E14="eintägigen",AC14>TIME(8,,),AD14=0)),3,5)) -> 2 | AQ14: =VLOOKUP(AO14,Pauschalen!$A$1:$D$231,2,FALSE) -> 54 | AR14: =IF(O14<>"",0.2,0) -> 0.2 | AS14: =IF(P14<>"",0.4,0) -> 0 | AT14: =IF(Q14<>"",0.4,0) -> 0 | AU14: =SUM(AR14:AT14) -> 0.2 | AV14: Schiff - Ausschiffung | AW14: Bitte den Ort des Ausschiffungs-Hafen angeben.
A15: =IF(AJ15=1,$AW$12,IF(AM15=1,$AW$13,IF(AN15=1,$AW$14,IF(AD15=1,$AW$11,"")))) | C15: 45317 | D15: Aquise Helsinki | E15: mehrtägigen | L15: Finnland | N15: =IF(OR($AG$1=0,Z15=0,AA15=0),"",VLOOKUP(AO15,VMA[#All],Beispielabrechnung!AP15,FALSE)) -> 54 | O15: Ja | R15: =IF($AG$1=0,"",IF(AND($AG$3=2,N15<>""),N15-(AQ15*AU15),"")) -> 43.2 | U15: =IF(OR($AG$1=0,$AG$3<>2,$AG$5<>1),"",IF(S15<>"",VLOOKUP(S15,Pauschalen!$A$1:$D$231,4,FALSE),"")) | X15: 31 | Z15: =IF(OR(C15="",D15="",E15=""),0,1) -> 1 | AA15: =IF(OR(AND(AK15=1,J15<>"",K15<>"",C15<>J15,C15<>K15),AND(E15="Mehrtägigen",L15<>"")),1,IF(AND(E15="eintägigen",M15<>""),1,0)) -> 1 | AB15: =IF(E15="eintägigen",1,0) -> 0 | AC15: =G15-F15 -> 0 | AD15: =IF(OR(IFERROR(AC15,1)=1,DAY(G15)-DAY(F15)>0),1,0) -> 0 | AE15: =IF(AB15=1,M15,0) -> 0 | AF15: =IF(AND(E15="mehrtägigen",AH15=0,AK15=0),1,0) -> 1 | AG15: =IF(AF15=1,IF(H15<>"endete",L15,IF(M15="",L15,M15)),0) -> Finnland | AH15: =IF(I15="Flugzeug",1,0) -> 0 | AI15: =IF(AH15=1,IF(AND(H15="endete",M15<>""),M15,IF(J15=C15,L15,IF(AND(J15<>C15,K15=C15),L15,IF(AND(C15<>J15,C15<>K15,J15<>"",K15<>""),$AO$3,0)))),0) -> 0 | AJ15: =IF(AND(AH15=1,C15<>J15,C15=K15,L15=""),1,0) -> 0 | AK15: =IF(I15="Schiff",1,0) -> 0 | AL15: =IF(AK15=1,IF(C15=J15,L15,IF(C15=K15,L15,IF(AND(C15<>J15,C15<>K15,J15<>"",K15<>""),$AO$5,0))),0) -> 0 | AM15: =IF(AND(AK15=1,C15=J15,L15=""),1,0) -> 0 | AN15: =IF(AND(AK15=1,C15=K15,L15=""),1,0) -> 0 | AO15: =IF(AB15=1,AE15,IF(AF15=1,AG15,IF(AH15=1,AI15,IF(AK15=1,AL15,0)))) -> Finnland | AP15: =IF(AND(E15="mehrtägigen",H15=""),2,IF(OR(AND(E15="mehrtägigen",H15<>""),AND(E15="eintägigen",AC15>TIME(8,,),AD15=0)),3,5)) -> 2 | AQ15: =VLOOKUP(AO15,Pauschalen!$A$1:$D$231,2,FALSE) -> 54 | AR15: =IF(O15<>"",0.2,0) -> 0.2 | AS15: =IF(P15<>"",0.4,0) -> 0 | AT15: =IF(Q15<>"",0.4,0) -> 0 | AU15: =SUM(AR15:AT15) -> 0.2
A16: =IF(AJ16=1,$AW$12,IF(AM16=1,$AW$13,IF(AN16=1,$AW$14,IF(AD16=1,$AW$11,"")))) | C16: 45318 | D16: Aquise Helsinki | E16: mehrtägigen | H16: endete | I16: Flugzeug | J16: 45318 | L16: Deutschland | M16: Finnland | N16: =IF(OR($AG$1=0,Z16=0,AA16=0),"",VLOOKUP(AO16,VMA[#All],Beispielabrechnung!AP16,FALSE)) -> 36 | O16: Ja | R16: =IF($AG$1=0,"",IF(AND($AG$3=2,N16<>""),N16-(AQ16*AU16),"")) -> 25.2 | U16: =IF(OR($AG$1=0,$AG$3<>2,$AG$5<>1),"",IF(S16<>"",VLOOKUP(S16,Pauschalen!$A$1:$D$231,4,FALSE),"")) | X16: 16 | Z16: =IF(OR(C16="",D16="",E16=""),0,1) -> 1 | AA16: =IF(OR(AND(AK16=1,J16<>"",K16<>"",C16<>J16,C16<>K16),AND(E16="Mehrtägigen",L16<>"")),1,IF(AND(E16="eintägigen",M16<>""),1,0)) -> 1 | AB16: =IF(E16="eintägigen",1,0) -> 0 | AC16: =G16-F16 -> 0 | AD16: =IF(OR(IFERROR(AC16,1)=1,DAY(G16)-DAY(F16)>0),1,0) -> 0 | AE16: =IF(AB16=1,M16,0) -> 0 | AF16: =IF(AND(E16="mehrtägigen",AH16=0,AK16=0),1,0) -> 0 | AG16: =IF(AF16=1,IF(H16<>"endete",L16,IF(M16="",L16,M16)),0) -> 0 | AH16: =IF(I16="Flugzeug",1,0) -> 1 | AI16: =IF(AH16=1,IF(AND(H16="endete",M16<>""),M16,IF(J16=C16,L16,IF(AND(J16<>C16,K16=C16),L16,IF(AND(C16<>J16,C16<>K16,J16<>"",K16<>""),$AO$3,0)))),0) -> Finnland | AJ16: =IF(AND(AH16=1,C16<>J16,C16=K16,L16=""),1,0) -> 0 | AK16: =IF(I16="Schiff",1,0) -> 0 | AL16: =IF(AK16=1,IF(C16=J16,L16,IF(C16=K16,L16,IF(AND(C16<>J16,C16<>K16,J16<>"",K16<>""),$AO$5,0))),0) -> 0 | AM16: =IF(AND(AK16=1,C16=J16,L16=""),1,0) -> 0 | AN16: =IF(AND(AK16=1,C16=K16,L16=""),1,0) -> 0 | AO16: =IF(AB16=1,AE16,IF(AF16=1,AG16,IF(AH16=1,AI16,IF(AK16=1,AL16,0)))) -> Finnland | AP16: =IF(AND(E16="mehrtägigen",H16=""),2,IF(OR(AND(E16="mehrtägigen",H16<>""),AND(E16="eintägigen",AC16>TIME(8,,),AD16=0)),3,5)) -> 3 | AQ16: =VLOOKUP(AO16,Pauschalen!$A$1:$D$231,2,FALSE) -> 54 | AR16: =IF(O16<>"",0.2,0) -> 0.2 | AS16: =IF(P16<>"",0.4,0) -> 0 | AT16: =IF(Q16<>"",0.4,0) -> 0 | AU16: =SUM(AR16:AT16) -> 0.2
A17: =IF(AJ17=1,$AW$12,IF(AM17=1,$AW$13,IF(AN17=1,$AW$14,IF(AD17=1,$AW$11,"")))) | C17: 45342 | D17: Projektbesprechung Huston | E17: mehrtägigen | H17: begann | I17: Flugzeug | J17: 45343 | K17: 45342 | L17: Deutschland | N17: =IF(OR($AG$1=0,Z17=0,AA17=0),"",VLOOKUP(AO17,VMA[#All],Beispielabrechnung!AP17,FALSE)) -> 14 | R17: =IF($AG$1=0,"",IF(AND($AG$3=2,N17<>""),N17-(AQ17*AU17),"")) -> 14 | U17: =IF(OR($AG$1=0,$AG$3<>2,$AG$5<>1),"",IF(S17<>"",VLOOKUP(S17,Pauschalen!$A$1:$D$231,4,FALSE),"")) | Z17: =IF(OR(C17="",D17="",E17=""),0,1) -> 1 | AA17: =IF(OR(AND(AK17=1,J17<>"",K17<>"",C17<>J17,C17<>K17),AND(E17="Mehrtägigen",L17<>"")),1,IF(AND(E17="eintägigen",M17<>""),1,0)) -> 1 | AB17: =IF(E17="eintägigen",1,0) -> 0 | AC17: =G17-F17 -> 0 | AD17: =IF(OR(IFERROR(AC17,1)=1,DAY(G17)-DAY(F17)>0),1,0) -> 0 | AE17: =IF(AB17=1,M17,0) -> 0 | AF17: =IF(AND(E17="mehrtägigen",AH17=0,AK17=0),1,0) -> 0 | AG17: =IF(AF17=1,IF(H17<>"endete",L17,IF(M17="",L17,M17)),0) -> 0 | AH17: =IF(I17="Flugzeug",1,0) -> 1 | AI17: =IF(AH17=1,IF(AND(H17="endete",M17<>""),M17,IF(J17=C17,L17,IF(AND(J17<>C17,K17=C17),L17,IF(AND(C17<>J17,C17<>K17,J17<>"",K17<>""),$AO$3,0)))),0) -> Deutschland | AJ17: =IF(AND(AH17=1,C17<>J17,C17=K17,L17=""),1,0) -> 0 | AK17: =IF(I17="Schiff",1,0) -> 0 | AL17: =IF(AK17=1,IF(C17=J17,L17,IF(C17=K17,L17,IF(AND(C17<>J17,C17<>K17,J17<>"",K17<>""),$AO$5,0))),0) -> 0 | AM17: =IF(AND(AK17=1,C17=J17,L17=""),1,0) -> 0 | AN17: =IF(AND(AK17=1,C17=K17,L17=""),1,0) -> 0 | AO17: =IF(AB17=1,AE17,IF(AF17=1,AG17,IF(AH17=1,AI17,IF(AK17=1,AL17,0)))) -> Deutschland | AP17: =IF(AND(E17="mehrtägigen",H17=""),2,IF(OR(AND(E17="mehrtägigen",H17<>""),AND(E17="eintägigen",AC17>TIME(8,,),AD17=0)),3,5)) -> 3 | AQ17: =VLOOKUP(AO17,Pauschalen!$A$1:$D$231,2,FALSE) -> 28 | AR17: =IF(O17<>"",0.2,0) -> 0 | AS17: =IF(P17<>"",0.4,0) -> 0 | AT17: =IF(Q17<>"",0.4,0) -> 0 | AU17: =SUM(AR17:AT17) -> 0
A18: =IF(AJ18=1,$AW$12,IF(AM18=1,$AW$13,IF(AN18=1,$AW$14,IF(AD18=1,$AW$11,"")))) | C18: 45343 | D18: Projektbesprechung Huston | E18: mehrtägigen | I18: Flugzeug | J18: 45343 | L18: USA: Houston | N18: =IF(OR($AG$1=0,Z18=0,AA18=0),"",VLOOKUP(AO18,VMA[#All],Beispielabrechnung!AP18,FALSE)) -> 62 | O18: Ja | R18: =IF($AG$1=0,"",IF(AND($AG$3=2,N18<>""),N18-(AQ18*AU18),"")) -> 49.6 | S18: USA: Houston | T18: 126 | U18: =IF(OR($AG$1=0,$AG$3<>2,$AG$5<>1),"",IF(S18<>"",VLOOKUP(S18,Pauschalen!$A$1:$D$231,4,FALSE),"")) -> 204 | X18: 32 | Z18: =IF(OR(C18="",D18="",E18=""),0,1) -> 1 | AA18: =IF(OR(AND(AK18=1,J18<>"",K18<>"",C18<>J18,C18<>K18),AND(E18="Mehrtägigen",L18<>"")),1,IF(AND(E18="eintägigen",M18<>""),1,0)) -> 1 | AB18: =IF(E18="eintägigen",1,0) -> 0 | AC18: =G18-F18 -> 0 | AD18: =IF(OR(IFERROR(AC18,1)=1,DAY(G18)-DAY(F18)>0),1,0) -> 0 | AE18: =IF(AB18=1,M18,0) -> 0 | AF18: =IF(AND(E18="mehrtägigen",AH18=0,AK18=0),1,0) -> 0 | AG18: =IF(AF18=1,IF(H18<>"endete",L18,IF(M18="",L18,M18)),0) -> 0 | AH18: =IF(I18="Flugzeug",1,0) -> 1 | AI18: =IF(AH18=1,IF(AND(H18="endete",M18<>""),M18,IF(J18=C18,L18,IF(AND(J18<>C18,K18=C18),L18,IF(AND(C18<>J18,C18<>K18,J18<>"",K18<>""),$AO$3,0)))),0) -> USA: Houston | AJ18: =IF(AND(AH18=1,C18<>J18,C18=K18,L18=""),1,0) -> 0 | AK18: =IF(I18="Schiff",1,0) -> 0 | AL18: =IF(AK18=1,IF(C18=J18,L18,IF(C18=K18,L18,IF(AND(C18<>J18,C18<>K18,J18<>"",K18<>""),$AO$5,0))),0) -> 0 | AM18: =IF(AND(AK18=1,C18=J18,L18=""),1,0) -> 0 | AN18: =IF(AND(AK18=1,C18=K18,L18=""),1,0) -> 0 | AO18: =IF(AB18=1,AE18,IF(AF18=1,AG18,IF(AH18=1,AI18,IF(AK18=1,AL18,0)))) -> USA: Houston | AP18: =IF(AND(E18="mehrtägigen",H18=""),2,IF(OR(AND(E18="mehrtägigen",H18<>""),AND(E18="eintägigen",AC18>TIME(8,,),AD18=0)),3,5)) -> 2 | AQ18: =VLOOKUP(AO18,Pauschalen!$A$1:$D$231,2,FALSE) -> 62 | AR18: =IF(O18<>"",0.2,0) -> 0.2 | AS18: =IF(P18<>"",0.4,0) -> 0 | AT18: =IF(Q18<>"",0.4,0) -> 0 | AU18: =SUM(AR18:AT18) -> 0.2
A19: =IF(AJ19=1,$AW$12,IF(AM19=1,$AW$13,IF(AN19=1,$AW$14,IF(AD19=1,$AW$11,"")))) | C19: 45344 | D19: Projektbesprechung Huston | E19: mehrtägigen | L19: USA: Houston | N19: =IF(OR($AG$1=0,Z19=0,AA19=0),"",VLOOKUP(AO19,VMA[#All],Beispielabrechnung!AP19,FALSE)) -> 62 | O19: Ja | R19: =IF($AG$1=0,"",IF(AND($AG$3=2,N19<>""),N19-(AQ19*AU19),"")) -> 49.6 | S19: USA: Houston | T19: 126 | U19: =IF(OR($AG$1=0,$AG$3<>2,$AG$5<>1),"",IF(S19<>"",VLOOKUP(S19,Pauschalen!$A$1:$D$231,4,FALSE),"")) -> 204 | X19: 52 | Z19: =IF(OR(C19="",D19="",E19=""),0,1) -> 1 | AA19: =IF(OR(AND(AK19=1,J19<>"",K19<>"",C19<>J19,C19<>K19),AND(E19="Mehrtägigen",L19<>"")),1,IF(AND(E19="eintägigen",M19<>""),1,0)) -> 1 | AB19: =IF(E19="eintägigen",1,0) -> 0 | AC19: =G19-F19 -> 0 | AD19: =IF(OR(IFERROR(AC19,1)=1,DAY(G19)-DAY(F19)>0),1,0) -> 0 | AE19: =IF(AB19=1,M19,0) -> 0 | AF19: =IF(AND(E19="mehrtägigen",AH19=0,AK19=0),1,0) -> 1 | AG19: =IF(AF19=1,IF(H19<>"endete",L19,IF(M19="",L19,M19)),0) -> USA: Houston | AH19: =IF(I19="Flugzeug",1,0) -> 0 | AI19: =IF(AH19=1,IF(AND(H19="endete",M19<>""),M19,IF(J19=C19,L19,IF(AND(J19<>C19,K19=C19),L19,IF(AND(C19<>J19,C19<>K19,J19<>"",K19<>""),$AO$3,0)))),0) -> 0 | AJ19: =IF(AND(AH19=1,C19<>J19,C19=K19,L19=""),1,0) -> 0 | AK19: =IF(I19="Schiff",1,0) -> 0 | AL19: =IF(AK19=1,IF(C19=J19,L19,IF(C19=K19,L19,IF(AND(C19<>J19,C19<>K19,J19<>"",K19<>""),$AO$5,0))),0) -> 0 | AM19: =IF(AND(AK19=1,C19=J19,L19=""),1,0) -> 0 | AN19: =IF(AND(AK19=1,C19=K19,L19=""),1,0) -> 0 | AO19: =IF(AB19=1,AE19,IF(AF19=1,AG19,IF(AH19=1,AI19,IF(AK19=1,AL19,0)))) -> USA: Houston | AP19: =IF(AND(E19="mehrtägigen",H19=""),2,IF(OR(AND(E19="mehrtägigen",H19<>""),AND(E19="eintägigen",AC19>TIME(8,,),AD19=0)),3,5)) -> 2 | AQ19: =VLOOKUP(AO19,Pauschalen!$A$1:$D$231,2,FALSE) -> 62 | AR19: =IF(O19<>"",0.2,0) -> 0.2 | AS19: =IF(P19<>"",0.4,0) -> 0 | AT19: =IF(Q19<>"",0.4,0) -> 0 | AU19: =SUM(AR19:AT19) -> 0.2
A20: =IF(AJ20=1,$AW$12,IF(AM20=1,$AW$13,IF(AN20=1,$AW$14,IF(AD20=1,$AW$11,"")))) | C20: 45345 | D20: Besprechung Austin | E20: mehrtägigen | L20: USA: (Übrige) | N20: =IF(OR($AG$1=0,Z20=0,AA20=0),"",VLOOKUP(AO20,VMA[#All],Beispielabrechnung!AP20,FALSE)) -> 59 | O20: Ja | R20: =IF($AG$1=0,"",IF(AND($AG$3=2,N20<>""),N20-(AQ20*AU20),"")) -> 47.2 | S20: USA: (Übrige) | T20: 154 | U20: =IF(OR($AG$1=0,$AG$3<>2,$AG$5<>1),"",IF(S20<>"",VLOOKUP(S20,Pauschalen!$A$1:$D$231,4,FALSE),"")) -> 182 | X20: 215 | Z20: =IF(OR(C20="",D20="",E20=""),0,1) -> 1 | AA20: =IF(OR(AND(AK20=1,J20<>"",K20<>"",C20<>J20,C20<>K20),AND(E20="Mehrtägigen",L20<>"")),1,IF(AND(E20="eintägigen",M20<>""),1,0)) -> 1 | AB20: =IF(E20="eintägigen",1,0) -> 0 | AC20: =G20-F20 -> 0 | AD20: =IF(OR(IFERROR(AC20,1)=1,DAY(G20)-DAY(F20)>0),1,0) -> 0 | AE20: =IF(AB20=1,M20,0) -> 0 | AF20: =IF(AND(E20="mehrtägigen",AH20=0,AK20=0),1,0) -> 1 | AG20: =IF(AF20=1,IF(H20<>"endete",L20,IF(M20="",L20,M20)),0) -> USA: (Übrige) | AH20: =IF(I20="Flugzeug",1,0) -> 0 | AI20: =IF(AH20=1,IF(AND(H20="endete",M20<>""),M20,IF(J20=C20,L20,IF(AND(J20<>C20,K20=C20),L20,IF(AND(C20<>J20,C20<>K20,J20<>"",K20<>""),$AO$3,0)))),0) -> 0 | AJ20: =IF(AND(AH20=1,C20<>J20,C20=K20,L20=""),1,0) -> 0 | AK20: =IF(I20="Schiff",1,0) -> 0 | AL20: =IF(AK20=1,IF(C20=J20,L20,IF(C20=K20,L20,IF(AND(C20<>J20,C20<>K20,J20<>"",K20<>""),$AO$5,0))),0) -> 0 | AM20: =IF(AND(AK20=1,C20=J20,L20=""),1,0) -> 0 | AN20: =IF(AND(AK20=1,C20=K20,L20=""),1,0) -> 0 | AO20: =IF(AB20=1,AE20,IF(AF20=1,AG20,IF(AH20=1,AI20,IF(AK20=1,AL20,0)))) -> USA: (Übrige) | AP20: =IF(AND(E20="mehrtägigen",H20=""),2,IF(OR(AND(E20="mehrtägigen",H20<>""),AND(E20="eintägigen",AC20>TIME(8,,),AD20=0)),3,5)) -> 2 | AQ20: =VLOOKUP(AO20,Pauschalen!$A$1:$D$231,2,FALSE) -> 59 | AR20: =IF(O20<>"",0.2,0) -> 0.2 | AS20: =IF(P20<>"",0.4,0) -> 0 | AT20: =IF(Q20<>"",0.4,0) -> 0 | AU20: =SUM(AR20:AT20) -> 0.2
A21: =IF(AJ21=1,$AW$12,IF(AM21=1,$AW$13,IF(AN21=1,$AW$14,IF(AD21=1,$AW$11,"")))) | C21: 45346 | D21: Besprechung Austin | E21: mehrtägigen | L21: USA: (Übrige) | N21: =IF(OR($AG$1=0,Z21=0,AA21=0),"",VLOOKUP(AO21,VMA[#All],Beispielabrechnung!AP21,FALSE)) -> 59 | O21: Ja | R21: =IF($AG$1=0,"",IF(AND($AG$3=2,N21<>""),N21-(AQ21*AU21),"")) -> 47.2 | S21: USA: (Übrige) | T21: 154 | U21: =IF(OR($AG$1=0,$AG$3<>2,$AG$5<>1),"",IF(S21<>"",VLOOKUP(S21,Pauschalen!$A$1:$D$231,4,FALSE),"")) -> 182 | X21: 48 | Z21: =IF(OR(C21="",D21="",E21=""),0,1) -> 1 | AA21: =IF(OR(AND(AK21=1,J21<>"",K21<>"",C21<>J21,C21<>K21),AND(E21="Mehrtägigen",L21<>"")),1,IF(AND(E21="eintägigen",M21<>""),1,0)) -> 1 | AB21: =IF(E21="eintägigen",1,0) -> 0 | AC21: =G21-F21 -> 0 | AD21: =IF(OR(IFERROR(AC21,1)=1,DAY(G21)-DAY(F21)>0),1,0) -> 0 | AE21: =IF(AB21=1,M21,0) -> 0 | AF21: =IF(AND(E21="mehrtägigen",AH21=0,AK21=0),1,0) -> 1 | AG21: =IF(AF21=1,IF(H21<>"endete",L21,IF(M21="",L21,M21)),0) -> USA: (Übrige) | AH21: =IF(I21="Flugzeug",1,0) -> 0 | AI21: =IF(AH21=1,IF(AND(H21="endete",M21<>""),M21,IF(J21=C21,L21,IF(AND(J21<>C21,K21=C21),L21,IF(AND(C21<>J21,C21<>K21,J21<>"",K21<>""),$AO$3,0)))),0) -> 0 | AJ21: =IF(AND(AH21=1,C21<>J21,C21=K21,L21=""),1,0) -> 0 | AK21: =IF(I21="Schiff",1,0) -> 0 | AL21: =IF(AK21=1,IF(C21=J21,L21,IF(C21=K21,L21,IF(AND(C21<>J21,C21<>K21,J21<>"",K21<>""),$AO$5,0))),0) -> 0 | AM21: =IF(AND(AK21=1,C21=J21,L21=""),1,0) -> 0 | AN21: =IF(AND(AK21=1,C21=K21,L21=""),1,0) -> 0 | AO21: =IF(AB21=1,AE21,IF(AF21=1,AG21,IF(AH21=1,AI21,IF(AK21=1,AL21,0)))) -> USA: (Übrige) | AP21: =IF(AND(E21="mehrtägigen",H21=""),2,IF(OR(AND(E21="mehrtägigen",H21<>""),AND(E21="eintägigen",AC21>TIME(8,,),AD21=0)),3,5)) -> 2 | AQ21: =VLOOKUP(AO21,Pauschalen!$A$1:$D$231,2,FALSE) -> 59 | AR21: =IF(O21<>"",0.2,0) -> 0.2 | AS21: =IF(P21<>"",0.4,0) -> 0 | AT21: =IF(Q21<>"",0.4,0) -> 0 | AU21: =SUM(AR21:AT21) -> 0.2
A22: =IF(AJ22=1,$AW$12,IF(AM22=1,$AW$13,IF(AN22=1,$AW$14,IF(AD22=1,$AW$11,"")))) | C22: 45347 | D22: Austin | E22: mehrtägigen | H22: endete | I22: Flugzeug | J22: 45347 | L22: Deutschland | N22: =IF(OR($AG$1=0,Z22=0,AA22=0),"",VLOOKUP(AO22,VMA[#All],Beispielabrechnung!AP22,FALSE)) -> 14 | O22: Ja | R22: =IF($AG$1=0,"",IF(AND($AG$3=2,N22<>""),N22-(AQ22*AU22),"")) -> 8.4 | U22: =IF(OR($AG$1=0,$AG$3<>2,$AG$5<>1),"",IF(S22<>"",VLOOKUP(S22,Pauschalen!$A$1:$D$231,4,FALSE),"")) | X22: 18 | Z22: =IF(OR(C22="",D22="",E22=""),0,1) -> 1 | AA22: =IF(OR(AND(AK22=1,J22<>"",K22<>"",C22<>J22,C22<>K22),AND(E22="Mehrtägigen",L22<>"")),1,IF(AND(E22="eintägigen",M22<>""),1,0)) -> 1 | AB22: =IF(E22="eintägigen",1,0) -> 0 | AC22: =G22-F22 -> 0 | AD22: =IF(OR(IFERROR(AC22,1)=1,DAY(G22)-DAY(F22)>0),1,0) -> 0 | AE22: =IF(AB22=1,M22,0) -> 0 | AF22: =IF(AND(E22="mehrtägigen",AH22=0,AK22=0),1,0) -> 0 | AG22: =IF(AF22=1,IF(H22<>"endete",L22,IF(M22="",L22,M22)),0) -> 0 | AH22: =IF(I22="Flugzeug",1,0) -> 1 | AI22: =IF(AH22=1,IF(AND(H22="endete",M22<>""),M22,IF(J22=C22,L22,IF(AND(J22<>C22,K22=C22),L22,IF(AND(C22<>J22,C22<>K22,J22<>"",K22<>""),$AO$3,0)))),0) -> Deutschland | AJ22: =IF(AND(AH22=1,C22<>J22,C22=K22,L22=""),1,0) -> 0 | AK22: =IF(I22="Schiff",1,0) -> 0 | AL22: =IF(AK22=1,IF(C22=J22,L22,IF(C22=K22,L22,IF(AND(C22<>J22,C22<>K22,J22<>"",K22<>""),$AO$5,0))),0) -> 0 | AM22: =IF(AND(AK22=1,C22=J22,L22=""),1,0) -> 0 | AN22: =IF(AND(AK22=1,C22=K22,L22=""),1,0) -> 0 | AO22: =IF(AB22=1,AE22,IF(AF22=1,AG22,IF(AH22=1,AI22,IF(AK22=1,AL22,0)))) -> Deutschland | AP22: =IF(AND(E22="mehrtägigen",H22=""),2,IF(OR(AND(E22="mehrtägigen",H22<>""),AND(E22="eintägigen",AC22>TIME(8,,),AD22=0)),3,5)) -> 3 | AQ22: =VLOOKUP(AO22,Pauschalen!$A$1:$D$231,2,FALSE) -> 28 | AR22: =IF(O22<>"",0.2,0) -> 0.2 | AS22: =IF(P22<>"",0.4,0) -> 0 | AT22: =IF(Q22<>"",0.4,0) -> 0 | AU22: =SUM(AR22:AT22) -> 0.2
A23: =IF(AJ23=1,$AW$12,IF(AM23=1,$AW$13,IF(AN23=1,$AW$14,IF(AD23=1,$AW$11,"")))) | C23: 45366 | D23: Meeting Niederlassung Usti nad Labem | E23: eintägigen | F23: 0.3125 | G23: 0.625 | M23: Tschechische Republik | N23: =IF(OR($AG$1=0,Z23=0,AA23=0),"",VLOOKUP(AO23,VMA[#All],Beispielabrechnung!AP23,FALSE)) -> 0 | P23: Ja | R23: =IF($AG$1=0,"",IF(AND($AG$3=2,N23<>""),N23-(AQ23*AU23),"")) -> -12.8 | U23: =IF(OR($AG$1=0,$AG$3<>2,$AG$5<>1),"",IF(S23<>"",VLOOKUP(S23,Pauschalen!$A$1:$D$231,4,FALSE),"")) | V23: sonst. Kfz | W23: 154 | X23: 6 | Z23: =IF(OR(C23="",D23="",E23=""),0,1) -> 1 | AA23: =IF(OR(AND(AK23=1,J23<>"",K23<>"",C23<>J23,C23<>K23),AND(E23="Mehrtägigen",L23<>"")),1,IF(AND(E23="eintägigen",M23<>""),1,0)) -> 1 | AB23: =IF(E23="eintägigen",1,0) -> 1 | AC23: =G23-F23 -> 0.3125 | AD23: =IF(OR(IFERROR(AC23,1)=1,DAY(G23)-DAY(F23)>0),1,0) -> 0 | AE23: =IF(AB23=1,M23,0) -> Tschechische Republik | AF23: =IF(AND(E23="mehrtägigen",AH23=0,AK23=0),1,0) -> 0 | AG23: =IF(AF23=1,IF(H23<>"endete",L23,IF(M23="",L23,M23)),0) -> 0 | AH23: =IF(I23="Flugzeug",1,0) -> 0 | AI23: =IF(AH23=1,IF(AND(H23="endete",M23<>""),M23,IF(J23=C23,L23,IF(AND(J23<>C23,K23=C23),L23,IF(AND(C23<>J23,C23<>K23,J23<>"",K23<>""),$AO$3,0)))),0) -> 0 | AJ23: =IF(AND(AH23=1,C23<>J23,C23=K23,L23=""),1,0) -> 0 | AK23: =IF(I23="Schiff",1,0) -> 0 | AL23: =IF(AK23=1,IF(C23=J23,L23,IF(C23=K23,L23,IF(AND(C23<>J23,C23<>K23,J23<>"",K23<>""),$AO$5,0))),0) -> 0 | AM23: =IF(AND(AK23=1,C23=J23,L23=""),1,0) -> 0 | AN23: =IF(AND(AK23=1,C23=K23,L23=""),1,0) -> 0 | AO23: =IF(AB23=1,AE23,IF(AF23=1,AG23,IF(AH23=1,AI23,IF(AK23=1,AL23,0)))) -> Tschechische Republik | AP23: =IF(AND(E23="mehrtägigen",H23=""),2,IF(OR(AND(E23="mehrtägigen",H23<>""),AND(E23="eintägigen",AC23>TIME(8,,),AD23=0)),3,5)) -> 5 | AQ23: =VLOOKUP(AO23,Pauschalen!$A$1:$D$231,2,FALSE) -> 32 | AR23: =IF(O23<>"",0.2,0) -> 0 | AS23: =IF(P23<>"",0.4,0) -> 0.4 | AT23: =IF(Q23<>"",0.4,0) -> 0 | AU23: =SUM(AR23:AT23) -> 0.4
A24: =IF(AJ24=1,$AW$12,IF(AM24=1,$AW$13,IF(AN24=1,$AW$14,IF(AD24=1,$AW$11,"")))) | C24: 45379 | D24: Aquise Jelenia Gora | E24: mehrtägigen | H24: begann | L24: Polen (Übriges) | N24: =IF(OR($AG$1=0,Z24=0,AA24=0),"",VLOOKUP(AO24,VMA[#All],Beispielabrechnung!AP24,FALSE)) -> 23 | R24: =IF($AG$1=0,"",IF(AND($AG$3=2,N24<>""),N24-(AQ24*AU24),"")) -> 23 | S24: Polen (Übriges) | T24: 40 | U24: =IF(OR($AG$1=0,$AG$3<>2,$AG$5<>1),"",IF(S24<>"",VLOOKUP(S24,Pauschalen!$A$1:$D$231,4,FALSE),"")) -> 124 | V24: PKW | W24: 191 | X24: 12 | Z24: =IF(OR(C24="",D24="",E24=""),0,1) -> 1 | AA24: =IF(OR(AND(AK24=1,J24<>"",K24<>"",C24<>J24,C24<>K24),AND(E24="Mehrtägigen",L24<>"")),1,IF(AND(E24="eintägigen",M24<>""),1,0)) -> 1 | AB24: =IF(E24="eintägigen",1,0) -> 0 | AC24: =G24-F24 -> 0 | AD24: =IF(OR(IFERROR(AC24,1)=1,DAY(G24)-DAY(F24)>0),1,0) -> 0 | AE24: =IF(AB24=1,M24,0) -> 0 | AF24: =IF(AND(E24="mehrtägigen",AH24=0,AK24=0),1,0) -> 1 | AG24: =IF(AF24=1,IF(H24<>"endete",L24,IF(M24="",L24,M24)),0) -> Polen (Übriges) | AH24: =IF(I24="Flugzeug",1,0) -> 0 | AI24: =IF(AH24=1,IF(AND(H24="endete",M24<>""),M24,IF(J24=C24,L24,IF(AND(J24<>C24,K24=C24),L24,IF(AND(C24<>J24,C24<>K24,J24<>"",K24<>""),$AO$3,0)))),0) -> 0 | AJ24: =IF(AND(AH24=1,C24<>J24,C24=K24,L24=""),1,0) -> 0 | AK24: =IF(I24="Schiff",1,0) -> 0 | AL24: =IF(AK24=1,IF(C24=J24,L24,IF(C24=K24,L24,IF(AND(C24<>J24,C24<>K24,J24<>"",K24<>""),$AO$5,0))),0) -> 0 | AM24: =IF(AND(AK24=1,C24=J24,L24=""),1,0) -> 0 | AN24: =IF(AND(AK24=1,C24=K24,L24=""),1,0) -> 0 | AO24: =IF(AB24=1,AE24,IF(AF24=1,AG24,IF(AH24=1,AI24,IF(AK24=1,AL24,0)))) -> Polen (Übriges) | AP24: =IF(AND(E24="mehrtägigen",H24=""),2,IF(OR(AND(E24="mehrtägigen",H24<>""),AND(E24="eintägigen",AC24>TIME(8,,),AD24=0)),3,5)) -> 3 | AQ24: =VLOOKUP(AO24,Pauschalen!$A$1:$D$231,2,FALSE) -> 34 | AR24: =IF(O24<>"",0.2,0) -> 0 | AS24: =IF(P24<>"",0.4,0) -> 0 | AT24: =IF(Q24<>"",0.4,0) -> 0 | AU24: =SUM(AR24:AT24) -> 0
A25: =IF(AJ25=1,$AW$12,IF(AM25=1,$AW$13,IF(AN25=1,$AW$14,IF(AD25=1,$AW$11,"")))) | C25: 45380 | D25: Aquise Jelenia Gora | E25: mehrtägigen | H25: endete | L25: Deutschland | M25: Polen (Übriges) | N25: =IF(OR($AG$1=0,Z25=0,AA25=0),"",VLOOKUP(AO25,VMA[#All],Beispielabrechnung!AP25,FALSE)) -> 23 | O25: Ja | R25: =IF($AG$1=0,"",IF(AND($AG$3=2,N25<>""),N25-(AQ25*AU25),"")) -> 16.2 | U25: =IF(OR($AG$1=0,$AG$3<>2,$AG$5<>1),"",IF(S25<>"",VLOOKUP(S25,Pauschalen!$A$1:$D$231,4,FALSE),"")) | V25: PKW | W25: 193 | X25: 8 | Z25: =IF(OR(C25="",D25="",E25=""),0,1) -> 1 | AA25: =IF(OR(AND(AK25=1,J25<>"",K25<>"",C25<>J25,C25<>K25),AND(E25="Mehrtägigen",L25<>"")),1,IF(AND(E25="eintägigen",M25<>""),1,0)) -> 1 | AB25: =IF(E25="eintägigen",1,0) -> 0 | AC25: =G25-F25 -> 0 | AD25: =IF(OR(IFERROR(AC25,1)=1,DAY(G25)-DAY(F25)>0),1,0) -> 0 | AE25: =IF(AB25=1,M25,0) -> 0 | AF25: =IF(AND(E25="mehrtägigen",AH25=0,AK25=0),1,0) -> 1 | AG25: =IF(AF25=1,IF(H25<>"endete",L25,IF(M25="",L25,M25)),0) -> Polen (Übriges) | AH25: =IF(I25="Flugzeug",1,0) -> 0 | AI25: =IF(AH25=1,IF(AND(H25="endete",M25<>""),M25,IF(J25=C25,L25,IF(AND(J25<>C25,K25=C25),L25,IF(AND(C25<>J25,C25<>K25,J25<>"",K25<>""),$AO$3,0)))),0) -> 0 | AJ25: =IF(AND(AH25=1,C25<>J25,C25=K25,L25=""),1,0) -> 0 | AK25: =IF(I25="Schiff",1,0) -> 0 | AL25: =IF(AK25=1,IF(C25=J25,L25,IF(C25=K25,L25,IF(AND(C25<>J25,C25<>K25,J25<>"",K25<>""),$AO$5,0))),0) -> 0 | AM25: =IF(AND(AK25=1,C25=J25,L25=""),1,0) -> 0 | AN25: =IF(AND(AK25=1,C25=K25,L25=""),1,0) -> 0 | AO25: =IF(AB25=1,AE25,IF(AF25=1,AG25,IF(AH25=1,AI25,IF(AK25=1,AL25,0)))) -> Polen (Übriges) | AP25: =IF(AND(E25="mehrtägigen",H25=""),2,IF(OR(AND(E25="mehrtägigen",H25<>""),AND(E25="eintägigen",AC25>TIME(8,,),AD25=0)),3,5)) -> 3 | AQ25: =VLOOKUP(AO25,Pauschalen!$A$1:$D$231,2,FALSE) -> 34 | AR25: =IF(O25<>"",0.2,0) -> 0.2 | AS25: =IF(P25<>"",0.4,0) -> 0 | AT25: =IF(Q25<>"",0.4,0) -> 0 | AU25: =SUM(AR25:AT25) -> 0.2
C26: Summen | N26: =SUM(N11:N25) -> 523 | R26: =SUM(R11:R25) -> 398.6 | T26: =SUM(T11:T25) -> 600 | U26: =SUM(U11:U25) -> 896 | X26: =SUM(X11:X25) -> 947.5
C28: =IF(AG3=2,"Verpflegungsmehraufwendungen abzgl. Kürzungen","Verpflegungsmehraufwendungen") -> Verpflegungsmehraufwendungen abzgl. Kürzungen | L28: =IF(OR($AG$3=1,AND($AG$3=2,$AG$5=2)),"Ansatz mit:",IF($AG$5=1,"Erstattung erfolgt lt. betriebl. Vereinbarung:","")) -> Erstattung erfolgt lt. betriebl. Vereinbarung: | M28: in Höhe der gesetzlichen Pauschalen | W28: =IF(AG5=1,IF(AB28=3,T28,IF(AB28=1,R26,0)),IF(AG3=1,N26,R26)) -> 398.6 | Z28: Ansatz Erstattung: | AB28: =IF(M28="in Höhe der gesetzlichen Pauschalen",1,IF(M28="mit einem individuellen Betrag in Höhe von:",3,"")) -> 1
C30: Übernachtungskosten | L30: =IF(OR($AG$3=1,AND($AG$3=2,$AG$5=2)),"Ansatz mit:",IF($AG$5=1,"Erstattung erfolgt lt. betriebl. Vereinbarung:","")) -> Erstattung erfolgt lt. betriebl. Vereinbarung: | M30: mit einem individuellen Betrag in Höhe von: | T30: 812 | W30: =IF(OR(AG3=0,AG3=1),0,IF(AG5=2,T26,IF(AB30=1,T26,IF(AB30=2,U26,IF(AB30=3,T30,0))))) -> 812 | AB30: =IF(M30="in Höhe der tatsächlichen Aufwendungen",1,IF(M30="in Höhe der erstattungsfähigen Pauschalen",2,IF(M30="mit einem individuellen Betrag in Höhe von:",3,""))) -> 3
C32: Fahrtkosten | E32: PKW: | H32: Fahrleistung: | I32: =SUMIFS(W11:W25,V11:V25,"pkw") -> 384 | L32: =IF(OR($AG$3=1,AND($AG$3=2,$AG$5=2)),"Ansatz mit:",IF($AG$5=1,"Erstattung erfolgt lt. betriebl. Vereinbarung:","")) -> Erstattung erfolgt lt. betriebl. Vereinbarung: | M32: nach dem gesetzlichen km-Satz von: | S32: =IF(OR($AG$3=1,AB32=1,AND($AG$3=2,$AG$5=2)),""&AG32&" € / km","€ / km") -> 0,3 € / km | T32: =IF(AND($AG$3=2,$AG$5=1),IF(AND(M32<>"",AB32=1),AG32*I32,IF(AND(M32<>"",AB32=3),R32*I32,0)),AG32*I32) -> 115.2 | W32: =IF(AND(AG3=1,AG1=1),X26+SUM(T32:T34),IF(AB35=1,X26,IF(AB35=3,T35,0))+SUM(T32:T34)) -> 1001.2 | AB32: =IF(M32="nach dem gesetzlichen km-satz von:",1,IF(M32="mit einem km-satz von:",3,"")) -> 1 | AF32: gesetzlicher Satz: | AG32: 0.3
C33: private Beförderungsmittel | E33: sonst. KFZ: | H33: Fahrleistung: | I33: =SUMIFS(W11:W25,V11:V25,"sonst. kfz") -> 305 | L33: =IF(OR($AG$3=1,AND($AG$3=2,$AG$5=2)),"Ansatz mit:",IF($AG$5=1,"Erstattung erfolgt lt. betriebl. Vereinbarung:","")) -> Erstattung erfolgt lt. betriebl. Vereinbarung: | M33: nach dem gesetzlichen km-Satz von: | S33: =IF(OR($AG$3=1,AB33=1,AND($AG$3=2,$AG$5=2)),""&AG33&" € / km","€ / km") -> 0,2 € / km | T33: =IF(AND($AG$3=2,$AG$5=1),IF(AND(M33<>"",AB33=1),AG33*I33,IF(AND(M33<>"",AB33=3),R33*I33,0)),AG33*I33) -> 61 | AB33: =IF(M33="nach dem gesetzlichen km-satz von:",1,IF(M33="mit einem km-satz von:",3,"")) -> 1 | AF33: gesetzlicher Satz: | AG33: 0.2
E34: Fahrrad: | H34: Fahrleistung: | I34: =SUMIFS(W11:W25,V11:V25,"fahrrad") -> 0 | L34: =IF(OR($AG$3=1,AND($AG$3=2,$AG$5=2)),"Ansatz mit:",IF($AG$5=1,"Erstattung erfolgt lt. betriebl. Vereinbarung:","")) -> Erstattung erfolgt lt. betriebl. Vereinbarung: | M34: =IF($AG$5=1,"mit:","") -> mit:
C35: nicht private Beförderungsmittel und sonst. Kosten | L35: =IF(OR($AG$3=1,AND($AG$3=2,$AG$5=2)),"Ansatz mit:",IF($AG$5=1,"Erstattung erfolgt lt. betriebl. Vereinbarung:","")) -> Erstattung erfolgt lt. betriebl. Vereinbarung: | M35: mit einem individuellen Betrag in Höhe von: | T35: 825 | AB35: =IF(M35="in Höhe der tatsächlichen Aufwendungen",1,IF(M35="mit einem individuellen Betrag in Höhe von:",3,"")) -> 3
C37: Auszahlung Reisekosten für den Zeitraum: | I37: =IF((($S$3)="")," ",$S$3) -> 1. Quartal | W37: =W28+W30+W32 -> 2211.8
X38: Stand: 14.01.2025
C41: Aufgrund der Komplexität des Reisekostenrechts können mit dieser Arbeitshilfe nicht alle Sachverhalte abgebildet werden. Dies betriftt insbesondere:
C43: - | D43: Reisen ohne Übernachtung mit einer Reisedauer von mehr als 8 Stunden, die an einem Kalendertag beginnen und erst am folgenden Kalendertag enden.

Sheet Pauschalen
A1: 1 | B1: 2 | C1: 3 | D1: 4 | E1: 5 | F1: Prüfspalten | L1: Erfassungshilfe Datenaktualisierung
A2: Land | B2: 24 Stunden | C2: An- und Abreisetag | D2: Über-nachtung | E2: Vorauss. Nicht erfüllt | F2: Übereinstimmung Land | G2: Übereinstimmung | H2: Spalte2 | I2: Spalte3 | J2: Bezeichnung Land entspr. In BMF-Schreiben | L2: Werte BMF-Schreiben | Q2: Legende
A3: Afghanistan | B3: 30 | C3: 20 | D3: 95 | F3: =_xlfn.IFNA(IF(VLOOKUP(IF(J3="",A3,J3),$L$3:$O$330,1,FALSE)=A3,1,0),0) -> 1 | G3: =_xlfn.IFNA(IF(VLOOKUP(IF(J3="",A3,J3),$L$3:$O$330,2,FALSE)=B3,1,0),0) -> 1 | H3: =_xlfn.IFNA(IF(VLOOKUP(IF(J3="",A3,J3),$L$3:$O$330,3,FALSE)=C3,1,0),0) -> 1 | I3: =_xlfn.IFNA(IF(VLOOKUP(IF(J3="",A3,J3),$L$3:$O$330,4,FALSE)=D3,1,0),0) -> 1 | L3: Afghanistan | M3: 30 | N3: 20 | O3: 95 | Q3: Schrift | R3: Bezeichnung findet sich nicht in der Tabelle des BMF.
A4: Ägypten | B4: 50 | C4: 33 | D4: 112 | F4: =_xlfn.IFNA(IF(VLOOKUP(IF(J4="",A4,J4),$L$3:$O$330,1,FALSE)=A4,1,0),0) -> 1 | G4: =_xlfn.IFNA(IF(VLOOKUP(IF(J4="",A4,J4),$L$3:$O$330,2,FALSE)=B4,1,0),0) -> 1 | H4: =_xlfn.IFNA(IF(VLOOKUP(IF(J4="",A4,J4),$L$3:$O$330,3,FALSE)=C4,1,0),0) -> 1 | I4: =_xlfn.IFNA(IF(VLOOKUP(IF(J4="",A4,J4),$L$3:$O$330,4,FALSE)=D4,1,0),0) -> 1 | L4: Ägypten | M4: 50 | N4: 33 | O4: 112 | R4: Falls Stadt/Bezirk unter anderer Bezeichnung geführt wird, diese in Spalte J kopieren.
A5: Äthiopien | B5: 44 | C5: 29 | D5: 159 | F5: =_xlfn.IFNA(IF(VLOOKUP(IF(J5="",A5,J5),$L$3:$O$330,1,FALSE)=A5,1,0),0) -> 1 | G5: =_xlfn.IFNA(IF(VLOOKUP(IF(J5="",A5,J5),$L$3:$O$330,2,FALSE)=B5,1,0),0) -> 1 | H5: =_xlfn.IFNA(IF(VLOOKUP(IF(J5="",A5,J5),$L$3:$O$330,3,FALSE)=C5,1,0),0) -> 1 | I5: =_xlfn.IFNA(IF(VLOOKUP(IF(J5="",A5,J5),$L$3:$O$330,4,FALSE)=D5,1,0),0) -> 1 | L5: Äthiopien | M5: 44 | N5: 29 | O5: 159 | R5: Wert stimmt nicht mit Tabelle BMF überein.
A6: Äquatorialguinea | B6: 42 | C6: 28 | D6: 166 | F6: =_xlfn.IFNA(IF(VLOOKUP(IF(J6="",A6,J6),$L$3:$O$330,1,FALSE)=A6,1,0),0) -> 1 | G6: =_xlfn.IFNA(IF(VLOOKUP(IF(J6="",A6,J6),$L$3:$O$330,2,FALSE)=B6,1,0),0) -> 1 | H6: =_xlfn.IFNA(IF(VLOOKUP(IF(J6="",A6,J6),$L$3:$O$330,3,FALSE)=C6,1,0),0) -> 1 | I6: =_xlfn.IFNA(IF(VLOOKUP(IF(J6="",A6,J6),$L$3:$O$330,4,FALSE)=D6,1,0),0) -> 1 | L6: Äquatorialguinea | M6: 42 | N6: 28 | O6: 166 | R6: Kann vorkommen, wenn in Spalte J "im Übrigen" eingetragen wird -> Werte gesondert vergleichen.
A7: Albanien | B7: 27 | C7: 18 | D7: 112 | F7: =_xlfn.IFNA(IF(VLOOKUP(IF(J7="",A7,J7),$L$3:$O$330,1,FALSE)=A7,1,0),0) -> 1 | G7: =_xlfn.IFNA(IF(VLOOKUP(IF(J7="",A7,J7),$L$3:$O$330,2,FALSE)=B7,1,0),0) -> 1 | H7: =_xlfn.IFNA(IF(VLOOKUP(IF(J7="",A7,J7),$L$3:$O$330,3,FALSE)=C7,1,0),0) -> 1 | I7: =_xlfn.IFNA(IF(VLOOKUP(IF(J7="",A7,J7),$L$3:$O$330,4,FALSE)=D7,1,0),0) -> 1 | L7: Albanien | M7: 27 | N7: 18 | O7: 112 | R7: Bezeichnung des BMF findet sich in der Aufstellung links.
A8: Algerien | B8: 47 | C8: 32 | D8: 120 | F8: =_xlfn.IFNA(IF(VLOOKUP(IF(J8="",A8,J8),$L$3:$O$330,1,FALSE)=A8,1,0),0) -> 1 | G8: =_xlfn.IFNA(IF(VLOOKUP(IF(J8="",A8,J8),$L$3:$O$330,2,FALSE)=B8,1,0),0) -> 1 | H8: =_xlfn.IFNA(IF(VLOOKUP(IF(J8="",A8,J8),$L$3:$O$330,3,FALSE)=C8,1,0),0) -> 1 | I8: =_xlfn.IFNA(IF(VLOOKUP(IF(J8="",A8,J8),$L$3:$O$330,4,FALSE)=D8,1,0),0) -> 1 | L8: Algerien | M8: 47 | N8: 32 | O8: 120
A9: Andorra | B9: 41 | C9: 28 | D9: 91 | F9: =_xlfn.IFNA(IF(VLOOKUP(IF(J9="",A9,J9),$L$3:$O$330,1,FALSE)=A9,1,0),0) -> 1 | G9: =_xlfn.IFNA(IF(VLOOKUP(IF(J9="",A9,J9),$L$3:$O$330,2,FALSE)=B9,1,0),0) -> 1 | H9: =_xlfn.IFNA(IF(VLOOKUP(IF(J9="",A9,J9),$L$3:$O$330,3,FALSE)=C9,1,0),0) -> 1 | I9: =_xlfn.IFNA(IF(VLOOKUP(IF(J9="",A9,J9),$L$3:$O$330,4,FALSE)=D9,1,0),0) -> 1 | L9: Andorra | M9: 41 | N9: 28 | O9: 91
A10: Angola | B10: 40 | C10: 27 | D10: 368 | F10: =_xlfn.IFNA(IF(VLOOKUP(IF(J10="",A10,J10),$L$3:$O$330,1,FALSE)=A10,1,0),0) -> 1 | G10: =_xlfn.IFNA(IF(VLOOKUP(IF(J10="",A10,J10),$L$3:$O$330,2,FALSE)=B10,1,0),0) -> 1 | H10: =_xlfn.IFNA(IF(VLOOKUP(IF(J10="",A10,J10),$L$3:$O$330,3,FALSE)=C10,1,0),0) -> 1 | I10: =_xlfn.IFNA(IF(VLOOKUP(IF(J10="",A10,J10),$L$3:$O$330,4,FALSE)=D10,1,0),0) -> 1 | L10: Angola | M10: 40 | N10: 27 | O10: 368 | Q10: Zur Prüfung
A11: Argentinien | B11: 35 | C11: 24 | D11: 113 | F11: =_xlfn.IFNA(IF(VLOOKUP(IF(J11="",A11,J11),$L$3:$O$330,1,FALSE)=A11,1,0),0) -> 1 | G11: =_xlfn.IFNA(IF(VLOOKUP(IF(J11="",A11,J11),$L$3:$O$330,2,FALSE)=B11,1,0),0) -> 1 | H11: =_xlfn.IFNA(IF(VLOOKUP(IF(J11="",A11,J11),$L$3:$O$330,3,FALSE)=C11,1,0),0) -> 1 | I11: =_xlfn.IFNA(IF(VLOOKUP(IF(J11="",A11,J11),$L$3:$O$330,4,FALSE)=D11,1,0),0) -> 1 | L11: Argentinien | M11: 35 | N11: 24 | O11: 113 | Q11: Anzahl Einträge in Tabelle (abzgl. DE) | T11: =COUNT(B3:B227)-1 -> 224
A12: Armenien | B12: 29 | C12: 20 | D12: 107 | F12: =_xlfn.IFNA(IF(VLOOKUP(IF(J12="",A12,J12),$L$3:$O$330,1,FALSE)=A12,1,0),0) -> 1 | G12: =_xlfn.IFNA(IF(VLOOKUP(IF(J12="",A12,J12),$L$3:$O$330,2,FALSE)=B12,1,0),0) -> 1 | H12: =_xlfn.IFNA(IF(VLOOKUP(IF(J12="",A12,J12),$L$3:$O$330,3,FALSE)=C12,1,0),0) -> 1 | I12: =_xlfn.IFNA(IF(VLOOKUP(IF(J12="",A12,J12),$L$3:$O$330,4,FALSE)=D12,1,0),0) -> 1 | L12: Armenien | M12: 29 | N12: 20 | O12: 107 | Q12: Anzahl Einträge in BMF-Schreiben | T12: =COUNT(M3:M400) -> 224
A13: Aserbaidschan | B13: 44 | C13: 29 | D13: 88 | F13: =_xlfn.IFNA(IF(VLOOKUP(IF(J13="",A13,J13),$L$3:$O$330,1,FALSE)=A13,1,0),0) -> 1 | G13: =_xlfn.IFNA(IF(VLOOKUP(IF(J13="",A13,J13),$L$3:$O$330,2,FALSE)=B13,1,0),0) -> 1 | H13: =_xlfn.IFNA(IF(VLOOKUP(IF(J13="",A13,J13),$L$3:$O$330,3,FALSE)=C13,1,0),0) -> 1 | I13: =_xlfn.IFNA(IF(VLOOKUP(IF(J13="",A13,J13),$L$3:$O$330,4,FALSE)=D13,1,0),0) -> 1 | L13: Aserbaidschan | M13: 44 | N13: 29 | O13: 88 | R13: Differenz: | T13: =T11-T12 -> 0
A14: Australien: Canberra | B14: 74 | C14: 49 | D14: 186 | F14: =_xlfn.IFNA(IF(VLOOKUP(IF(J14="",A14,J14),$L$3:$O$330,1,FALSE)=A14,1,0),0) -> 0 | G14: =_xlfn.IFNA(IF(VLOOKUP(IF(J14="",A14,J14),$L$3:$O$330,2,FALSE)=B14,1,0),0) -> 1 | H14: =_xlfn.IFNA(IF(VLOOKUP(IF(J14="",A14,J14),$L$3:$O$330,3,FALSE)=C14,1,0),0) -> 1 | I14: =_xlfn.IFNA(IF(VLOOKUP(IF(J14="",A14,J14),$L$3:$O$330,4,FALSE)=D14,1,0),0) -> 1 | J14: – Canberra | L14: Australien
A15: Australien: Sydney | B15: 57 | C15: 38 | D15: 173 | F15: =_xlfn.IFNA(IF(VLOOKUP(IF(J15="",A15,J15),$L$3:$O$330,1,FALSE)=A15,1,0),0) -> 0 | G15: =_xlfn.IFNA(IF(VLOOKUP(IF(J15="",A15,J15),$L$3:$O$330,2,FALSE)=B15,1,0),0) -> 1 | H15: =_xlfn.IFNA(IF(VLOOKUP(IF(J15="",A15,J15),$L$3:$O$330,3,FALSE)=C15,1,0),0) -> 1 | I15: =_xlfn.IFNA(IF(VLOOKUP(IF(J15="",A15,J15),$L$3:$O$330,4,FALSE)=D15,1,0),0) -> 1 | J15: – Sydney | L15: – Canberra | M15: 74 | N15: 49 | O15: 186
A16: Australien (Übriges) | B16: 57 | C16: 38 | D16: 173 | F16: =_xlfn.IFNA(IF(VLOOKUP(IF(J16="",A16,J16),$L$3:$O$330,1,FALSE)=A16,1,0),0) -> 0 | G16: =_xlfn.IFNA(IF(VLOOKUP(IF(J16="",A16,J16),$L$3:$O$330,2,FALSE)=B16,1,0),0) -> 1 | H16: =_xlfn.IFNA(IF(VLOOKUP(IF(J16="",A16,J16),$L$3:$O$330,3,FALSE)=C16,1,0),0) -> 1 | I16: =_xlfn.IFNA(IF(VLOOKUP(IF(J16="",A16,J16),$L$3:$O$330,4,FALSE)=D16,1,0),0) -> 1 | J16: – im Übrigen | L16: – Sydney | M16: 57 | N16: 38 | O16: 173 | Q16: Vorgehen
A17: Bahrain | B17: 48 | C17: 32 | D17: 153 | F17: =_xlfn.IFNA(IF(VLOOKUP(IF(J17="",A17,J17),$L$3:$O$330,1,FALSE)=A17,1,0),0) -> 1 | G17: =_xlfn.IFNA(IF(VLOOKUP(IF(J17="",A17,J17),$L$3:$O$330,2,FALSE)=B17,1,0),0) -> 1 | H17: =_xlfn.IFNA(IF(VLOOKUP(IF(J17="",A17,J17),$L$3:$O$330,3,FALSE)=C17,1,0),0) -> 1 | I17: =_xlfn.IFNA(IF(VLOOKUP(IF(J17="",A17,J17),$L$3:$O$330,4,FALSE)=D17,1,0),0) -> 1 | L17: – im Übrigen | M17: 57 | N17: 38 | O17: 173 | Q17: Entweder | R17: Werte des BMF "händisch" mit den Werten in der Tabelle abgleichen.
A18: Bangladesch | B18: 46 | C18: 31 | D18: 189 | F18: =_xlfn.IFNA(IF(VLOOKUP(IF(J18="",A18,J18),$L$3:$O$330,1,FALSE)=A18,1,0),0) -> 1 | G18: =_xlfn.IFNA(IF(VLOOKUP(IF(J18="",A18,J18),$L$3:$O$330,2,FALSE)=B18,1,0),0) -> 1 | H18: =_xlfn.IFNA(IF(VLOOKUP(IF(J18="",A18,J18),$L$3:$O$330,3,FALSE)=C18,1,0),0) -> 1 | I18: =_xlfn.IFNA(IF(VLOOKUP(IF(J18="",A18,J18),$L$3:$O$330,4,FALSE)=D18,1,0),0) -> 1 | L18: Bahrain | M18: 48 | N18: 32 | O18: 153 | Q18: Oder | R18: 1. BMF-Schreiben als PFD herunterladen.
A19: Barbados | B19: 54 | C19: 36 | D19: 206 | F19: =_xlfn.IFNA(IF(VLOOKUP(IF(J19="",A19,J19),$L$3:$O$330,1,FALSE)=A19,1,0),0) -> 1 | G19: =_xlfn.IFNA(IF(VLOOKUP(IF(J19="",A19,J19),$L$3:$O$330,2,FALSE)=B19,1,0),0) -> 1 | H19: =_xlfn.IFNA(IF(VLOOKUP(IF(J19="",A19,J19),$L$3:$O$330,3,FALSE)=C19,1,0),0) -> 1 | I19: =_xlfn.IFNA(IF(VLOOKUP(IF(J19="",A19,J19),$L$3:$O$330,4,FALSE)=D19,1,0),0) -> 1 | L19: Bangladesch | M19: 46 | N19: 31 | O19: 189 | R19: 2. Mit Small-PDF in Excel konvertieren.
A20: Belgien | B20: 59 | C20: 40 | D20: 141 | F20: =_xlfn.IFNA(IF(VLOOKUP(IF(J20="",A20,J20),$L$3:$O$330,1,FALSE)=A20,1,0),0) -> 1 | G20: =_xlfn.IFNA(IF(VLOOKUP(IF(J20="",A20,J20),$L$3:$O$330,2,FALSE)=B20,1,0),0) -> 1 | H20: =_xlfn.IFNA(IF(VLOOKUP(IF(J20="",A20,J20),$L$3:$O$330,3,FALSE)=C20,1,0),0) -> 1 | I20: =_xlfn.IFNA(IF(VLOOKUP(IF(J20="",A20,J20),$L$3:$O$330,4,FALSE)=D20,1,0),0) -> 1 | L20: Barbados | M20: 54 | N20: 36 | O20: 206 | R20: 3. Tabelle hier links einfügen.
A21: Benin | B21: 40 | C21: 27 | D21: 168 | F21: =_xlfn.IFNA(IF(VLOOKUP(IF(J21="",A21,J21),$L$3:$O$330,1,FALSE)=A21,1,0),0) -> 1 | G21: =_xlfn.IFNA(IF(VLOOKUP(IF(J21="",A21,J21),$L$3:$O$330,2,FALSE)=B21,1,0),0) -> 1 | H21: =_xlfn.IFNA(IF(VLOOKUP(IF(J21="",A21,J21),$L$3:$O$330,3,FALSE)=C21,1,0),0) -> 1 | I21: =_xlfn.IFNA(IF(VLOOKUP(IF(J21="",A21,J21),$L$3:$O$330,4,FALSE)=D21,1,0),0) -> 1 | L21: Belgien | M21: 59 | N21: 40 | O21: 141 | R21: 4. Bezeichnungen und Werte mithilfe der bedingten Formatiereungen (Farben) abgleichen.
A22: Bhutan | B22: 27 | C22: 18 | D22: 176 | F22: =_xlfn.IFNA(IF(VLOOKUP(IF(J22="",A22,J22),$L$3:$O$330,1,FALSE)=A22,1,0),0) -> 1 | G22: =_xlfn.IFNA(IF(VLOOKUP(IF(J22="",A22,J22),$L$3:$O$330,2,FALSE)=B22,1,0),0) -> 1 | H22: =_xlfn.IFNA(IF(VLOOKUP(IF(J22="",A22,J22),$L$3:$O$330,3,FALSE)=C22,1,0),0) -> 1 | I22: =_xlfn.IFNA(IF(VLOOKUP(IF(J22="",A22,J22),$L$3:$O$330,4,FALSE)=D22,1,0),0) -> 1 | L22: Benin | M22: 40 | N22: 27 | O22: 168
A23: Bolivien | B23: 46 | C23: 31 | D23: 108 | F23: =_xlfn.IFNA(IF(VLOOKUP(IF(J23="",A23,J23),$L$3:$O$330,1,FALSE)=A23,1,0),0) -> 1 | G23: =_xlfn.IFNA(IF(VLOOKUP(IF(J23="",A23,J23),$L$3:$O$330,2,FALSE)=B23,1,0),0) -> 1 | H23: =_xlfn.IFNA(IF(VLOOKUP(IF(J23="",A23,J23),$L$3:$O$330,3,FALSE)=C23,1,0),0) -> 1 | I23: =_xlfn.IFNA(IF(VLOOKUP(IF(J23="",A23,J23),$L$3:$O$330,4,FALSE)=D23,1,0),0) -> 1 | L23: Bhutan | M23: 27 | N23: 18 | O23: 176
A24: Bosnien und Herzegowina | B24: 23 | C24: 16 | D24: 75 | F24: =_xlfn.IFNA(IF(VLOOKUP(IF(J24="",A24,J24),$L$3:$O$330,1,FALSE)=A24,1,0),0) -> 1 | G24: =_xlfn.IFNA(IF(VLOOKUP(IF(J24="",A24,J24),$L$3:$O$330,2,FALSE)=B24,1,0),0) -> 1 | H24: =_xlfn.IFNA(IF(VLOOKUP(IF(J24="",A24,J24),$L$3:$O$330,3,FALSE)=C24,1,0),0) -> 1 | I24: =_xlfn.IFNA(IF(VLOOKUP(IF(J24="",A24,J24),$L$3:$O$330,4,FALSE)=D24,1,0),0) -> 1 | L24: Bolivien | M24: 46 | N24: 31 | O24: 108
A25: Botsuana | B25: 46 | C25: 31 | D25: 176 | F25: =_xlfn.IFNA(IF(VLOOKUP(IF(J25="",A25,J25),$L$3:$O$330,1,FALSE)=A25,1,0),0) -> 1 | G25: =_xlfn.IFNA(IF(VLOOKUP(IF(J25="",A25,J25),$L$3:$O$330,2,FALSE)=B25,1,0),0) -> 1 | H25: =_xlfn.IFNA(IF(VLOOKUP(IF(J25="",A25,J25),$L$3:$O$330,3,FALSE)=C25,1,0),0) -> 1 | I25: =_xlfn.IFNA(IF(VLOOKUP(IF(J25="",A25,J25),$L$3:$O$330,4,FALSE)=D25,1,0),0) -> 1 | L25: Bosnien und Herzegowina | M25: 23 | N25: 16 | O25: 75
A26: Brasilien: Brasilia | B26: 51 | C26: 34 | D26: 88 | F26: =_xlfn.IFNA(IF(VLOOKUP(IF(J26="",A26,J26),$L$3:$O$330,1,FALSE)=A26,1,0),0) -> 0 | G26: =_xlfn.IFNA(IF(VLOOKUP(IF(J26="",A26,J26),$L$3:$O$330,2,FALSE)=B26,1,0),0) -> 1 | H26: =_xlfn.IFNA(IF(VLOOKUP(IF(J26="",A26,J26),$L$3:$O$330,3,FALSE)=C26,1,0),0) -> 1 | I26: =_xlfn.IFNA(IF(VLOOKUP(IF(J26="",A26,J26),$L$3:$O$330,4,FALSE)=D26,1,0),0) -> 1 | J26: – Brasilia | L26: Botsuana | M26: 46 | N26: 31 | O26: 176
A27: Brasilien: Rio de Janeiro | B27: 69 | C27: 46 | D27: 140 | F27: =_xlfn.IFNA(IF(VLOOKUP(IF(J27="",A27,J27),$L$3:$O$330,1,FALSE)=A27,1,0),0) -> 0 | G27: =_xlfn.IFNA(IF(VLOOKUP(IF(J27="",A27,J27),$L$3:$O$330,2,FALSE)=B27,1,0),0) -> 1 | H27: =_xlfn.IFNA(IF(VLOOKUP(IF(J27="",A27,J27),$L$3:$O$330,3,FALSE)=C27,1,0),0) -> 1 | I27: =_xlfn.IFNA(IF(VLOOKUP(IF(J27="",A27,J27),$L$3:$O$330,4,FALSE)=D27,1,0),0) -> 1 | J27: – Rio de Janeiro | L27: Brasilien
A28: Brasilien: São Paulo | B28: 46 | C28: 31 | D28: 151 | F28: =_xlfn.IFNA(IF(VLOOKUP(IF(J28="",A28,J28),$L$3:$O$330,1,FALSE)=A28,1,0),0) -> 0 | G28: =_xlfn.IFNA(IF(VLOOKUP(IF(J28="",A28,J28),$L$3:$O$330,2,FALSE)=B28,1,0),0) -> 1 | H28: =_xlfn.IFNA(IF(VLOOKUP(IF(J28="",A28,J28),$L$3:$O$330,3,FALSE)=C28,1,0),0) -> 1 | I28: =_xlfn.IFNA(IF(VLOOKUP(IF(J28="",A28,J28),$L$3:$O$330,4,FALSE)=D28,1,0),0) -> 1 | J28: – Sao Paulo | L28: – Brasilia | M28: 51 | N28: 34 | O28: 88
A29: Brasilien (Übriges) | B29: 46 | C29: 31 | D29: 88 | F29: =_xlfn.IFNA(IF(VLOOKUP(IF(J29="",A29,J29),$L$3:$O$330,1,FALSE)=A29,1,0),0) -> 0 | G29: =_xlfn.IFNA(IF(VLOOKUP(IF(J29="",A29,J29),$L$3:$O$330,2,FALSE)=B29,1,0),0) -> 0 | H29: =_xlfn.IFNA(IF(VLOOKUP(IF(J29="",A29,J29),$L$3:$O$330,3,FALSE)=C29,1,0),0) -> 0 | I29: =_xlfn.IFNA(IF(VLOOKUP(IF(J29="",A29,J29),$L$3:$O$330,4,FALSE)=D29,1,0),0) -> 0 | J29: – im Übrigen | L29: – Rio de Janeiro | M29: 69 | N29: 46 | O29: 140
A30: Brunei | B30: 45 | C30: 30 | D30: 110 | F30: =_xlfn.IFNA(IF(VLOOKUP(IF(J30="",A30,J30),$L$3:$O$330,1,FALSE)=A30,1,0),0) -> 1 | G30: =_xlfn.IFNA(IF(VLOOKUP(IF(J30="",A30,J30),$L$3:$O$330,2,FALSE)=B30,1,0),0) -> 1 | H30: =_xlfn.IFNA(IF(VLOOKUP(IF(J30="",A30,J30),$L$3:$O$330,3,FALSE)=C30,1,0),0) -> 1 | I30: =_xlfn.IFNA(IF(VLOOKUP(IF(J30="",A30,J30),$L$3:$O$330,4,FALSE)=D30,1,0),0) -> 1 | L30: – Sao Paulo | M30: 46 | N30: 31 | O30: 151
A31: Bulgarien | B31: 22 | C31: 15 | D31: 115 | F31: =_xlfn.IFNA(IF(VLOOKUP(IF(J31="",A31,J31),$L$3:$O$330,1,FALSE)=A31,1,0),0) -> 1 | G31: =_xlfn.IFNA(IF(VLOOKUP(IF(J31="",A31,J31),$L$3:$O$330,2,FALSE)=B31,1,0),0) -> 1 | H31: =_xlfn.IFNA(IF(VLOOKUP(IF(J31="",A31,J31),$L$3:$O$330,3,FALSE)=C31,1,0),0) -> 1 | I31: =_xlfn.IFNA(IF(VLOOKUP(IF(J31="",A31,J31),$L$3:$O$330,4,FALSE)=D31,1,0),0) -> 1 | L31: – im Übrigen | M31: 46 | N31: 31 | O31: 88
A32: Burkina Faso | B32: 38 | C32: 25 | D32: 174 | F32: =_xlfn.IFNA(IF(VLOOKUP(IF(J32="",A32,J32),$L$3:$O$330,1,FALSE)=A32,1,0),0) -> 1 | G32: =_xlfn.IFNA(IF(VLOOKUP(IF(J32="",A32,J32),$L$3:$O$330,2,FALSE)=B32,1,0),0) -> 1 | H32: =_xlfn.IFNA(IF(VLOOKUP(IF(J32="",A32,J32),$L$3:$O$330,3,FALSE)=C32,1,0),0) -> 1 | I32: =_xlfn.IFNA(IF(VLOOKUP(IF(J32="",A32,J32),$L$3:$O$330,4,FALSE)=D32,1,0),0) -> 1 | L32: Brunei | M32: 45 | N32: 30 | O32: 110
A33: Burundi | B33: 36 | C33: 24 | D33: 138 | F33: =_xlfn.IFNA(IF(VLOOKUP(IF(J33="",A33,J33),$L$3:$O$330,1,FALSE)=A33,1,0),0) -> 1 | G33: =_xlfn.IFNA(IF(VLOOKUP(IF(J33="",A33,J33),$L$3:$O$330,2,FALSE)=B33,1,0),0) -> 1 | H33: =_xlfn.IFNA(IF(VLOOKUP(IF(J33="",A33,J33),$L$3:$O$330,3,FALSE)=C33,1,0),0) -> 1 | I33: =_xlfn.IFNA(IF(VLOOKUP(IF(J33="",A33,J33),$L$3:$O$330,4,FALSE)=D33,1,0),0) -> 1 | L33: Bulgarien | M33: 22 | N33: 15 | O33: 115
A34: Chile | B34: 44 | C34: 29 | D34: 154 | F34: =_xlfn.IFNA(IF(VLOOKUP(IF(J34="",A34,J34),$L$3:$O$330,1,FALSE)=A34,1,0),0) -> 1 | G34: =_xlfn.IFNA(IF(VLOOKUP(IF(J34="",A34,J34),$L$3:$O$330,2,FALSE)=B34,1,0),0) -> 1 | H34: =_xlfn.IFNA(IF(VLOOKUP(IF(J34="",A34,J34),$L$3:$O$330,3,FALSE)=C34,1,0),0) -> 1 | I34: =_xlfn.IFNA(IF(VLOOKUP(IF(J34="",A34,J34),$L$3:$O$330,4,FALSE)=D34,1,0),0) -> 1 | L34: Burkina Faso | M34: 38 | N34: 25 | O34: 174
A35: China: Chengdu | B35: 41 | C35: 28 | D35: 131 | F35: =_xlfn.IFNA(IF(VLOOKUP(IF(J35="",A35,J35),$L$3:$O$330,1,FALSE)=A35,1,0),0) -> 0 | G35: =_xlfn.IFNA(IF(VLOOKUP(IF(J35="",A35,J35),$L$3:$O$330,2,FALSE)=B35,1,0),0) -> 1 | H35: =_xlfn.IFNA(IF(VLOOKUP(IF(J35="",A35,J35),$L$3:$O$330,3,FALSE)=C35,1,0),0) -> 1 | I35: =_xlfn.IFNA(IF(VLOOKUP(IF(J35="",A35,J35),$L$3:$O$330,4,FALSE)=D35,1,0),0) -> 1 | J35: – Chengdu | L35: Burundi | M35: 36 | N35: 24 | O35: 138
A36: China: Hongkong | B36: 71 | C36: 48 | D36: 169 | F36: =_xlfn.IFNA(IF(VLOOKUP(IF(J36="",A36,J36),$L$3:$O$330,1,FALSE)=A36,1,0),0) -> 0 | G36: =_xlfn.IFNA(IF(VLOOKUP(IF(J36="",A36,J36),$L$3:$O$330,2,FALSE)=B36,1,0),0) -> 1 | H36: =_xlfn.IFNA(IF(VLOOKUP(IF(J36="",A36,J36),$L$3:$O$330,3,FALSE)=C36,1,0),0) -> 1 | I36: =_xlfn.IFNA(IF(VLOOKUP(IF(J36="",A36,J36),$L$3:$O$330,4,FALSE)=D36,1,0),0) -> 1 | J36: – Hongkong | L36: Chile | M36: 44 | N36: 29 | O36: 154
A37: China: Kanton | B37: 36 | C37: 24 | D37: 150 | F37: =_xlfn.IFNA(IF(VLOOKUP(IF(J37="",A37,J37),$L$3:$O$330,1,FALSE)=A37,1,0),0) -> 0 | G37: =_xlfn.IFNA(IF(VLOOKUP(IF(J37="",A37,J37),$L$3:$O$330,2,FALSE)=B37,1,0),0) -> 1 | H37: =_xlfn.IFNA(IF(VLOOKUP(IF(J37="",A37,J37),$L$3:$O$330,3,FALSE)=C37,1,0),0) -> 1 | I37: =_xlfn.IFNA(IF(VLOOKUP(IF(J37="",A37,J37),$L$3:$O$330,4,FALSE)=D37,1,0),0) -> 1 | J37: – Kanton | L37: China
A38: China: Peking | B38: 30 | C38: 20 | D38: 185 | F38: =_xlfn.IFNA(IF(VLOOKUP(IF(J38="",A38,J38),$L$3:$O$330,1,FALSE)=A38,1,0),0) -> 0 | G38: =_xlfn.IFNA(IF(VLOOKUP(IF(J38="",A38,J38),$L$3:$O$330,2,FALSE)=B38,1,0),0) -> 1 | H38: =_xlfn.IFNA(IF(VLOOKUP(IF(J38="",A38,J38),$L$3:$O$330,3,FALSE)=C38,1,0),0) -> 1 | I38: =_xlfn.IFNA(IF(VLOOKUP(IF(J38="",A38,J38),$L$3:$O$330,4,FALSE)=D38,1,0),0) -> 1 | J38: – Peking
A39: China: Shanghai | B39: 58 | C39: 39 | D39: 217 | F39: =_xlfn.IFNA(IF(VLOOKUP(IF(J39="",A39,J39),$L$3:$O$330,1,FALSE)=A39,1,0),0) -> 0 | G39: =_xlfn.IFNA(IF(VLOOKUP(IF(J39="",A39,J39),$L$3:$O$330,2,FALSE)=B39,1,0),0) -> 1 | H39: =_xlfn.IFNA(IF(VLOOKUP(IF(J39="",A39,J39),$L$3:$O$330,3,FALSE)=C39,1,0),0) -> 1 | I39: =_xlfn.IFNA(IF(VLOOKUP(IF(J39="",A39,J39),$L$3:$O$330,4,FALSE)=D39,1,0),0) -> 1 | J39: – Shanghai | L39: – Chengdu | M39: 41 | N39: 28 | O39: 131
A40: China (Übriges) | B40: 48 | C40: 32 | D40: 112 | F40: =_xlfn.IFNA(IF(VLOOKUP(IF(J40="",A40,J40),$L$3:$O$330,1,FALSE)=A40,1,0),0) -> 0 | G40: =_xlfn.IFNA(IF(VLOOKUP(IF(J40="",A40,J40),$L$3:$O$330,2,FALSE)=B40,1,0),0) -> 0 | H40: =_xlfn.IFNA(IF(VLOOKUP(IF(J40="",A40,J40),$L$3:$O$330,3,FALSE)=C40,1,0),0) -> 0 | I40: =_xlfn.IFNA(IF(VLOOKUP(IF(J40="",A40,J40),$L$3:$O$330,4,FALSE)=D40,1,0),0) -> 0 | J40: – im Übrigen | L40: – Hongkong | M40: 71 | N40: 48 | O40: 169
A41: Costa Rica | B41: 60 | C41: 40 | D41: 127 | F41: =_xlfn.IFNA(IF(VLOOKUP(IF(J41="",A41,J41),$L$3:$O$330,1,FALSE)=A41,1,0),0) -> 1 | G41: =_xlfn.IFNA(IF(VLOOKUP(IF(J41="",A41,J41),$L$3:$O$330,2,FALSE)=B41,1,0),0) -> 1 | H41: =_xlfn.IFNA(IF(VLOOKUP(IF(J41="",A41,J41),$L$3:$O$330,3,FALSE)=C41,1,0),0) -> 1 | I41: =_xlfn.IFNA(IF(VLOOKUP(IF(J41="",A41,J41),$L$3:$O$330,4,FALSE)=D41,1,0),0) -> 1 | L41: – Kanton | M41: 36 | N41: 24 | O41: 150
A42: Elfenbeinküste (Côte d'Ivoire) | B42: 59 | C42: 40 | D42: 166 | F42: =_xlfn.IFNA(IF(VLOOKUP(IF(J42="",A42,J42),$L$3:$O$330,1,FALSE)=A42,1,0),0) -> 0 | G42: =_xlfn.IFNA(IF(VLOOKUP(IF(J42="",A42,J42),$L$3:$O$330,2,FALSE)=B42,1,0),0) -> 1 | H42: =_xlfn.IFNA(IF(VLOOKUP(IF(J42="",A42,J42),$L$3:$O$330,3,FALSE)=C42,1,0),0) -> 1 | I42: =_xlfn.IFNA(IF(VLOOKUP(IF(J42="",A42,J42),$L$3:$O$330,4,FALSE)=D42,1,0),0) -> 1 | J42: Côte d’Ivoire | L42: – Peking | M42: 30 | N42: 20 | O42: 185
A43: Deutschland | B43: 28 | C43: 14 | D43: 20 | F43: =_xlfn.IFNA(IF(VLOOKUP(IF(J43="",A43,J43),$L$3:$O$330,1,FALSE)=A43,1,0),0) -> 0 | G43: =_xlfn.IFNA(IF(VLOOKUP(IF(J43="",A43,J43),$L$3:$O$330,2,FALSE)=B43,1,0),0) -> 0 | H43: =_xlfn.IFNA(IF(VLOOKUP(IF(J43="",A43,J43),$L$3:$O$330,3,FALSE)=C43,1,0),0) -> 0 | I43: =_xlfn.IFNA(IF(VLOOKUP(IF(J43="",A43,J43),$L$3:$O$330,4,FALSE)=D43,1,0),0) -> 0 | L43: – Shanghai | M43: 58 | N43: 39 | O43: 217
A44: Dänemark | B44: 75 | C44: 50 | D44: 183 | F44: =_xlfn.IFNA(IF(VLOOKUP(IF(J44="",A44,J44),$L$3:$O$330,1,FALSE)=A44,1,0),0) -> 1 | G44: =_xlfn.IFNA(IF(VLOOKUP(IF(J44="",A44,J44),$L$3:$O$330,2,FALSE)=B44,1,0),0) -> 1 | H44: =_xlfn.IFNA(IF(VLOOKUP(IF(J44="",A44,J44),$L$3:$O$330,3,FALSE)=C44,1,0),0) -> 1 | I44: =_xlfn.IFNA(IF(VLOOKUP(IF(J44="",A44,J44),$L$3:$O$330,4,FALSE)=D44,1,0),0) -> 1 | L44: – im Übrigen | M44: 48 | N44: 32 | O44: 112
A45: Dominikanische Republik | B45: 50 | C45: 33 | D45: 167 | F45: =_xlfn.IFNA(IF(VLOOKUP(IF(J45="",A45,J45),$L$3:$O$330,1,FALSE)=A45,1,0),0) -> 1 | G45: =_xlfn.IFNA(IF(VLOOKUP(IF(J45="",A45,J45),$L$3:$O$330,2,FALSE)=B45,1,0),0) -> 1 | H45: =_xlfn.IFNA(IF(VLOOKUP(IF(J45="",A45,J45),$L$3:$O$330,3,FALSE)=C45,1,0),0) -> 1 | I45: =_xlfn.IFNA(IF(VLOOKUP(IF(J45="",A45,J45),$L$3:$O$330,4,FALSE)=D45,1,0),0) -> 1 | L45: Costa Rica | M45: 60 | N45: 40 | O45: 127
A46: Dschibuti | B46: 77 | C46: 52 | D46: 255 | F46: =_xlfn.IFNA(IF(VLOOKUP(IF(J46="",A46,J46),$L$3:$O$330,1,FALSE)=A46,1,0),0) -> 1 | G46: =_xlfn.IFNA(IF(VLOOKUP(IF(J46="",A46,J46),$L$3:$O$330,2,FALSE)=B46,1,0),0) -> 1 | H46: =_xlfn.IFNA(IF(VLOOKUP(IF(J46="",A46,J46),$L$3:$O$330,3,FALSE)=C46,1,0),0) -> 1 | I46: =_xlfn.IFNA(IF(VLOOKUP(IF(J46="",A46,J46),$L$3:$O$330,4,FALSE)=D46,1,0),0) -> 1 | L46: Côte d’Ivoire | M46: 59 | N46: 40 | O46: 166
A47: Ecuador | B47: 27 | C47: 18 | D47: 103 | F47: =_xlfn.IFNA(IF(VLOOKUP(IF(J47="",A47,J47),$L$3:$O$330,1,FALSE)=A47,1,0),0) -> 1 | G47: =_xlfn.IFNA(IF(VLOOKUP(IF(J47="",A47,J47),$L$3:$O$330,2,FALSE)=B47,1,0),0) -> 1 | H47: =_xlfn.IFNA(IF(VLOOKUP(IF(J47="",A47,J47),$L$3:$O$330,3,FALSE)=C47,1,0),0) -> 1 | I47: =_xlfn.IFNA(IF(VLOOKUP(IF(J47="",A47,J47),$L$3:$O$330,4,FALSE)=D47,1,0),0) -> 1
A48: El Salvador | B48: 65 | C48: 44 | D48: 161 | F48: =_xlfn.IFNA(IF(VLOOKUP(IF(J48="",A48,J48),$L$3:$O$330,1,FALSE)=A48,1,0),0) -> 1 | G48: =_xlfn.IFNA(IF(VLOOKUP(IF(J48="",A48,J48),$L$3:$O$330,2,FALSE)=B48,1,0),0) -> 1 | H48: =_xlfn.IFNA(IF(VLOOKUP(IF(J48="",A48,J48),$L$3:$O$330,3,FALSE)=C48,1,0),0) -> 1 | I48: =_xlfn.IFNA(IF(VLOOKUP(IF(J48="",A48,J48),$L$3:$O$330,4,FALSE)=D48,1,0),0) -> 1 | L48: Dänemark | M48: 75 | N48: 50 | O48: 183
A49: Eritrea | B49: 46 | C49: 31 | D49: 78 | F49: =_xlfn.IFNA(IF(VLOOKUP(IF(J49="",A49,J49),$L$3:$O$330,1,FALSE)=A49,1,0),0) -> 1 | G49: =_xlfn.IFNA(IF(VLOOKUP(IF(J49="",A49,J49),$L$3:$O$330,2,FALSE)=B49,1,0),0) -> 1 | H49: =_xlfn.IFNA(IF(VLOOKUP(IF(J49="",A49,J49),$L$3:$O$330,3,FALSE)=C49,1,0),0) -> 1 | I49: =_xlfn.IFNA(IF(VLOOKUP(IF(J49="",A49,J49),$L$3:$O$330,4,FALSE)=D49,1,0),0) -> 1 | L49: Dominikanische Republik | M49: 50 | N49: 33 | O49: 167
A50: Estland | B50: 29 | C50: 20 | D50: 85 | F50: =_xlfn.IFNA(IF(VLOOKUP(IF(J50="",A50,J50),$L$3:$O$330,1,FALSE)=A50,1,0),0) -> 1 | G50: =_xlfn.IFNA(IF(VLOOKUP(IF(J50="",A50,J50),$L$3:$O$330,2,FALSE)=B50,1,0),0) -> 1 | H50: =_xlfn.IFNA(IF(VLOOKUP(IF(J50="",A50,J50),$L$3:$O$330,3,FALSE)=C50,1,0),0) -> 1 | I50: =_xlfn.IFNA(IF(VLOOKUP(IF(J50="",A50,J50),$L$3:$O$330,4,FALSE)=D50,1,0),0) -> 1 | L50: Dschibuti | M50: 77 | N50: 52 | O50: 255
A51: Fidschi | B51: 32 | C51: 21 | D51: 183 | F51: =_xlfn.IFNA(IF(VLOOKUP(IF(J51="",A51,J51),$L$3:$O$330,1,FALSE)=A51,1,0),0) -> 1 | G51: =_xlfn.IFNA(IF(VLOOKUP(IF(J51="",A51,J51),$L$3:$O$330,2,FALSE)=B51,1,0),0) -> 1 | H51: =_xlfn.IFNA(IF(VLOOKUP(IF(J51="",A51,J51),$L$3:$O$330,3,FALSE)=C51,1,0),0) -> 1 | I51: =_xlfn.IFNA(IF(VLOOKUP(IF(J51="",A51,J51),$L$3:$O$330,4,FALSE)=D51,1,0),0) -> 1 | L51: Ecuador | M51: 27 | N51: 18 | O51: 103
A52: Finnland | B52: 54 | C52: 36 | D52: 171 | F52: =_xlfn.IFNA(IF(VLOOKUP(IF(J52="",A52,J52),$L$3:$O$330,1,FALSE)=A52,1,0),0) -> 1 | G52: =_xlfn.IFNA(IF(VLOOKUP(IF(J52="",A52,J52),$L$3:$O$330,2,FALSE)=B52,1,0),0) -> 1 | H52: =_xlfn.IFNA(IF(VLOOKUP(IF(J52="",A52,J52),$L$3:$O$330,3,FALSE)=C52,1,0),0) -> 1 | I52: =_xlfn.IFNA(IF(VLOOKUP(IF(J52="",A52,J52),$L$3:$O$330,4,FALSE)=D52,1,0),0) -> 1 | L52: El Salvador | M52: 65 | N52: 44 | O52: 161
A53: Frankreich: Paris, sowie Departments 77, 78, 91 - 95 | B53: 58 | C53: 39 | D53: 159 | F53: =_xlfn.IFNA(IF(VLOOKUP(IF(J53="",A53,J53),$L$3:$O$330,1,FALSE)=A53,1,0),0) -> 0 | G53: =_xlfn.IFNA(IF(VLOOKUP(IF(J53="",A53,J53),$L$3:$O$330,2,FALSE)=B53,1,0),0) -> 1 | H53: =_xlfn.IFNA(IF(VLOOKUP(IF(J53="",A53,J53),$L$3:$O$330,3,FALSE)=C53,1,0),0) -> 1 | I53: =_xlfn.IFNA(IF(VLOOKUP(IF(J53="",A53,J53),$L$3:$O$330,4,FALSE)=D53,1,0),0) -> 1 | J53: – Paris sowie die Departments 77, 78, 91 bis 95 | L53: Eritrea | M53: 46 | N53: 31 | O53: 78
A54: Frankreich (Übriges) | B54: 53 | C54: 36 | D54: 105 | F54: =_xlfn.IFNA(IF(VLOOKUP(IF(J54="",A54,J54),$L$3:$O$330,1,FALSE)=A54,1,0),0) -> 0 | G54: =_xlfn.IFNA(IF(VLOOKUP(IF(J54="",A54,J54),$L$3:$O$330,2,FALSE)=B54,1,0),0) -> 0 | H54: =_xlfn.IFNA(IF(VLOOKUP(IF(J54="",A54,J54),$L$3:$O$330,3,FALSE)=C54,1,0),0) -> 0 | I54: =_xlfn.IFNA(IF(VLOOKUP(IF(J54="",A54,J54),$L$3:$O$330,4,FALSE)=D54,1,0),0) -> 0 | J54: – im Übrigen | L54: Estland | M54: 29 | N54: 20 | O54: 85
A55: Gabun | B55: 64 | C55: 43 | D55: 263 | F55: =_xlfn.IFNA(IF(VLOOKUP(IF(J55="",A55,J55),$L$3:$O$330,1,FALSE)=A55,1,0),0) -> 1 | G55: =_xlfn.IFNA(IF(VLOOKUP(IF(J55="",A55,J55),$L$3:$O$330,2,FALSE)=B55,1,0),0) -> 1 | H55: =_xlfn.IFNA(IF(VLOOKUP(IF(J55="",A55,J55),$L$3:$O$330,3,FALSE)=C55,1,0),0) -> 1 | I55: =_xlfn.IFNA(IF(VLOOKUP(IF(J55="",A55,J55),$L$3:$O$330,4,FALSE)=D55,1,0),0) -> 1 | L55: Fidschi | M55: 32 | N55: 21 | O55: 183
A56: Gambia | B56: 40 | C56: 27 | D56: 161 | F56: =_xlfn.IFNA(IF(VLOOKUP(IF(J56="",A56,J56),$L$3:$O$330,1,FALSE)=A56,1,0),0) -> 1 | G56: =_xlfn.IFNA(IF(VLOOKUP(IF(J56="",A56,J56),$L$3:$O$330,2,FALSE)=B56,1,0),0) -> 1 | H56: =_xlfn.IFNA(IF(VLOOKUP(IF(J56="",A56,J56),$L$3:$O$330,3,FALSE)=C56,1,0),0) -> 1 | I56: =_xlfn.IFNA(IF(VLOOKUP(IF(J56="",A56,J56),$L$3:$O$330,4,FALSE)=D56,1,0),0) -> 1 | L56: Finnland | M56: 54 | N56: 36 | O56: 171
A57: Georgien | B57: 45 | C57: 30 | D57: 87 | F57: =_xlfn.IFNA(IF(VLOOKUP(IF(J57="",A57,J57),$L$3:$O$330,1,FALSE)=A57,1,0),0) -> 1 | G57: =_xlfn.IFNA(IF(VLOOKUP(IF(J57="",A57,J57),$L$3:$O$330,2,FALSE)=B57,1,0),0) -> 1 | H57: =_xlfn.IFNA(IF(VLOOKUP(IF(J57="",A57,J57),$L$3:$O$330,3,FALSE)=C57,1,0),0) -> 1 | I57: =_xlfn.IFNA(IF(VLOOKUP(IF(J57="",A57,J57),$L$3:$O$330,4,FALSE)=D57,1,0),0) -> 1 | L57: Frankreich
A58: Ghana | B58: 46 | C58: 31 | D58: 203 | F58: =_xlfn.IFNA(IF(VLOOKUP(IF(J58="",A58,J58),$L$3:$O$330,1,FALSE)=A58,1,0),0) -> 1 | G58: =_xlfn.IFNA(IF(VLOOKUP(IF(J58="",A58,J58),$L$3:$O$330,2,FALSE)=B58,1,0),0) -> 1 | H58: =_xlfn.IFNA(IF(VLOOKUP(IF(J58="",A58,J58),$L$3:$O$330,3,FALSE)=C58,1,0),0) -> 1 | I58: =_xlfn.IFNA(IF(VLOOKUP(IF(J58="",A58,J58),$L$3:$O$330,4,FALSE)=D58,1,0),0) -> 1 | L58: – Paris sowie die Departments 77, 78, 91 bis 95 | M58: 58 | N58: 39 | O58: 159
A59: Griechenland: Athen | B59: 40 | C59: 27 | D59: 139 | F59: =_xlfn.IFNA(IF(VLOOKUP(IF(J59="",A59,J59),$L$3:$O$330,1,FALSE)=A59,1,0),0) -> 0 | G59: =_xlfn.IFNA(IF(VLOOKUP(IF(J59="",A59,J59),$L$3:$O$330,2,FALSE)=B59,1,0),0) -> 1 | H59: =_xlfn.IFNA(IF(VLOOKUP(IF(J59="",A59,J59),$L$3:$O$330,3,FALSE)=C59,1,0),0) -> 1 | I59: =_xlfn.IFNA(IF(VLOOKUP(IF(J59="",A59,J59),$L$3:$O$330,4,FALSE)=D59,1,0),0) -> 1 | J59: – Athen | L59: – im Übrigen | M59: 53 | N59: 36 | O59: 105
A60: Griechenland (Übriges) | B60: 36 | C60: 24 | D60: 150 | F60: =_xlfn.IFNA(IF(VLOOKUP(IF(J60="",A60,J60),$L$3:$O$330,1,FALSE)=A60,1,0),0) -> 0 | G60: =_xlfn.IFNA(IF(VLOOKUP(IF(J60="",A60,J60),$L$3:$O$330,2,FALSE)=B60,1,0),0) -> 0 | H60: =_xlfn.IFNA(IF(VLOOKUP(IF(J60="",A60,J60),$L$3:$O$330,3,FALSE)=C60,1,0),0) -> 0 | I60: =_xlfn.IFNA(IF(VLOOKUP(IF(J60="",A60,J60),$L$3:$O$330,4,FALSE)=D60,1,0),0) -> 0 | J60: – im Übrigen | L60: Gabun | M60: 64 | N60: 43 | O60: 263
A61: Guatemala | B61: 46 | C61: 31 | D61: 124 | F61: =_xlfn.IFNA(IF(VLOOKUP(IF(J61="",A61,J61),$L$3:$O$330,1,FALSE)=A61,1,0),0) -> 1 | G61: =_xlfn.IFNA(IF(VLOOKUP(IF(J61="",A61,J61),$L$3:$O$330,2,FALSE)=B61,1,0),0) -> 1 | H61: =_xlfn.IFNA(IF(VLOOKUP(IF(J61="",A61,J61),$L$3:$O$330,3,FALSE)=C61,1,0),0) -> 1 | I61: =_xlfn.IFNA(IF(VLOOKUP(IF(J61="",A61,J61),$L$3:$O$330,4,FALSE)=D61,1,0),0) -> 1 | L61: Gambia | M61: 40 | N61: 27 | O61: 161
A62: Guinea | B62: 59 | C62: 40 | D62: 140 | F62: =_xlfn.IFNA(IF(VLOOKUP(IF(J62="",A62,J62),$L$3:$O$330,1,FALSE)=A62,1,0),0) -> 1 | G62: =_xlfn.IFNA(IF(VLOOKUP(IF(J62="",A62,J62),$L$3:$O$330,2,FALSE)=B62,1,0),0) -> 1 | H62: =_xlfn.IFNA(IF(VLOOKUP(IF(J62="",A62,J62),$L$3:$O$330,3,FALSE)=C62,1,0),0) -> 1 | I62: =_xlfn.IFNA(IF(VLOOKUP(IF(J62="",A62,J62),$L$3:$O$330,4,FALSE)=D62,1,0),0) -> 1 | L62: Georgien | M62: 45 | N62: 30 | O62: 87
A63: Guinea-Bissau | B63: 32 | C63: 21 | D63: 113 | F63: =_xlfn.IFNA(IF(VLOOKUP(IF(J63="",A63,J63),$L$3:$O$330,1,FALSE)=A63,1,0),0) -> 1 | G63: =_xlfn.IFNA(IF(VLOOKUP(IF(J63="",A63,J63),$L$3:$O$330,2,FALSE)=B63,1,0),0) -> 1 | H63: =_xlfn.IFNA(IF(VLOOKUP(IF(J63="",A63,J63),$L$3:$O$330,3,FALSE)=C63,1,0),0) -> 1 | I63: =_xlfn.IFNA(IF(VLOOKUP(IF(J63="",A63,J63),$L$3:$O$330,4,FALSE)=D63,1,0),0) -> 1 | L63: Ghana | M63: 46 | N63: 31 | O63: 203
A64: Haiti | B64: 58 | C64: 39 | D64: 130 | F64: =_xlfn.IFNA(IF(VLOOKUP(IF(J64="",A64,J64),$L$3:$O$330,1,FALSE)=A64,1,0),0) -> 1 | G64: =_xlfn.IFNA(IF(VLOOKUP(IF(J64="",A64,J64),$L$3:$O$330,2,FALSE)=B64,1,0),0) -> 1 | H64: =_xlfn.IFNA(IF(VLOOKUP(IF(J64="",A64,J64),$L$3:$O$330,3,FALSE)=C64,1,0),0) -> 1 | I64: =_xlfn.IFNA(IF(VLOOKUP(IF(J64="",A64,J64),$L$3:$O$330,4,FALSE)=D64,1,0),0) -> 1 | L64: Griechenland
A65: Honduras | B65: 57 | C65: 38 | D65: 198 | F65: =_xlfn.IFNA(IF(VLOOKUP(IF(J65="",A65,J65),$L$3:$O$330,1,FALSE)=A65,1,0),0) -> 1 | G65: =_xlfn.IFNA(IF(VLOOKUP(IF(J65="",A65,J65),$L$3:$O$330,2,FALSE)=B65,1,0),0) -> 1 | H65: =_xlfn.IFNA(IF(VLOOKUP(IF(J65="",A65,J65),$L$3:$O$330,3,FALSE)=C65,1,0),0) -> 1 | I65: =_xlfn.IFNA(IF(VLOOKUP(IF(J65="",A65,J65),$L$3:$O$330,4,FALSE)=D65,1,0),0) -> 1 | L65: – Athen | M65: 40 | N65: 27 | O65: 139
A66: Indien: Bangalore | B66: 42 | C66: 28 | D66: 155 | F66: =_xlfn.IFNA(IF(VLOOKUP(IF(J66="",A66,J66),$L$3:$O$330,1,FALSE)=A66,1,0),0) -> 0 | G66: =_xlfn.IFNA(IF(VLOOKUP(IF(J66="",A66,J66),$L$3:$O$330,2,FALSE)=B66,1,0),0) -> 1 | H66: =_xlfn.IFNA(IF(VLOOKUP(IF(J66="",A66,J66),$L$3:$O$330,3,FALSE)=C66,1,0),0) -> 1 | I66: =_xlfn.IFNA(IF(VLOOKUP(IF(J66="",A66,J66),$L$3:$O$330,4,FALSE)=D66,1,0),0) -> 1 | J66: – Bangalore | L66: – im Übrigen | M66: 36 | N66: 24 | O66: 150
A67: Indien: Chennai | B67: 22 | C67: 15 | D67: 80 | F67: =_xlfn.IFNA(IF(VLOOKUP(IF(J67="",A67,J67),$L$3:$O$330,1,FALSE)=A67,1,0),0) -> 0 | G67: =_xlfn.IFNA(IF(VLOOKUP(IF(J67="",A67,J67),$L$3:$O$330,2,FALSE)=B67,1,0),0) -> 1 | H67: =_xlfn.IFNA(IF(VLOOKUP(IF(J67="",A67,J67),$L$3:$O$330,3,FALSE)=C67,1,0),0) -> 1 | I67: =_xlfn.IFNA(IF(VLOOKUP(IF(J67="",A67,J67),$L$3:$O$330,4,FALSE)=D67,1,0),0) -> 1 | J67: – Chennai | L67: Guatemala | M67: 46 | N67: 31 | O67: 124
A68: Indien: Kalkutta | B68: 32 | C68: 21 | D68: 167 | F68: =_xlfn.IFNA(IF(VLOOKUP(IF(J68="",A68,J68),$L$3:$O$330,1,FALSE)=A68,1,0),0) -> 0 | G68: =_xlfn.IFNA(IF(VLOOKUP(IF(J68="",A68,J68),$L$3:$O$330,2,FALSE)=B68,1,0),0) -> 1 | H68: =_xlfn.IFNA(IF(VLOOKUP(IF(J68="",A68,J68),$L$3:$O$330,3,FALSE)=C68,1,0),0) -> 1 | I68: =_xlfn.IFNA(IF(VLOOKUP(IF(J68="",A68,J68),$L$3:$O$330,4,FALSE)=D68,1,0),0) -> 1 | J68: – Kalkutta | L68: Guinea | M68: 59 | N68: 40 | O68: 140
A69: Indien: Mumbai | B69: 53 | C69: 36 | D69: 218 | F69: =_xlfn.IFNA(IF(VLOOKUP(IF(J69="",A69,J69),$L$3:$O$330,1,FALSE)=A69,1,0),0) -> 0 | G69: =_xlfn.IFNA(IF(VLOOKUP(IF(J69="",A69,J69),$L$3:$O$330,2,FALSE)=B69,1,0),0) -> 1 | H69: =_xlfn.IFNA(IF(VLOOKUP(IF(J69="",A69,J69),$L$3:$O$330,3,FALSE)=C69,1,0),0) -> 1 | I69: =_xlfn.IFNA(IF(VLOOKUP(IF(J69="",A69,J69),$L$3:$O$330,4,FALSE)=D69,1,0),0) -> 1 | J69: – Mumbai | L69: Guinea-Bissau | M69: 32 | N69: 21 | O69: 113
A70: Indien: Neu-Delhi | B70: 46 | C70: 31 | D70: 211 | F70: =_xlfn.IFNA(IF(VLOOKUP(IF(J70="",A70,J70),$L$3:$O$330,1,FALSE)=A70,1,0),0) -> 0 | G70: =_xlfn.IFNA(IF(VLOOKUP(IF(J70="",A70,J70),$L$3:$O$330,2,FALSE)=B70,1,0),0) -> 1 | H70: =_xlfn.IFNA(IF(VLOOKUP(IF(J70="",A70,J70),$L$3:$O$330,3,FALSE)=C70,1,0),0) -> 1 | I70: =_xlfn.IFNA(IF(VLOOKUP(IF(J70="",A70,J70),$L$3:$O$330,4,FALSE)=D70,1,0),0) -> 1 | J70: – Neu Delhi | L70: Haiti | M70: 58 | N70: 39 | O70: 130
A71: Indien (Übriges) | B71: 22 | C71: 15 | D71: 80 | F71: =_xlfn.IFNA(IF(VLOOKUP(IF(J71="",A71,J71),$L$3:$O$330,1,FALSE)=A71,1,0),0) -> 0 | G71: =_xlfn.IFNA(IF(VLOOKUP(IF(J71="",A71,J71),$L$3:$O$330,2,FALSE)=B71,1,0),0) -> 0 | H71: =_xlfn.IFNA(IF(VLOOKUP(IF(J71="",A71,J71),$L$3:$O$330,3,FALSE)=C71,1,0),0) -> 0 | I71: =_xlfn.IFNA(IF(VLOOKUP(IF(J71="",A71,J71),$L$3:$O$330,4,FALSE)=D71,1,0),0) -> 0 | J71: – im Übrigen | L71: Honduras | M71: 57 | N71: 38 | O71: 198
A72: Indonesien | B72: 45 | C72: 30 | D72: 179 | F72: =_xlfn.IFNA(IF(VLOOKUP(IF(J72="",A72,J72),$L$3:$O$330,1,FALSE)=A72,1,0),0) -> 1 | G72: =_xlfn.IFNA(IF(VLOOKUP(IF(J72="",A72,J72),$L$3:$O$330,2,FALSE)=B72,1,0),0) -> 1 | H72: =_xlfn.IFNA(IF(VLOOKUP(IF(J72="",A72,J72),$L$3:$O$330,3,FALSE)=C72,1,0),0) -> 1 | I72: =_xlfn.IFNA(IF(VLOOKUP(IF(J72="",A72,J72),$L$3:$O$330,4,FALSE)=D72,1,0),0) -> 1 | L72: Indien
A73: Iran | B73: 33 | C73: 22 | D73: 196 | F73: =_xlfn.IFNA(IF(VLOOKUP(IF(J73="",A73,J73),$L$3:$O$330,1,FALSE)=A73,1,0),0) -> 1 | G73: =_xlfn.IFNA(IF(VLOOKUP(IF(J73="",A73,J73),$L$3:$O$330,2,FALSE)=B73,1,0),0) -> 1 | H73: =_xlfn.IFNA(IF(VLOOKUP(IF(J73="",A73,J73),$L$3:$O$330,3,FALSE)=C73,1,0),0) -> 1 | I73: =_xlfn.IFNA(IF(VLOOKUP(IF(J73="",A73,J73),$L$3:$O$330,4,FALSE)=D73,1,0),0) -> 1 | L73: – Bangalore | M73: 42 | N73: 28 | O73: 155
A74: Irland | B74: 58 | C74: 39 | D74: 129 | F74: =_xlfn.IFNA(IF(VLOOKUP(IF(J74="",A74,J74),$L$3:$O$330,1,FALSE)=A74,1,0),0) -> 1 | G74: =_xlfn.IFNA(IF(VLOOKUP(IF(J74="",A74,J74),$L$3:$O$330,2,FALSE)=B74,1,0),0) -> 1 | H74: =_xlfn.IFNA(IF(VLOOKUP(IF(J74="",A74,J74),$L$3:$O$330,3,FALSE)=C74,1,0),0) -> 1 | I74: =_xlfn.IFNA(IF(VLOOKUP(IF(J74="",A74,J74),$L$3:$O$330,4,FALSE)=D74,1,0),0) -> 1 | L74: – Chennai | M74: 22 | N74: 15 | O74: 80
A75: Island | B75: 62 | C75: 41 | D75: 187 | F75: =_xlfn.IFNA(IF(VLOOKUP(IF(J75="",A75,J75),$L$3:$O$330,1,FALSE)=A75,1,0),0) -> 1 | G75: =_xlfn.IFNA(IF(VLOOKUP(IF(J75="",A75,J75),$L$3:$O$330,2,FALSE)=B75,1,0),0) -> 1 | H75: =_xlfn.IFNA(IF(VLOOKUP(IF(J75="",A75,J75),$L$3:$O$330,3,FALSE)=C75,1,0),0) -> 1 | I75: =_xlfn.IFNA(IF(VLOOKUP(IF(J75="",A75,J75),$L$3:$O$330,4,FALSE)=D75,1,0),0) -> 1 | L75: – Kalkutta | M75: 32 | N75: 21 | O75: 167
A76: Israel | B76: 66 | C76: 44 | D76: 190 | F76: =_xlfn.IFNA(IF(VLOOKUP(IF(J76="",A76,J76),$L$3:$O$330,1,FALSE)=A76,1,0),0) -> 1 | G76: =_xlfn.IFNA(IF(VLOOKUP(IF(J76="",A76,J76),$L$3:$O$330,2,FALSE)=B76,1,0),0) -> 1 | H76: =_xlfn.IFNA(IF(VLOOKUP(IF(J76="",A76,J76),$L$3:$O$330,3,FALSE)=C76,1,0),0) -> 1 | I76: =_xlfn.IFNA(IF(VLOOKUP(IF(J76="",A76,J76),$L$3:$O$330,4,FALSE)=D76,1,0),0) -> 1 | L76: – Mumbai | M76: 53 | N76: 36 | O76: 218
A77: Italien: Mailand | B77: 42 | C77: 28 | D77: 191 | F77: =_xlfn.IFNA(IF(VLOOKUP(IF(J77="",A77,J77),$L$3:$O$330,1,FALSE)=A77,1,0),0) -> 0 | G77: =_xlfn.IFNA(IF(VLOOKUP(IF(J77="",A77,J77),$L$3:$O$330,2,FALSE)=B77,1,0),0) -> 1 | H77: =_xlfn.IFNA(IF(VLOOKUP(IF(J77="",A77,J77),$L$3:$O$330,3,FALSE)=C77,1,0),0) -> 1 | I77: =_xlfn.IFNA(IF(VLOOKUP(IF(J77="",A77,J77),$L$3:$O$330,4,FALSE)=D77,1,0),0) -> 1 | J77: – Mailand | L77: – Neu Delhi | M77: 46 | N77: 31 | O77: 211
A78: Italien: Rom | B78: 48 | C78: 32 | D78: 150 | F78: =_xlfn.IFNA(IF(VLOOKUP(IF(J78="",A78,J78),$L$3:$O$330,1,FALSE)=A78,1,0),0) -> 0 | G78: =_xlfn.IFNA(IF(VLOOKUP(IF(J78="",A78,J78),$L$3:$O$330,2,FALSE)=B78,1,0),0) -> 1 | H78: =_xlfn.IFNA(IF(VLOOKUP(IF(J78="",A78,J78),$L$3:$O$330,3,FALSE)=C78,1,0),0) -> 1 | I78: =_xlfn.IFNA(IF(VLOOKUP(IF(J78="",A78,J78),$L$3:$O$330,4,FALSE)=D78,1,0),0) -> 1 | J78: – Rom | L78: – im Übrigen | M78: 22 | N78: 15 | O78: 80
A79: Italien (Übriges) | B79: 42 | C79: 28 | D79: 150 | F79: =_xlfn.IFNA(IF(VLOOKUP(IF(J79="",A79,J79),$L$3:$O$330,1,FALSE)=A79,1,0),0) -> 0 | G79: =_xlfn.IFNA(IF(VLOOKUP(IF(J79="",A79,J79),$L$3:$O$330,2,FALSE)=B79,1,0),0) -> 0 | H79: =_xlfn.IFNA(IF(VLOOKUP(IF(J79="",A79,J79),$L$3:$O$330,3,FALSE)=C79,1,0),0) -> 0 | I79: =_xlfn.IFNA(IF(VLOOKUP(IF(J79="",A79,J79),$L$3:$O$330,4,FALSE)=D79,1,0),0) -> 0 | J79: – im Übrigen | L79: Indonesien | M79: 45 | N79: 30 | O79: 179
A80: Jamaika | B80: 39 | C80: 26 | D80: 171 | F80: =_xlfn.IFNA(IF(VLOOKUP(IF(J80="",A80,J80),$L$3:$O$330,1,FALSE)=A80,1,0),0) -> 1 | G80: =_xlfn.IFNA(IF(VLOOKUP(IF(J80="",A80,J80),$L$3:$O$330,2,FALSE)=B80,1,0),0) -> 1 | H80: =_xlfn.IFNA(IF(VLOOKUP(IF(J80="",A80,J80),$L$3:$O$330,3,FALSE)=C80,1,0),0) -> 1 | I80: =_xlfn.IFNA(IF(VLOOKUP(IF(J80="",A80,J80),$L$3:$O$330,4,FALSE)=D80,1,0),0) -> 1 | L80: Iran | M80: 33 | N80: 22 | O80: 196
A81: Japan: Tokio | B81: 50 | C81: 33 | D81: 285 | F81: =_xlfn.IFNA(IF(VLOOKUP(IF(J81="",A81,J81),$L$3:$O$330,1,FALSE)=A81,1,0),0) -> 0 | G81: =_xlfn.IFNA(IF(VLOOKUP(IF(J81="",A81,J81),$L$3:$O$330,2,FALSE)=B81,1,0),0) -> 1 | H81: =_xlfn.IFNA(IF(VLOOKUP(IF(J81="",A81,J81),$L$3:$O$330,3,FALSE)=C81,1,0),0) -> 1 | I81: =_xlfn.IFNA(IF(VLOOKUP(IF(J81="",A81,J81),$L$3:$O$330,4,FALSE)=D81,1,0),0) -> 1 | J81: – Tokio | L81: Irland | M81: 58 | N81: 39 | O81: 129
A82: Japan: Osaka | B82: 33 | C82: 22 | D82: 141 | F82: =_xlfn.IFNA(IF(VLOOKUP(IF(J82="",A82,J82),$L$3:$O$330,1,FALSE)=A82,1,0),0) -> 0 | G82: =_xlfn.IFNA(IF(VLOOKUP(IF(J82="",A82,J82),$L$3:$O$330,2,FALSE)=B82,1,0),0) -> 1 | H82: =_xlfn.IFNA(IF(VLOOKUP(IF(J82="",A82,J82),$L$3:$O$330,3,FALSE)=C82,1,0),0) -> 1 | I82: =_xlfn.IFNA(IF(VLOOKUP(IF(J82="",A82,J82),$L$3:$O$330,4,FALSE)=D82,1,0),0) -> 1 | J82: – Osaka | L82: Island | M82: 62 | N82: 41 | O82: 187
A83: Japan (Übriges) | B83: 33 | C83: 22 | D83: 141 | F83: =_xlfn.IFNA(IF(VLOOKUP(IF(J83="",A83,J83),$L$3:$O$330,1,FALSE)=A83,1,0),0) -> 0 | G83: =_xlfn.IFNA(IF(VLOOKUP(IF(J83="",A83,J83),$L$3:$O$330,2,FALSE)=B83,1,0),0) -> 0 | H83: =_xlfn.IFNA(IF(VLOOKUP(IF(J83="",A83,J83),$L$3:$O$330,3,FALSE)=C83,1,0),0) -> 0 | I83: =_xlfn.IFNA(IF(VLOOKUP(IF(J83="",A83,J83),$L$3:$O$330,4,FALSE)=D83,1,0),0) -> 0 | L83: Israel | M83: 66 | N83: 44 | O83: 190
A84: Jemen | B84: 24 | C84: 16 | D84: 95 | F84: =_xlfn.IFNA(IF(VLOOKUP(IF(J84="",A84,J84),$L$3:$O$330,1,FALSE)=A84,1,0),0) -> 1 | G84: =_xlfn.IFNA(IF(VLOOKUP(IF(J84="",A84,J84),$L$3:$O$330,2,FALSE)=B84,1,0),0) -> 1 | H84: =_xlfn.IFNA(IF(VLOOKUP(IF(J84="",A84,J84),$L$3:$O$330,3,FALSE)=C84,1,0),0) -> 1 | I84: =_xlfn.IFNA(IF(VLOOKUP(IF(J84="",A84,J84),$L$3:$O$330,4,FALSE)=D84,1,0),0) -> 1 | L84: Italien
A85: Jordanien | B85: 57 | C85: 38 | D85: 134 | F85: =_xlfn.IFNA(IF(VLOOKUP(IF(J85="",A85,J85),$L$3:$O$330,1,FALSE)=A85,1,0),0) -> 1 | G85: =_xlfn.IFNA(IF(VLOOKUP(IF(J85="",A85,J85),$L$3:$O$330,2,FALSE)=B85,1,0),0) -> 1 | H85: =_xlfn.IFNA(IF(VLOOKUP(IF(J85="",A85,J85),$L$3:$O$330,3,FALSE)=C85,1,0),0) -> 1 | I85: =_xlfn.IFNA(IF(VLOOKUP(IF(J85="",A85,J85),$L$3:$O$330,4,FALSE)=D85,1,0),0) -> 1 | L85: – Mailand | M85: 42 | N85: 28 | O85: 191
A86: Kambodscha | B86: 42 | C86: 28 | D86: 108 | F86: =_xlfn.IFNA(IF(VLOOKUP(IF(J86="",A86,J86),$L$3:$O$330,1,FALSE)=A86,1,0),0) -> 1 | G86: =_xlfn.IFNA(IF(VLOOKUP(IF(J86="",A86,J86),$L$3:$O$330,2,FALSE)=B86,1,0),0) -> 1 | H86: =_xlfn.IFNA(IF(VLOOKUP(IF(J86="",A86,J86),$L$3:$O$330,3,FALSE)=C86,1,0),0) -> 1 | I86: =_xlfn.IFNA(IF(VLOOKUP(IF(J86="",A86,J86),$L$3:$O$330,4,FALSE)=D86,1,0),0) -> 1 | L86: – Rom | M86: 48 | N86: 32 | O86: 150
A87: Kamerun | B87: 56 | C87: 37 | D87: 275 | F87: =_xlfn.IFNA(IF(VLOOKUP(IF(J87="",A87,J87),$L$3:$O$330,1,FALSE)=A87,1,0),0) -> 1 | G87: =_xlfn.IFNA(IF(VLOOKUP(IF(J87="",A87,J87),$L$3:$O$330,2,FALSE)=B87,1,0),0) -> 1 | H87: =_xlfn.IFNA(IF(VLOOKUP(IF(J87="",A87,J87),$L$3:$O$330,3,FALSE)=C87,1,0),0) -> 1 | I87: =_xlfn.IFNA(IF(VLOOKUP(IF(J87="",A87,J87),$L$3:$O$330,4,FALSE)=D87,1,0),0) -> 1 | L87: – im Übrigen | M87: 42 | N87: 28 | O87: 150
A88: Kanada: Ottawa | B88: 62 | C88: 41 | D88: 214 | F88: =_xlfn.IFNA(IF(VLOOKUP(IF(J88="",A88,J88),$L$3:$O$330,1,FALSE)=A88,1,0),0) -> 0 | G88: =_xlfn.IFNA(IF(VLOOKUP(IF(J88="",A88,J88),$L$3:$O$330,2,FALSE)=B88,1,0),0) -> 1 | H88: =_xlfn.IFNA(IF(VLOOKUP(IF(J88="",A88,J88),$L$3:$O$330,3,FALSE)=C88,1,0),0) -> 1 | I88: =_xlfn.IFNA(IF(VLOOKUP(IF(J88="",A88,J88),$L$3:$O$330,4,FALSE)=D88,1,0),0) -> 1 | J88: – Ottawa | L88: Jamaika | M88: 39 | N88: 26 | O88: 171
A89: Kanada: Toronto | B89: 54 | C89: 36 | D89: 392 | F89: =_xlfn.IFNA(IF(VLOOKUP(IF(J89="",A89,J89),$L$3:$O$330,1,FALSE)=A89,1,0),0) -> 0 | G89: =_xlfn.IFNA(IF(VLOOKUP(IF(J89="",A89,J89),$L$3:$O$330,2,FALSE)=B89,1,0),0) -> 1 | H89: =_xlfn.IFNA(IF(VLOOKUP(IF(J89="",A89,J89),$L$3:$O$330,3,FALSE)=C89,1,0),0) -> 1 | I89: =_xlfn.IFNA(IF(VLOOKUP(IF(J89="",A89,J89),$L$3:$O$330,4,FALSE)=D89,1,0),0) -> 1 | J89: – Toronto | L89: Japan
A90: Kanada: Vancouver | B90: 63 | C90: 42 | D90: 304 | F90: =_xlfn.IFNA(IF(VLOOKUP(IF(J90="",A90,J90),$L$3:$O$330,1,FALSE)=A90,1,0),0) -> 0 | G90: =_xlfn.IFNA(IF(VLOOKUP(IF(J90="",A90,J90),$L$3:$O$330,2,FALSE)=B90,1,0),0) -> 1 | H90: =_xlfn.IFNA(IF(VLOOKUP(IF(J90="",A90,J90),$L$3:$O$330,3,FALSE)=C90,1,0),0) -> 1 | I90: =_xlfn.IFNA(IF(VLOOKUP(IF(J90="",A90,J90),$L$3:$O$330,4,FALSE)=D90,1,0),0) -> 1 | J90: – Vancouver | L90: – Tokio | M90: 50 | N90: 33 | O90: 285
A91: Kanada (Übriges) | B91: 54 | C91: 36 | D91: 214 | F91: =_xlfn.IFNA(IF(VLOOKUP(IF(J91="",A91,J91),$L$3:$O$330,1,FALSE)=A91,1,0),0) -> 0 | G91: =_xlfn.IFNA(IF(VLOOKUP(IF(J91="",A91,J91),$L$3:$O$330,2,FALSE)=B91,1,0),0) -> 0 | H91: =_xlfn.IFNA(IF(VLOOKUP(IF(J91="",A91,J91),$L$3:$O$330,3,FALSE)=C91,1,0),0) -> 0 | I91: =_xlfn.IFNA(IF(VLOOKUP(IF(J91="",A91,J91),$L$3:$O$330,4,FALSE)=D91,1,0),0) -> 0 | J91: – im Übrigen | L91: – Osaka | M91: 33 | N91: 22 | O91: 141
A92: Kap Verde | B92: 38 | C92: 25 | D92: 90 | F92: =_xlfn.IFNA(IF(VLOOKUP(IF(J92="",A92,J92),$L$3:$O$330,1,FALSE)=A92,1,0),0) -> 1 | G92: =_xlfn.IFNA(IF(VLOOKUP(IF(J92="",A92,J92),$L$3:$O$330,2,FALSE)=B92,1,0),0) -> 1 | H92: =_xlfn.IFNA(IF(VLOOKUP(IF(J92="",A92,J92),$L$3:$O$330,3,FALSE)=C92,1,0),0) -> 1 | I92: =_xlfn.IFNA(IF(VLOOKUP(IF(J92="",A92,J92),$L$3:$O$330,4,FALSE)=D92,1,0),0) -> 1 | L92: – im Übrigen | M92: 33 | N92: 22 | O92: 141
A93: Kasachstan | B93: 33 | C93: 22 | D93: 108 | F93: =_xlfn.IFNA(IF(VLOOKUP(IF(J93="",A93,J93),$L$3:$O$330,1,FALSE)=A93,1,0),0) -> 1 | G93: =_xlfn.IFNA(IF(VLOOKUP(IF(J93="",A93,J93),$L$3:$O$330,2,FALSE)=B93,1,0),0) -> 1 | H93: =_xlfn.IFNA(IF(VLOOKUP(IF(J93="",A93,J93),$L$3:$O$330,3,FALSE)=C93,1,0),0) -> 1 | I93: =_xlfn.IFNA(IF(VLOOKUP(IF(J93="",A93,J93),$L$3:$O$330,4,FALSE)=D93,1,0),0) -> 1 | L93: Jemen | M93: 24 | N93: 16 | O93: 95
A94: Katar | B94: 56 | C94: 37 | D94: 149 | F94: =_xlfn.IFNA(IF(VLOOKUP(IF(J94="",A94,J94),$L$3:$O$330,1,FALSE)=A94,1,0),0) -> 1 | G94: =_xlfn.IFNA(IF(VLOOKUP(IF(J94="",A94,J94),$L$3:$O$330,2,FALSE)=B94,1,0),0) -> 1 | H94: =_xlfn.IFNA(IF(VLOOKUP(IF(J94="",A94,J94),$L$3:$O$330,3,FALSE)=C94,1,0),0) -> 1 | I94: =_xlfn.IFNA(IF(VLOOKUP(IF(J94="",A94,J94),$L$3:$O$330,4,FALSE)=D94,1,0),0) -> 1 | L94: Jordanien | M94: 57 | N94: 38 | O94: 134
A95: Kenia | B95: 51 | C95: 34 | D95: 219 | F95: =_xlfn.IFNA(IF(VLOOKUP(IF(J95="",A95,J95),$L$3:$O$330,1,FALSE)=A95,1,0),0) -> 1 | G95: =_xlfn.IFNA(IF(VLOOKUP(IF(J95="",A95,J95),$L$3:$O$330,2,FALSE)=B95,1,0),0) -> 1 | H95: =_xlfn.IFNA(IF(VLOOKUP(IF(J95="",A95,J95),$L$3:$O$330,3,FALSE)=C95,1,0),0) -> 1 | I95: =_xlfn.IFNA(IF(VLOOKUP(IF(J95="",A95,J95),$L$3:$O$330,4,FALSE)=D95,1,0),0) -> 1 | L95: Kambodscha | M95: 42 | N95: 28 | O95: 108
A96: Kirgisistan | B96: 27 | C96: 18 | D96: 74 | F96: =_xlfn.IFNA(IF(VLOOKUP(IF(J96="",A96,J96),$L$3:$O$330,1,FALSE)=A96,1,0),0) -> 1 | G96: =_xlfn.IFNA(IF(VLOOKUP(IF(J96="",A96,J96),$L$3:$O$330,2,FALSE)=B96,1,0),0) -> 1 | H96: =_xlfn.IFNA(IF(VLOOKUP(IF(J96="",A96,J96),$L$3:$O$330,3,FALSE)=C96,1,0),0) -> 1 | I96: =_xlfn.IFNA(IF(VLOOKUP(IF(J96="",A96,J96),$L$3:$O$330,4,FALSE)=D96,1,0),0) -> 1 | L96: Kamerun | M96: 56 | N96: 37 | O96: 275
A97: Kolumbien | B97: 34 | C97: 23 | D97: 123 | F97: =_xlfn.IFNA(IF(VLOOKUP(IF(J97="",A97,J97),$L$3:$O$330,1,FALSE)=A97,1,0),0) -> 1 | G97: =_xlfn.IFNA(IF(VLOOKUP(IF(J97="",A97,J97),$L$3:$O$330,2,FALSE)=B97,1,0),0) -> 1 | H97: =_xlfn.IFNA(IF(VLOOKUP(IF(J97="",A97,J97),$L$3:$O$330,3,FALSE)=C97,1,0),0) -> 1 | I97: =_xlfn.IFNA(IF(VLOOKUP(IF(J97="",A97,J97),$L$3:$O$330,4,FALSE)=D97,1,0),0) -> 1 | L97: Kanada
A98: Kongo, Demokratische Republik | B98: 65 | C98: 44 | D98: 337 | F98: =_xlfn.IFNA(IF(VLOOKUP(IF(J98="",A98,J98),$L$3:$O$330,1,FALSE)=A98,1,0),0) -> 1 | G98: =_xlfn.IFNA(IF(VLOOKUP(IF(J98="",A98,J98),$L$3:$O$330,2,FALSE)=B98,1,0),0) -> 1 | H98: =_xlfn.IFNA(IF(VLOOKUP(IF(J98="",A98,J98),$L$3:$O$330,3,FALSE)=C98,1,0),0) -> 1 | I98: =_xlfn.IFNA(IF(VLOOKUP(IF(J98="",A98,J98),$L$3:$O$330,4,FALSE)=D98,1,0),0) -> 1 | L98: – Ottawa | M98: 62 | N98: 41 | O98: 214
A99: Kongo, Republik | B99: 62 | C99: 41 | D99: 215 | F99: =_xlfn.IFNA(IF(VLOOKUP(IF(J99="",A99,J99),$L$3:$O$330,1,FALSE)=A99,1,0),0) -> 1 | G99: =_xlfn.IFNA(IF(VLOOKUP(IF(J99="",A99,J99),$L$3:$O$330,2,FALSE)=B99,1,0),0) -> 1 | H99: =_xlfn.IFNA(IF(VLOOKUP(IF(J99="",A99,J99),$L$3:$O$330,3,FALSE)=C99,1,0),0) -> 1 | I99: =_xlfn.IFNA(IF(VLOOKUP(IF(J99="",A99,J99),$L$3:$O$330,4,FALSE)=D99,1,0),0) -> 1 | L99: – Toronto | M99: 54 | N99: 36 | O99: 392
A100: Korea, Demokratische Volksrepublik (Nordkorea) | B100: 28 | C100: 19 | D100: 92 | F100: =_xlfn.IFNA(IF(VLOOKUP(IF(J100="",A100,J100),$L$3:$O$330,1,FALSE)=A100,1,0),0) -> 0 | G100: =_xlfn.IFNA(IF(VLOOKUP(IF(J100="",A100,J100),$L$3:$O$330,2,FALSE)=B100,1,0),0) -> 1 | H100: =_xlfn.IFNA(IF(VLOOKUP(IF(J100="",A100,J100),$L$3:$O$330,3,FALSE)=C100,1,0),0) -> 1 | I100: =_xlfn.IFNA(IF(VLOOKUP(IF(J100="",A100,J100),$L$3:$O$330,4,FALSE)=D100,1,0),0) -> 1 | J100: Korea, Demokratische Volksrepublik | L100: – Vancouver | M100: 63 | N100: 42 | O100: 304
...
